BEGIN:VCALENDAR
VERSION:2.0
PRODID:-//Allianz für Beteiligung - ECPv6.15.18//NONSGML v1.0//EN
CALSCALE:GREGORIAN
METHOD:PUBLISH
X-ORIGINAL-URL:https://stage.allianz-fuer-beteiligung.de
X-WR-CALDESC:Veranstaltungen für Allianz für Beteiligung
REFRESH-INTERVAL;VALUE=DURATION:PT1H
X-Robots-Tag:noindex
X-PUBLISHED-TTL:PT1H
BEGIN:VTIMEZONE
TZID:Europe/Berlin
BEGIN:DAYLIGHT
TZOFFSETFROM:+0100
TZOFFSETTO:+0200
TZNAME:CEST
DTSTART:20220327T010000
END:DAYLIGHT
BEGIN:STANDARD
TZOFFSETFROM:+0200
TZOFFSETTO:+0100
TZNAME:CET
DTSTART:20221030T010000
END:STANDARD
BEGIN:DAYLIGHT
TZOFFSETFROM:+0100
TZOFFSETTO:+0200
TZNAME:CEST
DTSTART:20230326T010000
END:DAYLIGHT
BEGIN:STANDARD
TZOFFSETFROM:+0200
TZOFFSETTO:+0100
TZNAME:CET
DTSTART:20231029T010000
END:STANDARD
BEGIN:DAYLIGHT
TZOFFSETFROM:+0100
TZOFFSETTO:+0200
TZNAME:CEST
DTSTART:20240331T010000
END:DAYLIGHT
BEGIN:STANDARD
TZOFFSETFROM:+0200
TZOFFSETTO:+0100
TZNAME:CET
DTSTART:20241027T010000
END:STANDARD
END:VTIMEZONE
BEGIN:VEVENT
DTSTART;TZID=Europe/Berlin:20231130T100000
DTEND;TZID=Europe/Berlin:20231130T160000
DTSTAMP:20260420T122036
CREATED:20230913T080347Z
LAST-MODIFIED:20230913T080347Z
UID:10000323-1701338400-1701360000@stage.allianz-fuer-beteiligung.de
SUMMARY:So klappt der Sprung ins Engagement – Workshops für Multiplikator*innen
DESCRIPTION:Das Forum für internationale Entwicklung und Planung (finep) bietet einen Workshop an\, in dem es darum gehen wird Personen zu unterstützen\, ein Engagement aufzunehmen. \nViele Menschen möchten sich für eine gerechtere Welt einsetzen – doch die wenigsten tun es. Zur Überwindung dieser häufig beobachteten Intention-Behavior-Gap hat finep das Kurskonzept Challenge Accepted entwickelt. In einem eintägigen Workshop für Multiplikator*innen und Akteur*innen der Bildungsarbeit stellen wir den Kurs vor und erarbeiten gemeinsam\, wie die einzelnen Bausteine flexibel und modular in Ihre eigene Arbeit integriert werden können. \nMithilfe unserer Methodensammlung können unterschiedlichste Zielgruppen möglichst effektiv dabei unterstützt werden\, die eigenen Wünsche und Ideen in die Tat umzusetzen – sei es\, indem sie persönliche Gewohnheiten etablieren oder öffentlichkeitswirksame Aktionen durchführen. \nDer Workshop findet zweimal statt: \n\nam Dienstag\, den 28. November 2023\, in Kassel: Work Oase Kassel\nam Donnerstag\, den 30. November 2023\, in Stuttgart: WeltHaus Stuttgart\n\n… jeweils von 10 bis 16 Uhr mit einstündiger gemeinsamer Mittagspause. \nAnmeldungen sind hier bis Sonntag\, 12. November 2023 möglich. \nDas Programm wird an dieser Stelle noch ergänzt. \nDie Kursteilnahme ist kostenlos. Wir erstatten dir bei Bedarf deine Fahrtkosten (2. Klasse). Während des Workshops bieten wir dir kostenfreie Verpflegung an. Auf Wunsch erhältst du nach Abschluss des Workshops ein Teilnahmezertifikat. \nDu hast noch Fragen zum Ablauf oder zum Inhalt? Dann melde dich gerne bei uns\, Miriam und Sofie\, unter anmeldung@finep.org – 0711 / 93 27 68-69 \n*** \nDer Kurs findet im Rahmen des Projekts „SDGs mitten im Leben – Coaching für globale Nachhaltigkeit im Alltag“ statt. Weitere Informationen zum Projekt findest Du hier. \nDas Projekt wird gefördert durch ENGAGEMENT GLOBAL mit Mitteln des Bundesministeriums für wirtschaftliche Zusammenarbeit und Entwicklung (BMZ) und aus Mitteln des Kirchlichen Entwicklungsdienstes durch Brot für die Welt – Evangelischer Entwicklungsdienst. Für den Inhalt ist allein finep verantwortlich.
URL:https://stage.allianz-fuer-beteiligung.de/afb-veranstaltung/so-klappt-der-sprung-ins-engagement-workshops-fuer-multiplikatorinnen/
LOCATION:Welt Haus Stuttgart\, Charlottenplatz 17\, Stuttgart\, 70173
END:VEVENT
END:VCALENDAR