BEGIN:VCALENDAR
VERSION:2.0
PRODID:-//Allianz für Beteiligung - ECPv6.15.18//NONSGML v1.0//EN
CALSCALE:GREGORIAN
METHOD:PUBLISH
X-ORIGINAL-URL:https://stage.allianz-fuer-beteiligung.de
X-WR-CALDESC:Veranstaltungen für Allianz für Beteiligung
REFRESH-INTERVAL;VALUE=DURATION:PT1H
X-Robots-Tag:noindex
X-PUBLISHED-TTL:PT1H
BEGIN:VTIMEZONE
TZID:Europe/Berlin
BEGIN:DAYLIGHT
TZOFFSETFROM:+0100
TZOFFSETTO:+0200
TZNAME:CEST
DTSTART:20220327T010000
END:DAYLIGHT
BEGIN:STANDARD
TZOFFSETFROM:+0200
TZOFFSETTO:+0100
TZNAME:CET
DTSTART:20221030T010000
END:STANDARD
BEGIN:DAYLIGHT
TZOFFSETFROM:+0100
TZOFFSETTO:+0200
TZNAME:CEST
DTSTART:20230326T010000
END:DAYLIGHT
BEGIN:STANDARD
TZOFFSETFROM:+0200
TZOFFSETTO:+0100
TZNAME:CET
DTSTART:20231029T010000
END:STANDARD
BEGIN:DAYLIGHT
TZOFFSETFROM:+0100
TZOFFSETTO:+0200
TZNAME:CEST
DTSTART:20240331T010000
END:DAYLIGHT
BEGIN:STANDARD
TZOFFSETFROM:+0200
TZOFFSETTO:+0100
TZNAME:CET
DTSTART:20241027T010000
END:STANDARD
END:VTIMEZONE
BEGIN:VEVENT
DTSTART;TZID=Europe/Berlin:20230513T000000
DTEND;TZID=Europe/Berlin:20230513T000000
DTSTAMP:20260424T133159
CREATED:20230214T094704Z
LAST-MODIFIED:20230221T094232Z
UID:10000152-1683936000-1683936000@stage.allianz-fuer-beteiligung.de
SUMMARY:Diskriminierung im Alltag
DESCRIPTION:In diesem Workshop werden Praxistipps vermittelt\, um Globales Lernen und Eine Welt-Arbeit rassismus- und machtsensibel zu gestalten. Gemeinsam werden Handlungsstrategien entwickelt\, um rassismuskritisches Denken und Handeln im Arbeitsalltag zu integrieren\, und eigene Privilegien als Verbündete einzusetzen\, um gemeinsam als Botschafter*innen für Vielfalt\, Nachhaltigkeit und globale Gerechtigkeit aktiv zu werden. \nReferentin: Farina Görmar\nPromotor: Johannes Lauterbach (Colibri e.V.) \nEine Anmeldung zur Veranstaltung ist per E-Mail bei Johannes Lauterbach (Colibri e.V.) möglich. \nWeitere Praxisworkshops für zivilgesellschaftliche Akteure aus den Bereichen Eine Welt und Nachhaltigkeit sowie zusätzliche Informationen finden Sie hier oder im Flyer.
URL:https://stage.allianz-fuer-beteiligung.de/afb-veranstaltung/diskriminierung-im-alltag/
LOCATION:Stuttgart\, Deutschland
ORGANIZER;CN="Dachverband Entwicklungspolitik Baden-W%C3%BCrttemberg e.V.":MAILTO:info@deab.de
END:VEVENT
END:VCALENDAR