BEGIN:VCALENDAR
VERSION:2.0
PRODID:-//Allianz für Beteiligung - ECPv6.15.18//NONSGML v1.0//EN
CALSCALE:GREGORIAN
METHOD:PUBLISH
X-ORIGINAL-URL:https://stage.allianz-fuer-beteiligung.de
X-WR-CALDESC:Veranstaltungen für Allianz für Beteiligung
REFRESH-INTERVAL;VALUE=DURATION:PT1H
X-Robots-Tag:noindex
X-PUBLISHED-TTL:PT1H
BEGIN:VTIMEZONE
TZID:Europe/Berlin
BEGIN:DAYLIGHT
TZOFFSETFROM:+0100
TZOFFSETTO:+0200
TZNAME:CEST
DTSTART:20230326T010000
END:DAYLIGHT
BEGIN:STANDARD
TZOFFSETFROM:+0200
TZOFFSETTO:+0100
TZNAME:CET
DTSTART:20231029T010000
END:STANDARD
BEGIN:DAYLIGHT
TZOFFSETFROM:+0100
TZOFFSETTO:+0200
TZNAME:CEST
DTSTART:20240331T010000
END:DAYLIGHT
BEGIN:STANDARD
TZOFFSETFROM:+0200
TZOFFSETTO:+0100
TZNAME:CET
DTSTART:20241027T010000
END:STANDARD
BEGIN:DAYLIGHT
TZOFFSETFROM:+0100
TZOFFSETTO:+0200
TZNAME:CEST
DTSTART:20250330T010000
END:DAYLIGHT
BEGIN:STANDARD
TZOFFSETFROM:+0200
TZOFFSETTO:+0100
TZNAME:CET
DTSTART:20251026T010000
END:STANDARD
END:VTIMEZONE
BEGIN:VEVENT
DTSTART;TZID=Europe/Berlin:20240504T100000
DTEND;TZID=Europe/Berlin:20240504T170000
DTSTAMP:20260422T121718
CREATED:20240326T111857Z
LAST-MODIFIED:20240425T080550Z
UID:10000426-1714816800-1714842000@stage.allianz-fuer-beteiligung.de
SUMMARY:18. Landesweiter Streuobsttag Baden-Württemberg: Streuobst im Klimawandel
DESCRIPTION:Baden-Württemberg beheimatet aktuell rund 7 Mio. Streuobstbäume auf fast 80.000 Hektar. Diese Streuobstwiesen sind ein wesentlicher Beitrag zum Erhalt der Biodiversität\, sie liefern regionale Lebensmittel und tragen zur Attraktivität unserer großartigen Landschaft bei. \nDer Verpflichtung zum Erhalt dieser Hotspots der Biodiversität sowie Genuss- und Lebensfreude kommt das Land auf unterschiedlichen Wegen nach. Wir verbessern die Vermarktung der hochwertigen Streuobstprodukte durch die Einführung des Produktbereichs Streuobst im Qualitätszeichen Baden-Württemberg (QZBW) und durch die Unterstützung der wertvollen Aufpreisinitiativen. Außerdem unterstützen wir die Bewirtschafterinnen und Bewirtschafter von Streuobstbeständen bei der Pflege ihrer Bäume durch das Förderprogramm Baumschnitt. Neben diesen Unterstützungsmaßnahmen im Rahmen von Förderprogrammen blicken wir gezielt auf eine der größten Herausforderungen: die Steigerung der Resilienz der Streuobstbestände gegenüber den sich ändernden klimatischen Verhältnissen. Das Land verfolgt des-halb verschiedene Projekte und Forschungsansätze. \nDer 18. Landesweite Streuobsttag Baden-Württemberg trägt zu einer Vernetzung von Praxis und Forschung zum Thema Streuobst bei. Wir präsentieren Ihnen aktuelle Erkenntnisse aus Forschungs- und Praxisprojekten zum Thema „Streuobst im Klimawandel“. \nWeitere Informationen finden Sie hier 240504_Streuobsttag – Infodienst – ALR (alr-bw.de) \nDie Anmeldung finden Sie hier 240504_Streuobsttag_Anmeldung_€ – Infodienst – ALR (alr-bw.de)
URL:https://stage.allianz-fuer-beteiligung.de/afb-veranstaltung/18-landesweiter-streuobsttag-baden-wuerttemberg-streuobst-im-klimawandel/
LOCATION:Präsenz und Online
END:VEVENT
END:VCALENDAR