BEGIN:VCALENDAR
VERSION:2.0
PRODID:-//Allianz für Beteiligung - ECPv6.15.18//NONSGML v1.0//EN
CALSCALE:GREGORIAN
METHOD:PUBLISH
X-ORIGINAL-URL:https://stage.allianz-fuer-beteiligung.de
X-WR-CALDESC:Veranstaltungen für Allianz für Beteiligung
REFRESH-INTERVAL;VALUE=DURATION:PT1H
X-Robots-Tag:noindex
X-PUBLISHED-TTL:PT1H
BEGIN:VTIMEZONE
TZID:Europe/Berlin
BEGIN:DAYLIGHT
TZOFFSETFROM:+0100
TZOFFSETTO:+0200
TZNAME:CEST
DTSTART:20210328T010000
END:DAYLIGHT
BEGIN:STANDARD
TZOFFSETFROM:+0200
TZOFFSETTO:+0100
TZNAME:CET
DTSTART:20211031T010000
END:STANDARD
BEGIN:DAYLIGHT
TZOFFSETFROM:+0100
TZOFFSETTO:+0200
TZNAME:CEST
DTSTART:20220327T010000
END:DAYLIGHT
BEGIN:STANDARD
TZOFFSETFROM:+0200
TZOFFSETTO:+0100
TZNAME:CET
DTSTART:20221030T010000
END:STANDARD
BEGIN:DAYLIGHT
TZOFFSETFROM:+0100
TZOFFSETTO:+0200
TZNAME:CEST
DTSTART:20230326T010000
END:DAYLIGHT
BEGIN:STANDARD
TZOFFSETFROM:+0200
TZOFFSETTO:+0100
TZNAME:CET
DTSTART:20231029T010000
END:STANDARD
BEGIN:DAYLIGHT
TZOFFSETFROM:+0100
TZOFFSETTO:+0200
TZNAME:CEST
DTSTART:20240331T010000
END:DAYLIGHT
BEGIN:STANDARD
TZOFFSETFROM:+0200
TZOFFSETTO:+0100
TZNAME:CET
DTSTART:20241027T010000
END:STANDARD
END:VTIMEZONE
BEGIN:VEVENT
DTSTART;TZID=Europe/Berlin:20230327T113000
DTEND;TZID=Europe/Berlin:20230327T130000
DTSTAMP:20260423T194611
CREATED:20230221T103802Z
LAST-MODIFIED:20230221T103802Z
UID:10000223-1679916600-1679922000@stage.allianz-fuer-beteiligung.de
SUMMARY:Roadshow zum Thema “thinking inside the box - Mitarbeiter*innen für Innovationen begeistern”
DESCRIPTION:Roadshow mit Ralph Hartmeier von rready zum Thema “thinking inside the box – Mitarbeiter*innen für Innovationen begeistern” \nAm 27. März begrüßt  Ralph Hartmeier\, Co-Founder und CCO von rready\, und erklärt\, wie Mitarbeitende in Unternehmen mithilfe des Innovationsprogramms KICKBOX mit gamifizierten Tools\, erprobten Methoden und innovativen Software-Lösungen zu Innovator*innen werden. rready steht für eine verspielte Methode\, die ohne Schlagwort-Bingo oder Innovationstheater auskommt. Das KICKBOX-Programm vereinfacht das Konzept der Innovation für alle Mitarbeitenden lässt sie zur treibenden Kraft für Veränderung in ihren Unternehmen werden. \nHier geht’s zum LinkedIn-Event
URL:https://stage.allianz-fuer-beteiligung.de/afb-veranstaltung/roadshow-zum-thema-thinking-inside-the-box-mitarbeiterinnen-fuer-innovationen-begeistern/
LOCATION:Online
ORGANIZER;CN="School of Participation":MAILTO:welcome@school-of-participation.com
END:VEVENT
BEGIN:VEVENT
DTSTART;TZID=Europe/Berlin:20230324T120000
DTEND;TZID=Europe/Berlin:20230324T124500
DTSTAMP:20260423T194611
CREATED:20230315T130346Z
LAST-MODIFIED:20230315T130346Z
UID:10000236-1679659200-1679661900@stage.allianz-fuer-beteiligung.de
SUMMARY:So gelingt's! Online Kostprobe - Weiterbildungsimpulse
DESCRIPTION:In dieser Veranstaltung geht es um folgende Themen: \n\nWas ist „gute“ Quartiersentwicklung?\nWie entsteht ein engagiertes Quartiersteam? Wo stehen Sie und was kann Ihr nächster wichtiger Schritt sein?\nMethoden gelingender Quartiersentwicklung und ein Blick auf Fördertöpfe\n\nInput: Dr. Irmgard Ehlers\, Quartierskoordinatorin\, und Anette Popp\, kommunale Wirtschaftsförderin\nArt: Online-Impuls \nWeitere Informationen und Anmeldung. \nSie interessieren sich für Themen der kommunalen Entwicklung\, der Bürger*innen­beteiligung oder für Quartiersentwicklung und möchten gerne neue Einblicke oder frische Impulse für ihre eigene Arbeit bekommen? \nDer G.D.Z. e. V. hat langjährige Erfahrungen mit der Entwicklung in Quartieren und Kommunen – als Prozessbegleitung\, als kommunale Mitarbeiter*innen und als Engagierte im eigenen Quartier. In den Veranstaltungen wird die Fach- und Vernetzungskompetenz gerne zur Verfügung gestellt\, um Mut zu machen und Ideen weiterzuentwickeln. \nAlle Online-Angebote sind kostenfrei.
URL:https://stage.allianz-fuer-beteiligung.de/afb-veranstaltung/so-gelingts-online-kostprobe-weiterbildungsimpulse/
LOCATION:Online
END:VEVENT
BEGIN:VEVENT
DTSTART;TZID=Europe/Berlin:20230323T160000
DTEND;TZID=Europe/Berlin:20230323T200000
DTSTAMP:20260423T194611
CREATED:20230216T094513Z
LAST-MODIFIED:20230216T094513Z
UID:10000220-1679587200-1679601600@stage.allianz-fuer-beteiligung.de
SUMMARY:Changemaker Festival! Engagement kennt viele Wege – finde Deinen!
DESCRIPTION:Es gibt so viele verschiedene Wege unsere Gesellschaft mitzugestalten und beim Changemaker Festival machen wir sie greifbar.\n\n\nEs ist großartig\, dass Du Dich einbringen und dazu beitragen möchtest\, diese Welt enkeltauglich zu machen!\nIn unserer Gesellschaft gibt es unzählige Wege\, sich einzubringen: In der Politik\, als Social Entrepreneur:in\, im Job mit Sinn\, ehrenamtlich\, durch bewussten Konsum oder wirksames Spenden. Falls Du noch nach dem für Dich besten Weg suchst Dich einzubringen\, bist Du in bester Gesellschaft! Allein in den letzten zwei Jahren haben wir mit tausenden Menschen gearbeitet\, die gerne mehr bewegen möchten. So wie Du. \nWir sind überzeugt: Du kannst einen großen Unterschied machen\, wenn Du den für Dich passenden und für die Gesellschaft wirksamsten Weg findest Deine Talente\, Deine Leidenschaft und Deine Zeit einzubringen. Für Deine Entdeckungsreise haben wir den Changemaker Canvas und das Changemaker Playbook entwickelt. \nWenn Du magst\, begleiten wir Dich auf dem Changemaker Festival ein kleines Stück auf Deinem Weg. Hast Du Lust? Dann los! \n\n\nIn dieser Session\nBist Du besonders wirksam in der Politik? Wie gestaltest Du Deinen Konsum nachhaltig? Willst Du Dein eigenes Projekt starten oder Dich lieber ehrenamtlich engagieren? \nEs gibt so viele verschiedene Wege unsere Gesellschaft mitzugestalten und beim Changemaker Festival machen wir sie greifbar. Wir haben Menschen\, die wir besonders für ihr Engagement schätzen\, eingeladen aus dem Nähkästchen zu plaudern und Dich Backstage in ihren Engagement-Alltag mitzunehmen. Sie erzählen was sie bewegen können und wo die Grenzen ihres Engagements sind\, teilen ihre Erfahrung\, ihre besten Tipps und Ressourcen mit Dir. \nFür eine detaillierte Übersicht des Festivals haben wir eine extra Seite erstellt\, auf der du alle weiteren Informationen rund um den Ablauf\, die Inhalte und unsere inspirierenden Speaker:Innen findest. Zu allen Details gelangst Du hier: https://changemaker-academy.org/festivals/ \n\n\nÜber die Session hinaus\n\nIn unserer virtuellen Changemaker Community kannst Du Dich mit Gleichgesinnten vernetzen und austauschen. Den Einladungslink bekommst Du per Mail von imagine@zukunftswerft.org.\nBei Fragen wende Dich gerne direkt per Mail an uns.\nFolge uns auf Instagram\, dort erfährst Du zuerst von unseren News!\nFalls Du Ideen und neue Impulse für uns hast\, dann freuen wir uns über Dein Feedback. Wenn Dir das Angebot gefällt\, erzähle gerne den Menschen davon\, die sich auch dafür interessieren könnten.\n\n\n\nÜber die Zukunftswerft gUG\nDie Zukunftswerft wurde gegründet\, um mit verschiedenen Programmen und Initiativen Menschen in ihrem Anspruch\, sich für eine bessere Gesellschaft einbringen zu wollen\, zu begleiten. Wir unterstützen Dich dabei\, Dein Herzensthema zu finden\, für das Du Deine Talente und Ressourcen bestmöglich einsetzen kannst! Mehr über das Team der Zukunftswerft kannst Du auch hier lesen. \n\n\nDiese Veranstaltung können wir dank unserer Partnerschaft mit der Start Stiftung und der Deutschen Stiftung für Engagement und Ehrenamt für Dich kostenfrei durchführen. \n\n\n\n\n\nHier geht es zu weiteren Infos zur Veranstaltung\, zur Changemaker-Akadamy und weiteren Veranstaltungen.
URL:https://stage.allianz-fuer-beteiligung.de/afb-veranstaltung/changemaker-festival-engagement-kennt-viele-wege-finde-deinen/
LOCATION:Online
ORGANIZER;CN="Zukunftswerft gUG":MAILTO:mail@zukunftswerft.org
END:VEVENT
BEGIN:VEVENT
DTSTART;TZID=Europe/Berlin:20230318T100000
DTEND;TZID=Europe/Berlin:20230318T170000
DTSTAMP:20260423T194611
CREATED:20230201T084657Z
LAST-MODIFIED:20230201T084657Z
UID:10000213-1679133600-1679158800@stage.allianz-fuer-beteiligung.de
SUMMARY:Microcontent-Werkstatt - Vorhandene Inhalte für Social-Media-Content zweitverwerten
DESCRIPTION:Content für verschiedene Plattformen und soziale Netzwerke zu erstellen ist mühselig und kostet viel Zeit. Statt immer wieder Neues zu produzieren\, nutzen wir beim Content Recycling bereits vorhandene Materialien und erstellen daraus Microcontent. \nDadurch füllt sich der Redaktionsplan nicht nur schneller und leichter\, auch die leidige Frage „Was sollen wir posten?!“ entfällt. \nMögliche Ausgangsmaterialien für die Werkstatt sind zum Beispiel Websitetexte\, Blogposts\, Whitepaper\, Schulungsunterlagen\, Case Studies\, Berichte\, Interviews\, Fachartikel und alles andere\, was die Kriterien von Content erfüllt. \nIm ersten Teil geht es um die strategischen Grundlagen von Microcontent\, im zweiten Teil arbeiten die Teilnehmer:innen dann praktisch an dem von ihnen mitgebrachten Ausgangscontent und erstellen unter Anleitung Microcontent-Pieces für ihre Kanäle \nHinweis: Vorhandene Kanäle sowie Social-Media-Grundkenntnisse werden vorausgesetzt. Dies ist kein Workshop\, in dem Sie die Bedienung eines bestimmten Kanals (z.B. Instagram) lernen. \nTrainerin: Katrin Gildner\, erzähl davon \n\n  \nDen ermäßigten Teilnahmebeitrag können alle Personen mit geringem Einkommen (z.B. Studierende) und Mitglieder unserer Stiftung in Anspruch nehmen. Ein Nachweis ist nicht notwendig. \nSie können für das Seminar eine Teilnahmebestätigung erhalten. Der Teilnahmebeitrag kann bei einer Abmeldung bis maximal drei Tage vor Veranstaltungsbeginn auf Wunsch zurückgezahlt werden. \nDas Seminar kann für das Politikmanagement-Zertifikat* von Greencampus anerkannt werden. \n*Zum 01.06.21 haben sich die Regeln zum Erlangen des Zertifikats verändert. Der wichtigste Unterschied ist eine Reduzierung der obligatorischen Unterrichtseinheiten von 130 auf 90. Die Regeln gelten auch für diejenigen\, die vor dem 01.06.21 mit dem Zertifikat begonnen haben.  Mindestens 30 UE müssen in den Themenbereichen Gender-Diversity-Antirassimus und Nachhaltigkeit absolviert werden. Weitere Informationen \nWeitere Informationen und Anmledung.
URL:https://stage.allianz-fuer-beteiligung.de/afb-veranstaltung/microcontent-werkstatt-vorhandene-inhalte-fuer-social-media-content-zweitverwerten/
LOCATION:Online
ORGANIZER;CN="Heinrich-B%C3%B6ll-Stiftung":MAILTO:info@boell.de
END:VEVENT
BEGIN:VEVENT
DTSTART;TZID=Europe/Berlin:20230316T160000
DTEND;TZID=Europe/Berlin:20230316T200000
DTSTAMP:20260423T194611
CREATED:20230216T093929Z
LAST-MODIFIED:20230216T093929Z
UID:10000219-1678982400-1678996800@stage.allianz-fuer-beteiligung.de
SUMMARY:3. Purpose Festival. So macht Changemaking Sinn!
DESCRIPTION:Das Festival ist für alle\, sich mit der Frage beschäftigen\, wie sie sich wirkungsvoll für eine bessere Gesellschaft einsetzen können.\n\n\nEs ist großartig\, dass Du Dich einbringen und zu einer besseren Gesellschaft beitragen möchtest!\nUnsere Gesellschaft ist Work in Progress. Sie ist eine Einladung zum Mitmachen. Und Wege sich für eine enkel-taugliche Welt einzubringen gibt es viele: in der Politik\, als Social Entrepreneur:in\, im Job mit Sinn\, ehrenamtlich\, durch bewussten Konsum oder wirksames Spenden. Falls Du noch nach dem für Dich wirksamsten Weg suchst Dich einzubringen\, bist Du in bester Gesellschaft! Allein in den letzten zwei Jahren haben wir mit tausenden Menschen gearbeitet\, die gerne mehr bewegen möchten. So wie Du. \nWir sind überzeugt: Du kannst einen großen Unterschied machen\, wenn Du den für Dich passenden und für die Gesellschaft wirksamsten Weg findest Deine Talente\, Deine Leidenschaft und Deine Zeit einzubringen. Für Deine Entdeckungsreise haben wir den Changemaker Canvas und das Changemaker Playbook entwickelt. \nWenn Du magst\, begleiten wir Dich auf dem Purpose Festival ein kleines Stück auf Deinem Weg. Hast Du Lust? Dann los! \n\n\nIn dieser Session\nDas Purpose Festival bietet Dir vier Stunden voller Reflexion\, Inspiration und praktischen Möglichkeiten\, Dich mit Deinen Werten\, Talenten und Leidenschaften zu beschäftigen. \nFür eine detaillierte Übersicht des Festivals hat die Zukunftswerft gUG eine extra Seite erstellt\, auf der du alle weiteren Informationen rund um den Ablauf\, die Inhalte und unsere inspirierenden Speaker:Innen findest. Zu allen Details gelangst Du hier: https://changemaker-academy.org/festivals/. \n\n\nÜber die Session hinaus\n\nIn unserer virtuellen Changemaker Community kannst Du Dich mit Gleichgesinnten vernetzen und austauschen. Den Einladungslink bekommst Du per Mail von imagine@zukunftswerft.org.\nBei Fragen wende Dich gerne direkt per Mail an uns.\nFolge uns auf Instagram\, dort erfährst Du zuerst von unseren News!\nFalls Du Ideen und neue Impulse für uns hast\, dann freuen wir uns über Dein Feedback. Wenn Dir das Angebot gefällt\, erzähle gerne den Menschen davon\, die sich auch dafür interessieren könnten.\n\n\n\nÜber die Zukunftswerft gUG\nDie Zukunftswerft wurde gegründet\, um mit verschiedenen Programmen und Initiativen Menschen in ihrem Anspruch\, sich für eine bessere Gesellschaft einbringen zu wollen\, zu begleiten. Wir unterstützen Dich dabei\, Dein Herzensthema zu finden\, für das Du Deine Talente und Ressourcen bestmöglich einsetzen kannst! Mehr über das Team der Zukunftswerft kannst Du auch hier lesen. \n\n\nDiese Veranstaltung kann dank der Partnerschaft mit der Start Stiftung und der Deutschen Stiftung für Engagement und Ehrenamt für Dich kostenfrei durchgeführt werden.  \n\n\n\n\n\nHier geht es zu weiteren Infos zur Veranstaltung\, zur Changemaker-Akadamy und weiteren Veranstaltungen.
URL:https://stage.allianz-fuer-beteiligung.de/afb-veranstaltung/3-purpose-festival-so-macht-changemaking-sinn/
LOCATION:Online
ORGANIZER;CN="Zukunftswerft gUG":MAILTO:mail@zukunftswerft.org
END:VEVENT
BEGIN:VEVENT
DTSTART;TZID=Europe/Berlin:20230314T173000
DTEND;TZID=Europe/Berlin:20230314T190000
DTSTAMP:20260423T194611
CREATED:20230216T092829Z
LAST-MODIFIED:20230216T092829Z
UID:10000218-1678815000-1678820400@stage.allianz-fuer-beteiligung.de
SUMMARY:Zeitmanagement - so bewegst du mehr!
DESCRIPTION:Was ruft Dich? In welcher Gesellschaft möchtest Du leben und was ist Dein Beitrag dazu?\n\n\nEs ist großartig\, dass Du Dich einbringen und dazu beitragen möchtest\, diese Welt enkeltauglich zu machen!\nUnsere Gesellschaft ist Work in Progress. Sie ist eine Einladung zum Mitmachen. Und Wege sich für eine enkel-taugliche Welt einzubringen gibt es viele: in der Politik\, als Social Entrepreneur*in\, im Job mit Sinn\, ehrenamtlich\, durch bewussten Konsum oder wirksames Spenden. Falls Du noch nach dem für Dich wirksamsten Weg suchst oder Dich einzubringen\, bist Du in bester Gesellschaft! Allein in den letzten zwei Jahren hat die Changemaker-Akadamy mit tausenden Menschen gearbeitet\, die gerne mehr bewegen möchten. So wie Du. \nSie sind überzeugt: Du wirst einen noch größeren Unterschied machen\, wenn Du den für Dich passenden und für die Gesellschaft wirksamsten Weg findest Deine Talente\, Deine Leidenschaft und Deine Zeit einzubringen. Für Deine Entdeckungsreise haben sie den Changemaker Canvas und das Changemaker Playbook entwickelt. \nHier geht es zu weiteren Infos zur Veranstaltung\, zur Changemaker-Akadamy und weiteren Veranstaltungen.
URL:https://stage.allianz-fuer-beteiligung.de/afb-veranstaltung/zeitmanagement-so-bewegst-du-mehr/
LOCATION:Online
ORGANIZER;CN="Zukunftswerft gUG":MAILTO:mail@zukunftswerft.org
END:VEVENT
BEGIN:VEVENT
DTSTART;TZID=Europe/Berlin:20230303T150000
DTEND;TZID=Europe/Berlin:20230331T150000
DTSTAMP:20260423T194611
CREATED:20230124T082828Z
LAST-MODIFIED:20230124T082828Z
UID:10000206-1677855600-1680274800@stage.allianz-fuer-beteiligung.de
SUMMARY:Kommun@l Online - Frauen verändern ihre Stadt!
DESCRIPTION:Vierwöchiger E-Learning-Kurs mit Auftakt im Stuttgarter Rathaus in Kooperation mit der Abteilung für individuelle Chancengleichheit von Frauen und Männern in der Landeshauptstadt Stuttgart. \nKursziel: \nSie interessieren sich dafür\, was in Ihrem Ort passiert? Und haben die eine oder andere Verbesserungsidee? Dann sind Sie beim Einführungskurs „Kommun@l Online“ richtig! Er startet mit einer Auftaktveranstaltung per Videokonferenz und befasst sich anschließend vier Wochen online mit den Gestaltungsmöglichkeiten einer Gemeinde. Die Kommune als kleinste politische Verwaltungseinheit prägt unseren Alltag und unser Leben. Hier entscheidet sich\, wie unsere Mobilität aussieht\, wie gut die Luft ist\, die wir atmen\, wie vielfältig das kulturelle Leben ist oder wie hoch die Kita-Gebühren ausfallen. \nAls Gemeinderät*innen und Bürger*innen können wir diese Rahmenbedingungen mitbeeinflussen und unseren Wohnort gestalten. Je besser wir die kommunalpolitischen Zusammenhänge und Stellschrauben kennen\, desto effektiver können wir sie nutzen. \nInnerhalb von vier inhaltlichen Modulen erfahren Sie viel Neues und tauschen sich unter tutorieller Begleitung mit anderen Kursteilnehmenden aus. \nWeitere Informationen und Anmeldemöglichkeit. \n 
URL:https://stage.allianz-fuer-beteiligung.de/afb-veranstaltung/kommunl-online-frauen-veraendern-ihre-stadt/
LOCATION:Online
ORGANIZER;CN="Landeszentrale f%C3%BCr politische Bildung Baden-W%C3%BCrttemberg":MAILTO:poststelle@lpb.bwl.de
END:VEVENT
BEGIN:VEVENT
DTSTART;TZID=Europe/Berlin:20230303T000000
DTEND;TZID=Europe/Berlin:20230303T000000
DTSTAMP:20260423T194611
CREATED:20230213T135432Z
LAST-MODIFIED:20230221T094826Z
UID:10000150-1677801600-1677801600@stage.allianz-fuer-beteiligung.de
SUMMARY:Agile Methoden in der Zusammenarbeit
DESCRIPTION:Kurz und knapp\, aber effektiv: Neue Möglichkeiten\, schnell zu Ergebnissen zu kommen. Nicht nur bei Besprechungs- und Sitzungsterminen\, auch in der Projektarbeit. In diesem Praxis-Workshop werden verschiedene Methoden vorgestellt und gemeinsam ausprobiert. Inhalte werden beispielsweise sein: Was bedeutet agil\, wo kommt es her? Von Backlog bis Lean Coffee – ausgewählte Methoden für die Zusammenarbeit. \nReferentin: Sandra Holzherr\nPromotorin: Simone Schliemann \nEine Anmeldung ist bei Simone Schliemann möglich. \nWeitere Praxisworkshops für zivilgesellschaftliche Akteure aus den Bereichen Eine Welt und Nachhaltigkeit sowie zusätzliche Informationen finden Sie hier oder im Flyer.
URL:https://stage.allianz-fuer-beteiligung.de/afb-veranstaltung/agile-methoden-in-der-zusammenarbeit/
LOCATION:Online
ORGANIZER;CN="Dachverband Entwicklungspolitik Baden-W%C3%BCrttemberg e.V.":MAILTO:info@deab.de
END:VEVENT
BEGIN:VEVENT
DTSTART;TZID=Europe/Berlin:20230215T180000
DTEND;TZID=Europe/Berlin:20230216T153000
DTSTAMP:20260423T194611
CREATED:20230209T171536Z
LAST-MODIFIED:20230209T171536Z
UID:10000144-1676484000-1676561400@stage.allianz-fuer-beteiligung.de
SUMMARY:Fachtagung des Teams Digitale Bildung: "Nachhaltige digitale Bildung"
DESCRIPTION:Die virtuelle Fachtagung des Teams Digitale Bildung der FES steht am 15. und 16. Februar ganz unter dem Motto Nachhaltigkeit in der digitalen Bildung. Gemeinsam mit Expert*innen aus Wissenschaft und Praxis wird geklärt\, was nachhaltige digitale Bildung bedeutet und welche Aspekte bei der Erstellung digitaler Angebote berücksichtigt werden sollten. In einer spannenden Live-Debatte am ersten Abend\, einem Einführungsimpuls am nächsten Tag und einer Auswahl von Masterclasses mit unterschiedlichen Schwerpunkten zum Vertiefen\, stehen folgende Fragen im Mittelpunkt der Tagung: \n\nWas muss ich bei der Erstellung meiner digitalen Inhalte beachten\, damit diese einen wirksamen Lernprozess starten und barrierefrei zugänglich sind?\nWie kann ich digitale Angebote bei meinen Zielgruppen durch professionelle und kontinuierliche Öffentlichkeitsarbeit präsent halten und durch ein ganzheitliches Nutzungskonzept in die bestehende Arbeit einbetten und wiederverwerten\nWelche Möglichkeiten bestehen\, um digitale Angebote ressourcensparend und grün zu produzieren?\n\nMehr zum Programm und den Referent*innen ist hier zu finden. \nAuf der Formatbörse gibt es zudem die Möglichkeit\, selbst ein Projekt vorzustellen und gemeinsam mit anderen Teilnehmenden zu erörtern\, was das Projekt nachhaltig macht oder wie man den Aspekt der Nachhaltigkeit noch verbessern könnte. Hier können Projekte eingetragen werden. \nSeid also dabei\, taucht mit uns in die nachhaltige Welt der digitalen Formate ein und stellt auf der Formatbörse eure eigenen nachhaltigen digitalen Projekte vor. Die Teilnahme an der Fachtagung ist kostenfrei. \nHier geht es zur Anmeldung über das Anmeldeformuular.
URL:https://stage.allianz-fuer-beteiligung.de/afb-veranstaltung/fachtagung-des-teams-digitale-bildung-nachhaltige-digitale-bildung/
LOCATION:Online
ORGANIZER;CN="Friedrich Ebert Stiftung":MAILTO:info@fes.de
END:VEVENT
BEGIN:VEVENT
DTSTART;TZID=Europe/Berlin:20230209T163000
DTEND;TZID=Europe/Berlin:20230209T200000
DTSTAMP:20260423T194611
CREATED:20230201T083122Z
LAST-MODIFIED:20230201T083122Z
UID:10000212-1675960200-1675972800@stage.allianz-fuer-beteiligung.de
SUMMARY:Konzepttransfer von offline zu online
DESCRIPTION:Aufbau-Workshop für Personen mit ersten Kenntnissen/Erfahrungen zu Online-Veranstaltungen\nWebinare und digitale Veranstaltungen begleiten uns weiterhin. Und auch wenn Corona es nicht mehr erfordert\, werden wir uns weiterhin auch online treffen. Diese interaktive Workshop-Reihe mit zwei Trainerinnen aus der Praxis bietet euch die Chance\, euch fit zu machen. Alle Workshops können auch einzeln belegt werden. \n  \nDieser Workshop richtet sich an alle\, \n\nderen Veranstaltung in der Vergangenheit bereits in Präsenz stattgefunden hat\ndie das Konzept für die Präsenz-Veranstaltung schon in der Schublade liegen haben\noder die ggf. kurzfristig entscheiden müssen\, ob ihre Veranstaltung offline oder online stattfinden wird.\n\nIn diesem Workshop behandeln wir die Grundlagen der Übertragung von offline zu online. Was geht? Was geht nicht? Was ist anders? Was sollte beachtet werden? Welche Tipps\, Kniffe\, Erfahrungen und Leitlinien helfen bei der Planung? \nIm Workshop bewegen wir uns einerseits auf der Metaebene und beschäftigen uns mit Ähnlichkeiten und Unterschieden von Analog und Digital sowie Grundüberlegungen und Logiken für die Übertragung von der einen in die andere Sphäre. Außerdem sollen kollegialer Austausch über eure Erfahrungen und kreatives Tüfteln an euren Ideen nicht zu kurz kommen! \nGerne arbeiten wir mit Beispiel-Projekten. Das Angebot eignet sich auch für erfahrene Bildungsarbeiter*innen\, die ohne konkrete Veranstaltung im Hinterkopf über die „Zoomisierung“ von Formaten lernen wollen. \n  \n\nSeminarleitung \n\nUlla Scharfenberg (sie/-)\, Politikwissenschaftlerin und Personalentwicklerin sowie Lehrtrainerin in der Erwachsenenbildung\nAnnika Salingré (sie/ihr)\, Geographin\, Bildungsarbeiterin und Moderatorin. Beide online und offline\, schwerpunktmäßig für NGOs und Bildungsträger tätig.\n\n\nDen ermäßigten Teilnahmebeitrag können alle Personen mit geringem Einkommen (z.B. Studierende) und Mitglieder unserer Stiftung in Anspruch nehmen. Ein Nachweis ist nicht notwendig. \nSie können für das Seminar eine Teilnahmebestätigung erhalten. Der Teilnahmebeitrag kann bei einer Abmeldung bis maximal drei Tage vor Veranstaltungsbeginn auf Wunsch zurückgezahlt werden. \nDas Seminar kann für das Politikmanagement-Zertifikat* von Greencampus anerkannt werden. \n*Zum 01.06.21 haben sich die Regeln zum Erlangen des Zertifikats verändert. Der wichtigste Unterschied ist eine Reduzierung der obligatorischen Unterrichtseinheiten von 130 auf 90. Die Regeln gelten auch für diejenigen\, die vor dem 01.06.21 mit dem Zertifikat begonnen haben.  Mindestens 30 UE müssen in den Themenbereichen Gender-Diversity-Antirassimus und Nachhaltigkeit absolviert werden. Weitere Informationen \nAnmeldung und weitere Informationen zur Veranstaltung.
URL:https://stage.allianz-fuer-beteiligung.de/afb-veranstaltung/konzepttransfer-von-offline-zu-online/
LOCATION:Online
ORGANIZER;CN="Heinrich-B%C3%B6ll-Stiftung":MAILTO:info@boell.de
END:VEVENT
BEGIN:VEVENT
DTSTART;TZID=Europe/Berlin:20221125T100000
DTEND;TZID=Europe/Berlin:20221125T163000
DTSTAMP:20260423T194611
CREATED:20221026T142406Z
LAST-MODIFIED:20221026T142406Z
UID:10000191-1669370400-1669393800@stage.allianz-fuer-beteiligung.de
SUMMARY:Kommune gemeinsam gestalten. Regelungen & Leitlinien für die Bürgerbeteiligung erarbeiten
DESCRIPTION:Die Beteiligung der Einwohner*innen und stadtgesellschaftlichen Akteure an kommunalen Entscheidungs- und Kooperationsprozessen bietet eine Fülle an Chancen. Allein die Möglichkeit sie als Mitstreiterinnen und Mitstreiter bei der Entwicklung von Ideen und bei der Realisierung von Projekten zu gewinnen\, erschließt vielfältige Potenziale. Die Menschen vor Ort zur Teilhabe zu ermutigen und gemeinsam mit ihnen die kommunale Demokratie weiterzudenken\, eröffnet darüber hinaus Wege zu nachhaltigen und von allen getragenen Lösungen für anstehende Zukunftsfragen. \nImmer mehr Kommunen machen sich deshalb auf den Weg\, Regelungen oder Leitlinien für die Bürgerbeteiligung zu erarbeiten. Es macht Sinn in diesen Entwicklungsprozess von Beginn an Einwohner*innen und Vertreter*innen aus der Stadtgesellschaft\, Verwaltung und Politik einzubeziehen\, um gemeinsam Lösungen zu finden\, die von allen Akteuren angenommen und umgesetzt werden können. Angesicht der unterschiedlichen Blickwinkel\, Rollen\, Erwartungshaltungen\, Zielvorstellungen und Interessen der verschiedenen Akteure stellt die Initiierung und Realisierung entsprechender Aushandlungsprozesse allerdings auch eine Herausforderung dar. \nIm Mittelpunkt des Seminars steht deshalb die Frage\, wie Prozesse zur Erarbeitung von gemeinsamen Leitlinien oder Regeln für die Bürgerbeteiligung in der Kommune angestoßen und ausgestaltet werden können: Wo liegen die Ansatzpunkte und Chancen zur Entwicklung solcher Regelungen? Welche Akteure sollen – wie – einbezogen werden? Welche Themen und Fragestellungen sollten bearbeitet werden? Wie kann der Prozess hin zur Entwicklung dieser Regelungen ausgestaltet werden?\nDas Seminar richtet sich an Akteure aus Verwaltung\, Politik und Stadtgesellschaft\, die Prozesse zur Stärkung der Bürgerbeteiligung in ihrer Kommune anstoßen\, konzipieren und gestalten möchten. \nDen geplanten zeitlichen Ablauf der Veranstaltung finden sie HIER
URL:https://stage.allianz-fuer-beteiligung.de/afb-veranstaltung/kommune-gemeinsam-gestalten-regelungen-leitlinien-fuer-die-buergerbeteiligung-erarbeiten/
LOCATION:Online
END:VEVENT
BEGIN:VEVENT
DTSTART;TZID=Europe/Berlin:20221112T100000
DTEND;TZID=Europe/Berlin:20221112T160000
DTSTAMP:20260423T194611
CREATED:20220811T054132Z
LAST-MODIFIED:20220811T093743Z
UID:10000187-1668247200-1668268800@stage.allianz-fuer-beteiligung.de
SUMMARY:Gesellschaftsgestalter*innen: mit Bürgerbeteiligung gemeinsam vor Ort aktiv
DESCRIPTION:Das Seminar bietet einen Überblick über den Stand der Bürgerbeteiligung in Baden-Württemberg. \n\nWelche Erfahrungen und Empfehlungen gibt es auf Landesebene?\nWelche Möglichkeiten der Mitgestaltung gibt es auf kommunaler Ebene?\n\nSie erfahren\, wie Sie mit Bürgerbeteiligung vor Ort gemeinsam aktiv werden können und wo Sie Unterstützung und Ressourcen finden. Anhand von thematischen Inputs\, Diskussionsrunden\, aktiver Kleingruppenarbeit und Berichten aus der Praxis werden die Seminarinhalte gemeinsam erarbeitet. Jobst Kraus vom Bad Boller Dorfladen\, einem bürgerschaftlich initiierten Genossenschaftsladen\, berichtet von Gelungenem aber auch von der Herausforderung ihres gestalterischen Wirkens in Bad Boll. Das Seminar richtet sich an Personen der Zivilgesellschaft\, Politik und Verwaltung. \n\nReferent*innen:\nAndrea Schätzle und Lisa Weis\, Allianz für Beteiligung e.V.\nFabian Reidinger\, Staatsministerium Baden-Württemberg \nSa\, 12. November 2022 | 10.00 – 16.00 Uhr | Online \nAnmeldung\n \nVeranstalter:  \nHeinrich Böll Stiftung Baden-Württemberg in Kooperation mit der Allianz für Beteiligung e.V.
URL:https://stage.allianz-fuer-beteiligung.de/afb-veranstaltung/gesellschaftsgestalterinnen-mit-buergerbeteiligung-gemeinsam-vor-ort-aktiv-sein/
LOCATION:Online
ATTACH;FMTTYPE=image/png:https://stage.allianz-fuer-beteiligung.de/wp-content/uploads/2022/09/Boell.png
END:VEVENT
END:VCALENDAR