BEGIN:VCALENDAR
VERSION:2.0
PRODID:-//Allianz für Beteiligung - ECPv6.15.18//NONSGML v1.0//EN
CALSCALE:GREGORIAN
METHOD:PUBLISH
X-ORIGINAL-URL:https://stage.allianz-fuer-beteiligung.de
X-WR-CALDESC:Veranstaltungen für Allianz für Beteiligung
REFRESH-INTERVAL;VALUE=DURATION:PT1H
X-Robots-Tag:noindex
X-PUBLISHED-TTL:PT1H
BEGIN:VTIMEZONE
TZID:Europe/Berlin
BEGIN:DAYLIGHT
TZOFFSETFROM:+0100
TZOFFSETTO:+0200
TZNAME:CEST
DTSTART:20210328T010000
END:DAYLIGHT
BEGIN:STANDARD
TZOFFSETFROM:+0200
TZOFFSETTO:+0100
TZNAME:CET
DTSTART:20211031T010000
END:STANDARD
BEGIN:DAYLIGHT
TZOFFSETFROM:+0100
TZOFFSETTO:+0200
TZNAME:CEST
DTSTART:20220327T010000
END:DAYLIGHT
BEGIN:STANDARD
TZOFFSETFROM:+0200
TZOFFSETTO:+0100
TZNAME:CET
DTSTART:20221030T010000
END:STANDARD
BEGIN:DAYLIGHT
TZOFFSETFROM:+0100
TZOFFSETTO:+0200
TZNAME:CEST
DTSTART:20230326T010000
END:DAYLIGHT
BEGIN:STANDARD
TZOFFSETFROM:+0200
TZOFFSETTO:+0100
TZNAME:CET
DTSTART:20231029T010000
END:STANDARD
BEGIN:DAYLIGHT
TZOFFSETFROM:+0100
TZOFFSETTO:+0200
TZNAME:CEST
DTSTART:20240331T010000
END:DAYLIGHT
BEGIN:STANDARD
TZOFFSETFROM:+0200
TZOFFSETTO:+0100
TZNAME:CET
DTSTART:20241027T010000
END:STANDARD
END:VTIMEZONE
BEGIN:VEVENT
DTSTART;TZID=Europe/Berlin:20231017T190000
DTEND;TZID=Europe/Berlin:20231017T203000
DTSTAMP:20260423T153448
CREATED:20230912T081346Z
LAST-MODIFIED:20230912T081346Z
UID:10000321-1697569200-1697574600@stage.allianz-fuer-beteiligung.de
SUMMARY:Das Smartphone als Werkzeug für’s Ehrenamt: Einfache\, ansprechende Fotos und Filme machen
DESCRIPTION:Die Smartphones von heute sind wahre „Multitools“. Sie verfügen in der Regel über Top-Kameras mit verschiedenen Modi\, die richtig gute Fotos entstehen lassen. Auch Videos aufnehmen\, schneiden und veröffentlichen ist kein Problem und geht in „Windeseile“. Aber: Man muss halt wissen\, wie’s geht. In diesem Online-Seminar erhalten Sie viele Tipps und Tricks\, wie man die Kameraeinstellungen des Smartphones optimal nutzt. Fotos für Emails\, Videos für Posts auf Social Media stehen auf unserem Programm. Und unter Umständen entstehen sogar Fotos oder Videos\, die auch in der nächsten Präsentation bei der Jahreshauptversammlung zum Einsatz kommen können. Ja – vieles ist mit diesen modernen Handys möglich. Und die Objektive werden immer besser. Unsere Maxime: Schnell und einfach soll es gehen – und ein gutes Resultat erzeugen. \nReferent der Veranstaltung ist Jan Roth aus Stuttgart. Er berät Unternehmen\, Marken und Personen im Bereich „Digital Branding“ und kreiert für diese individuellen Content (Inhalt einer Website). \nDie Veranstaltung mit Zoom durchgeführt\, die Teilnahme ist kostenlos. Den Link erhalten Sie nach Ihrer Anmeldung rechtzeitig vor der Veranstaltung per E-Mail. \nHier können Sie sich anmelden: https://bildungswerk-bw.de/events/smartphone-bilder-17-10-23/
URL:https://stage.allianz-fuer-beteiligung.de/afb-veranstaltung/das-smartphone-als-werkzeug-fuers-ehrenamt-einfache-ansprechende-fotos-und-filme-machen/
LOCATION:online | ZOOM\, Deutschland
ORGANIZER;CN="Bildungswerk f%C3%BCr Kommunalpolitik Baden-W%C3%BCrttemberg":MAILTO:kontakt@bildungswerk-bw.de
END:VEVENT
BEGIN:VEVENT
DTSTART;TZID=Europe/Berlin:20230928T190000
DTEND;TZID=Europe/Berlin:20230928T203000
DTSTAMP:20260423T153448
CREATED:20230912T081027Z
LAST-MODIFIED:20230912T081027Z
UID:10000320-1695927600-1695933000@stage.allianz-fuer-beteiligung.de
SUMMARY:Interkommunale Zusammenarbeit – ein Weg Krisen zu meistern
DESCRIPTION:Interkommunale Zusammenarbeit ist in vielen Städten und Gemeinden schon seit vielen Jahren weit verbereitet. Dennoch kennen viele Interessierte die zahlreichen Gestaltungsmöglichkeiten des GKZ (Gesetz über die kommunale Zusammenarbeit) nicht – oder nicht ausreichend. Der Fachkräftemangel\, die Finanzkrise\, die Flüchtlingskrise bieten aber zahlreiche Möglichkeiten\, durch Interkommunale Zusammenarbeit gemeinsam mehr zu erreichen. In diesem Online-Seminar erfahren Sie die rechtlichen Möglichkeiten und kommen mit vielen Beispielen aus der Praxis in Berührung. Im Anschluss diskutieren Sie mit Frau Bock und Bildungsleiter Friedhelm Werner\, welche Chancen und Risiken Sie vor Ort für die Interkommunale Zusammenarbeit sehen. \nReferentin der Veranstaltung ist Verwaltungsdirektorin a. D. Irmtraud Bock. Viele Jahre hat sie als Kommunalrechtsreferentin beim Gemeindetag Baden-Württemberg diesen Bereich verantwortlich gestaltend betreut. Ergänzt wird sie durch Bildungsleiter Friedhelm Werner\, der in seiner Zeit als Bürgermeister einer Stadt mit ca. 11.000 Einwohner umfangreiche Erfahrungen mit der Interkommunalen Zusammenarbeit in der Praxis gesammelt hat. \nDie Veranstaltung mit Zoom durchgeführt. Den Link erhalten Sie nach Ihrer Anmeldung rechtzeitig vor der Veranstaltung per E-Mail. Die Teilnahme ist kostenlos. \nHier können Sie sich anmelden: https://bildungswerk-bw.de/events/interkommunale-zusammenarbeit-28-09-23/
URL:https://stage.allianz-fuer-beteiligung.de/afb-veranstaltung/interkommunale-zusammenarbeit-ein-weg-krisen-zu-meistern/
LOCATION:online | ZOOM\, Deutschland
ORGANIZER;CN="Bildungswerk f%C3%BCr Kommunalpolitik Baden-W%C3%BCrttemberg":MAILTO:kontakt@bildungswerk-bw.de
END:VEVENT
BEGIN:VEVENT
DTSTART;TZID=Europe/Berlin:20230927T190000
DTEND;TZID=Europe/Berlin:20230927T203000
DTSTAMP:20260423T153448
CREATED:20230912T074218Z
LAST-MODIFIED:20230912T074218Z
UID:10000319-1695841200-1695846600@stage.allianz-fuer-beteiligung.de
SUMMARY:Canva für’s Ehrenamt Teil 2: Kostenfreies Programm für Druckwerke\, Flyer\, Einladungen\, …
DESCRIPTION:Wer eine Homepage\, einen Facebook- oder Instagramauftritt hat\, kommt an digitalen Grafiktools nicht mehr vorbei. In diesem Seminar lernen Sie Canva kennen. Canva ist klasse und das Programm kann wirklich viel. Das Besondere und Einfache an diesem Werkzeug ist\, dass man keinerlei Designerfahrung haben muss\, um gut damit arbeiten zu können. In diesem Seminar geht es darum\, Ihnen die kostenlosen und entgeltpflichtigen Möglichkeiten dieses Programms vorzustellen und erste eigene Versuche auszuprobieren. Canva ist auch deshalb besonders attraktiv\, weil Canva Pro für gemeinnützige Organisationen kostenlos ist. Wir schauen uns Canva am PC an und üben die Erstellung von Druckwerken\, wie z.B. ein Flyer oder eine Einladungskarte. \nFür dieses Seminar sollten Sie über Grundkenntnisse von canva verfügen\, bzw. schon einen eigenen Account angelegt haben. \nReferent der Veranstaltung ist Jan Roth aus Stuttgart. Er berät Unternehmen\, Marken und Personen im Bereich „Digital Branding“ und kreiert für diese individuellen Content \nDie Veranstaltung mit Zoom durchgeführt\, die Teilnahme ist kostenlos. Den Link erhalten Sie nach Ihrer Anmeldung rechtzeitig vor der Veranstaltung per E-Mail. \nHier geht es zur Anmeldung: https://bildungswerk-bw.de/events/canva-2-27-09-23/
URL:https://stage.allianz-fuer-beteiligung.de/afb-veranstaltung/canva-fuers-ehrenamt-teil-2-kostenfreies-programm-fuer-druckwerke-flyer-einladungen/
LOCATION:online | ZOOM\, Deutschland
ORGANIZER;CN="Bildungswerk f%C3%BCr Kommunalpolitik Baden-W%C3%BCrttemberg":MAILTO:kontakt@bildungswerk-bw.de
END:VEVENT
BEGIN:VEVENT
DTSTART;TZID=Europe/Berlin:20230920T190000
DTEND;TZID=Europe/Berlin:20230920T203000
DTSTAMP:20260423T153448
CREATED:20230912T073946Z
LAST-MODIFIED:20230912T073946Z
UID:10000318-1695236400-1695241800@stage.allianz-fuer-beteiligung.de
SUMMARY:Canva für’s Ehrenamt Teil 1: Kostenfreies Programm für Präsentationen und Social Media Posts
DESCRIPTION:Wer eine Homepage\, einen Facebook- oder Instagramauftritt hat\, kommt an digitalen Grafiktools nicht mehr vorbei. In diesem Seminar lernen Sie Canva kennen. Canva ist klasse und das Programm kann wirklich viel. Das Besondere und Einfache an diesem Werkzeug ist\, dass man keinerlei Designerfahrung haben muss\, um gut damit arbeiten zu können. In diesem Seminar geht es darum\, Ihnen die kostenlosen und entgeltpflichtigen Möglichkeiten dieses Programms vorzustellen und erste eigene Versuche auszuprobieren. Canva ist auch deshalb besonders attraktiv\, weil Canva Pro für gemeinnützige Organisationen kostenlos ist. Wir schauen uns Canva am PC an und üben die Erstellung einer Präsentation und eines Posts für Instagram. \nFür dieses Seminar sollten Sie über Grundkenntnisse in den entsprechenden Sozialen Medien verfügen\, bereits einen Account angelegt und erste Beiträge erfolgreich hochgeladen haben. \nReferent der Veranstaltung ist Jan Roth aus Stuttgart. Er berät Unternehmen\, Marken und Personen im Bereich „Digital Branding“ und kreiert für diese individuellen Content \nDie Veranstaltung mit Zoom durchgeführt\, die Teilnahme ist kostenlos. Den Link erhalten Sie nach Ihrer Anmeldung rechtzeitig vor der Veranstaltung per E-Mail. \nHier können Sie sich anmelden: https://bildungswerk-bw.de/events/canva-1-20-09-23/
URL:https://stage.allianz-fuer-beteiligung.de/afb-veranstaltung/canva-fuers-ehrenamt-teil-1-kostenfreies-programm-fuer-praesentationen-und-social-media-posts/
LOCATION:online | ZOOM\, Deutschland
ORGANIZER;CN="Bildungswerk f%C3%BCr Kommunalpolitik Baden-W%C3%BCrttemberg":MAILTO:kontakt@bildungswerk-bw.de
END:VEVENT
BEGIN:VEVENT
DTSTART;TZID=Europe/Berlin:20230914T100000
DTEND;TZID=Europe/Berlin:20230914T113000
DTSTAMP:20260423T153448
CREATED:20230904T092037Z
LAST-MODIFIED:20230904T092037Z
UID:10000315-1694685600-1694691000@stage.allianz-fuer-beteiligung.de
SUMMARY:Demenz im ländlichen Raum – Ansätze für kleinere Städte und Gemeinden
DESCRIPTION:Demenz ist kein einfaches Thema. Um sich ihm im ländlichen Raum zu widmen und Entwicklungen hin zu demenzaktiven Kommunen und Quartieren anzustoßen\, bedarf es oft besonderer Anstrengungen. Vor welchen Herausforderungen insbesondere kleinere Städte und Gemeinden im ländlichen Raum stehen und mit welchen Möglichkeiten und Ansätzen man ihnen begegnen kann\, wird an diesem Tag thematisiert. \nErfahren Sie von Anja Feyhl\, Fachberatung Quartiersentwicklung im Gemeindenetzwerk BE\, und Heidi Rzepka\, Koordinatorin im Projekt Demenz im Quartier am Standort Inzigkofen\, wie Sie mit guten Ideen das Thema Demenz auch im ländlichen Raum platzieren können. Diskutieren Sie mit und tauschen Sie sich aus. \nAnmeldung bis zum 11.09.2023 hier: Anmeldung \n 
URL:https://stage.allianz-fuer-beteiligung.de/afb-veranstaltung/demenz-im-laendlichen-raum-ansaetze-fuer-kleinere-staedte-und-gemeinden/
LOCATION:online | ZOOM\, Deutschland
END:VEVENT
BEGIN:VEVENT
DTSTART;TZID=Europe/Berlin:20230907T093000
DTEND;TZID=Europe/Berlin:20230907T130000
DTSTAMP:20260423T153448
CREATED:20230818T072126Z
LAST-MODIFIED:20230818T072126Z
UID:10000312-1694079000-1694091600@stage.allianz-fuer-beteiligung.de
SUMMARY:3. Fachtag Digital vernetzt im Quartier
DESCRIPTION:Im dritten Fachtag möchte die Diakonie Baden gemeinsam mit Teilnehmenden konkrete Sozialräume gestalten. In acht Workshops stellen Anliegengeber:innen ihren Sozialraum vor. Sie beschreiben die Ausgangssituation und die vor ihnen liegenden Herausforderungen. Es entsteht ein gemeinsames Verständnis der Situation. \nKo-kreativ sollen Ziele entwickelt werden\, wie ein inklusiver\, sozial tragfähiger und gerechter Sozialraum gestaltet werden kann. Nach der Situationsanalyse wird ins Lösungs-Brainstorming gewechselt. \nGemeinsam werden Ideen und Optionen gesammelt: Wie kann Technik bei der Sozialraumentwicklung unterstützen? Was ist bei der Einführung zu beachten? Wie kann Beteiligung gelingen? In der kollegialen Fallarbeit arbeiten alle auf Augenhöhe. Die Diversität und Vielfalt der verschiedenen Erfahrungshintergründe soll zum Einsatz kommen. So wird der Möglichkeitsraum erweitert und man entwickelt passgenaue Lösungen. Jeder Sozialraum ist anders und jeder Gestaltungsprozess wird anders sein. \nZielgruppe:\nBürgerschaftlich Engagierte\, Sozialraum-Verantwortliche aus öffentlicher Verwaltung und sozialen Einrichtungen\, Tätige in der Quartiersentwicklung \nWann:\nDonnerstag\, 07.09.2023\, 09:30 Uhr – 13:00Uhr \nWo:\nDigital via Zoom \nTeilnahmegebühr:            \nkostenfrei \nAnmeldeschluss:\n06.09.2023 \nVeranstalter:\nDiakonie Baden-Württemberg\, Gemeindenetzwerk BE\, Gemeindetag Baden-Württemberg\, Gemeinsames Kommunales Kompetenzzentrum Quartiersentwicklung\, Landkreisnetzwerk\, Landkreistag Baden-Württemberg\, Liga der freien Wohlfahrtspflege\, Ministerium für Soziales\, Gesundheit und Integration\, Städtetag Baden-Württemberg \nKontakt:\nSabrina Daubenberger\, sdaubenberger@diakonie-baden.de\, Tel. 0721 9349-249 \nWeitere Informationen zur Veranstaltung sowie zur Anmeldung unter folgendem Link: Einladung Fachtag Digital vernetzt im Quartier 07.09.2023 (diakonie-baden.de)
URL:https://stage.allianz-fuer-beteiligung.de/afb-veranstaltung/3-fachtag-digital-vernetzt-im-quartier/
LOCATION:online | ZOOM\, Deutschland
ORGANIZER;CN="Diakonie Baden":MAILTO:kontakt@diakonie-baden.de
END:VEVENT
BEGIN:VEVENT
DTSTART;TZID=Europe/Berlin:20230711T093000
DTEND;TZID=Europe/Berlin:20230711T110000
DTSTAMP:20260423T153448
CREATED:20230607T070923Z
LAST-MODIFIED:20230607T070923Z
UID:10000302-1689067800-1689073200@stage.allianz-fuer-beteiligung.de
SUMMARY:Demenz im Quartier | Demenz sichtbar machen – Anregungen für die Öffentlichkeitsarbeit | 11.07.2023
DESCRIPTION:Demenz ist kein einfaches Thema. Wer nicht im persönlichen Umfeld betroffen ist oder sich Sorgen um die eigene Gesundheit macht\, wird sich ihm nicht ohne weiteres zuwenden und nur wenig darüber wissen wollen. Fehlendes Wissen bedeutet häufig auch fehlendes Verständnis. Um Menschen mit dem Thema Demenz vertraut zu machen\, bedarf es also besonderer Anstrengungen. Ideen und Anregungen sollen dazu  an diesem Tag mit Ihnen diskutiert und Raum für Austausch geboten werden. \nErfahren Sie von Sabine Fels\, Fachfrau für Öffentlichkeitsarbeit\, AGBW und Antje Wagner\, Koordinatorin im Projekt Demenz im Quartier am Standort Bohlsbach\, wie Sie mit guten Ideen dem Thema Demenz zu mehr Sichtbarkeit verhelfen können. \nBis zum 07.07.2023 können Sie sich unter folgendem Link für die Veranstaltung anmelden: Anmeldung – Demenz in Kommune und Quartier – Alzheimer Gesellschaft Baden-Württemberg e.V. (demenzundkommune-bw.de)
URL:https://stage.allianz-fuer-beteiligung.de/afb-veranstaltung/demenz-im-quartier-demenz-sichtbar-machen-anregungen-fuer-die-oeffentlichkeitsarbeit-11-07-2023/
LOCATION:online | ZOOM\, Deutschland
END:VEVENT
BEGIN:VEVENT
DTSTART;TZID=Europe/Berlin:20230628T190000
DTEND;TZID=Europe/Berlin:20230628T203000
DTSTAMP:20260423T153448
CREATED:20230524T073725Z
LAST-MODIFIED:20230524T073725Z
UID:10000292-1687978800-1687984200@stage.allianz-fuer-beteiligung.de
SUMMARY:Online: Wie die Wärmewende in Baden-Württemberg gelingt
DESCRIPTION:Die Wärmewende stellt die Städte und Gemeinden\, aber auch die Privathaushalte vor eine große Herausforderung. Wärmeenergie einzusparen und die Wärmeerzeugung von Kohle oder Gas auf erneuerbare Energien umzustellen\, geht uns alle an und fordert uns heraus. Gebäude müssen saniert\, Wärmenetze auf- und ausgebaut werden und neue „grüne“ Netze sollen oder müssen entstehen. Alle müssen einen oder ihren Beitrag leisten und dabei kann die Wärmepumpe nur ein Teil der Lösung sein. Kommunen\, Verwaltung\, Stadtwerke und natürlich auch die privaten Wohnungsbesitzer müssen sich dieser Aufgabe stellen. Die große Frage lautet ganz einfach: Wie kann der Wärmesektor klimaneutral umgestellt werden. Hören Sie den Fachvortrag\, stellen Sie Fragen und diskutieren Sie mit uns über das Thema: Wie die Wärmewende in Baden-Württemberg gelingen kann. \nReferentin: Birgit Schwegle\nSie ist Geschäftsführerin der Energieagentur Kreis Karlsruhe\nModeration: Friedhelm Werner\nBildungsleiter beim Bildungswerk für Kommunalpolitik BW e. V. \nDie Veranstaltung mit Zoom durchgeführt\, die Teilnahme ist kostenlos. Den Link erhalten Sie nach Ihrer Anmeldung rechtzeitig vor der Veranstaltung per E-Mail. \nWeitere Informationen zur Veranstaltung und Anmeldung finden Sie unter: https://bildungswerk-bw.de/events/waermewende-28-06-23/
URL:https://stage.allianz-fuer-beteiligung.de/afb-veranstaltung/online-wie-die-waermewende-in-baden-wuerttemberg-gelingt/
LOCATION:online | ZOOM\, Deutschland
ORGANIZER;CN="Bildungswerk f%C3%BCr Kommunalpolitik Baden-W%C3%BCrttemberg":MAILTO:kontakt@bildungswerk-bw.de
END:VEVENT
BEGIN:VEVENT
DTSTART;TZID=Europe/Berlin:20230622T190000
DTEND;TZID=Europe/Berlin:20230622T200000
DTSTAMP:20260423T153448
CREATED:20230531T121428Z
LAST-MODIFIED:20230531T135638Z
UID:10000293-1687460400-1687464000@stage.allianz-fuer-beteiligung.de
SUMMARY:Meet & Talk 2023 - Austausch für Engagierte und Ehrenamtliche
DESCRIPTION:Am 22. Juni 2023 geht es in eine neue Runde Meet&Talk. Diesmal wird es um das Thema „Partizipativ“ gehen. \nPartizipation im Ehrenamt ist von großer Bedeutung\, da sie die Einbindung und Mitwirkung der Engagierten ermöglicht. So können Ideen\, Fähigkeiten und Erfahrungen eingebracht werden und zu einer vielfältigeren und effektiveren Arbeit beitragen. In diesem Termin lädt Meet & Talk zu einem Austausch ein\, wie es aktuell um die die Partizipation steht und wie diese gestärkt werden kann. \nMeet&Talk bietet Ihnen ein gemeinsames Ankommen im virtuellen Raum\, eine offene Moderation und die Möglichkeit zum Austausch. Nach einer kurzen Begrüßungsrunde startet man in Gespräche mit- und untereinander. \nAlle Interessierten sind herzlich eingeladen! \nWeitere Informationen zur Veranstaltung sowie zur Buchung unter folgendem Link: Meet&Talk 2023 – Austausch für Engagierte und Ehrenamtliche – MEET CAMPUS | Raum für Dein Engagement (meet-campus.de)
URL:https://stage.allianz-fuer-beteiligung.de/afb-veranstaltung/meet-talk-2023-austausch-fuer-engagierte-und-ehrenamtliche/
LOCATION:online | ZOOM\, Deutschland
ORGANIZER;CN="Caritas-Konferenzen Deutschlands (CKD) Di%C3%B6zesenverband Rottenburg-Stuttgart e.V.":MAILTO:ckd-rs@caritas-dicvrs.de
END:VEVENT
BEGIN:VEVENT
DTSTART;TZID=Europe/Berlin:20230620T183000
DTEND;TZID=Europe/Berlin:20230620T203000
DTSTAMP:20260423T153448
CREATED:20230602T064707Z
LAST-MODIFIED:20230602T064707Z
UID:10000298-1687285800-1687293000@stage.allianz-fuer-beteiligung.de
SUMMARY:Heiße Sommer und Hundstage - Gefahren durch Hitze und was wir tun können
DESCRIPTION:Viele Menschen\, die in ihrer Mobilität eingeschränkt sind oder aufgrund ihrer physischen oder psychischen Verfasstheit oder ihrer Wohnsituation z. B. besonders unter der Hitze leiden\, sind dringend auf die Unterstützung von Menschen aus ihrem Umfeld angewiesen. Wie können wir uns vorbereiten und unsere Achtsamkeit in diesem Bereich erhöhen? \nWir wollen auf die Gefahren der Hitzetage hinweisen\, für die Gefahren der Überhitzung sensibilisieren\, über aktuelle Entwicklungen informieren und Wege aufzeigen\, wie ein Hitzebesuchsdienst aufgebaut werden kann. Begleitet wird die Veranstaltung von Nora Jordan-Weinberg\, der stellvertretenden Vorsitzenden des Landesseniorenbeirats BW\, und der Fachreferentin des CKD-Bundesverbandes für dieses Projekt\, Daniela Dohr. \nWeitere Informationen zur Veranstaltung sowie zur Anmeldung finden Sie unter folgendem Link: Heiße Sommer und Hundstage – Gefahren durch Hitze und was wir tun können – MEET CAMPUS | Raum für Dein Engagement (meet-campus.de) \nAnmeldeschluss bis 31.05.2023
URL:https://stage.allianz-fuer-beteiligung.de/afb-veranstaltung/heisse-sommer-und-hundstage-gefahren-durch-hitze-und-was-wir-tun-koennen/
LOCATION:online | ZOOM\, Deutschland
ORGANIZER;CN="Caritas-Konferenzen Deutschlands (CKD) Di%C3%B6zesenverband Rottenburg-Stuttgart e.V.":MAILTO:ckd-rs@caritas-dicvrs.de
END:VEVENT
BEGIN:VEVENT
DTSTART;TZID=Europe/Berlin:20230614T190000
DTEND;TZID=Europe/Berlin:20230614T203000
DTSTAMP:20260423T153448
CREATED:20230524T073640Z
LAST-MODIFIED:20230524T073640Z
UID:10000291-1686769200-1686774600@stage.allianz-fuer-beteiligung.de
SUMMARY:Online: Urheber- und Medienrecht: Fotos\, Texte und Bilder rechtssicher verwenden
DESCRIPTION:Vereine\, Parteien\, Unternehmen aber oft auch Privatpersonen sind auf Öffentlichkeitsarbeit angewiesen. Eine attraktive Homepage gehört schon lange zur Grundausstattung eines Vereins. Facebook und Instagram kommen hinzu und zeigen dann ihre ganz eigene Gesetzmäßigkeit. \nFotos mit Personen\, kurze Texte\, kleine Videos sind aus den sozialen Netzwerken nicht mehr wegzudenken. Bei der Verwendung von Fotos\, Texten\, Bildern\, Videos stellt sich schnell die Frage nach dem Urheberrecht und nach dem geistigen Eigentum Dritter. \nReferentin: Stefanie Brum\, Rechtsanwältin und Fachanwältin für Urheber und Medienrecht.\nMit ihrer right Anwaltskanzlei hat sie sich auf Medien- und Markenrecht spezialisiert. \nDie Veranstaltung mit Zoom durchgeführt\, die Teilnahme ist kostenlos. Den Link erhalten Sie nach Ihrer Anmeldung rechtzeitig vor der Veranstaltung per E-Mail. \nInformationen zur Veranstaltung und Anmeldung finden Sie unter: https://bildungswerk-bw.de/events/urheberrecht-14-06-23/#
URL:https://stage.allianz-fuer-beteiligung.de/afb-veranstaltung/online-urheber-und-medienrecht-fotos-texte-und-bilder-rechtssicher-verwenden/
LOCATION:online | ZOOM\, Deutschland
ORGANIZER;CN="Bildungswerk f%C3%BCr Kommunalpolitik Baden-W%C3%BCrttemberg":MAILTO:kontakt@bildungswerk-bw.de
END:VEVENT
BEGIN:VEVENT
DTSTART;TZID=Europe/Berlin:20230607T080000
DTEND;TZID=Europe/Berlin:20230607T170000
DTSTAMP:20260423T153448
CREATED:20230607T070923Z
LAST-MODIFIED:20230607T070923Z
UID:10000301-1686124800-1686157200@stage.allianz-fuer-beteiligung.de
SUMMARY:Demenz im Quartier | Demenz sichtbar machen – Anregungen für die Öffentlichkeitsarbeit | 11.07.2023
DESCRIPTION:Demenz ist kein einfaches Thema. Wer nicht im persönlichen Umfeld betroffen ist oder sich Sorgen um die eigene Gesundheit macht\, wird sich ihm nicht ohne weiteres zuwenden und nur wenig darüber wissen wollen. Fehlendes Wissen bedeutet häufig auch fehlendes Verständnis. Um Menschen mit dem Thema Demenz vertraut zu machen\, bedarf es also besonderer Anstrengungen. Ideen und Anregungen sollen dazu  an diesem Tag mit Ihnen diskutiert und Raum für Austausch geboten werden. \nErfahren Sie von Sabine Fels\, Fachfrau für Öffentlichkeitsarbeit\, AGBW und Antje Wagner\, Koordinatorin im Projekt Demenz im Quartier am Standort Bohlsbach\, wie Sie mit guten Ideen dem Thema Demenz zu mehr Sichtbarkeit verhelfen können. \nBis zum 07.07.2023 können Sie sich unter folgendem Link für die Veranstaltung anmelden: Anmeldung – Demenz in Kommune und Quartier – Alzheimer Gesellschaft Baden-Württemberg e.V. (demenzundkommune-bw.de)
URL:https://stage.allianz-fuer-beteiligung.de/afb-veranstaltung/demenz-im-quartier-demenz-sichtbar-machen-anregungen-fuer-die-oeffentlichkeitsarbeit-11-07-2023/
LOCATION:online | ZOOM\, Deutschland
END:VEVENT
BEGIN:VEVENT
DTSTART;TZID=Europe/Berlin:20230323T170000
DTEND;TZID=Europe/Berlin:20230323T190000
DTSTAMP:20260423T153448
CREATED:20221219T091850Z
LAST-MODIFIED:20221219T091850Z
UID:10000203-1679590800-1679598000@stage.allianz-fuer-beteiligung.de
SUMMARY:Green Cities 2035: Verkehrswende
DESCRIPTION:Hitze\, Dürren. Starkregen: Die Folgen des Klimawandels sind in unseren Städten und Gemeinden spürbar. Mit dem russischen Krieg gegen die Ukraine wird außerdem die Frage ganz dringend\, wie sich auch Kommunen aus der Abhängigkeit von fossilen Energieträgern befreien können. \nDie Kommunen haben wirksame Hebel\, um sowohl den Klimawandel noch einzudämmen als auch auf erneuerbare Energieversorgung umzustellen. Erste Städte in Deutschland haben beschlossen\, schon 2035 klimaneutral zu werden\, u.a. Wuppertal\, München\, Görlitz\, aber auch viele kleinere Städte und Gemeinden. Um diese Hebel in Bewegung zu setzen\, brauchen Kommunalpolitik und –verwaltung die Bürger*innen. Neue gesellschaftliche Allianzen sind notwendig\, um klimaschädliche Normalitäten zu durchbrechen und einer klimagerechten Lebensrealität zum Durchbuch zu verhelfen. \nDie Reihe geht der Frage nach\, wie die Politik vor Ort ambitionierte Klimapolitik machen kann\, die gleichzeitig attraktiv für breite Bevölkerungsschichten ist. \nWeitere Informationen und Anmeldung unter Green Cities 2035: Verkehrswende | Boell Calendar oder über die Ansprechperson Anke Bremer (Projektbearbeiterin Kommunalpolitik und Stadtentwicklung)\nE-Mail: bremer@boell.de\nTelefon: +49(0)30 285 34 – 240
URL:https://stage.allianz-fuer-beteiligung.de/afb-veranstaltung/green-cities-2035-verkehrswende/
LOCATION:online | ZOOM\, Deutschland
ORGANIZER;CN="Heinrich-B%C3%B6ll-Stiftung":MAILTO:info@boell.de
END:VEVENT
BEGIN:VEVENT
DTSTART;TZID=Europe/Berlin:20230119T150000
DTEND;TZID=Europe/Berlin:20230119T183000
DTSTAMP:20260423T153448
CREATED:20221125T102322Z
LAST-MODIFIED:20221125T102322Z
UID:10000193-1674140400-1674153000@stage.allianz-fuer-beteiligung.de
SUMMARY:Lokaler Klimaschutz – wie schaffen es Staat\, Wirtschaft und Zivilgesellschaft gemeinsam?
DESCRIPTION:Im Themenbereich des Klimaschutzes spielen intersektorale Schnittstellen eine besondere Rolle. Dies kann sowohl zur Umsetzung von Innovationen und nachhaltigen Mobilitäts- und Energiekonzepten der Fall sein\, als auch bei dem Versuch der Konfliktlösung z.B. in der Windenergie. Die Sektoren Staat\, Wirtschaft und Zivilgesellschaft stoßen dabei auf unterschiedliche gesellschaftliche Ansprüche. Wie lassen sich diese Ansprüche diskutieren\, gestalten und umsetzen? \nIm Rahmen der Veranstaltung „Lokaler Klimaschutz – wie schaffen es Staat\, Wirtschaft und Zivilgesellschaft gemeinsam?“ kommen Sie mit Akteuren aus den verschiedenen Sektoren ins Gespräch\, dabei werden intersektorale Dialogformate vorgestellt und über Chancen und Herausforderungen von intersektoralen Kooperationen reflektiert. \nMelden Sie sich bis zum 22. Dezember 2022 bitte bei Sara Ruggeri (sara.ruggeri@cas.dhbw.de) an.
URL:https://stage.allianz-fuer-beteiligung.de/afb-veranstaltung/lokaler-klimaschutz-wie-schaffen-es-staat-wirtschaft-und-zivilgesellschaft-gemeinsam/
LOCATION:online | ZOOM\, Deutschland
END:VEVENT
BEGIN:VEVENT
DTSTART;TZID=Europe/Berlin:20221115T170000
DTEND;TZID=Europe/Berlin:20221115T190000
DTSTAMP:20260423T153448
CREATED:20221012T141934Z
LAST-MODIFIED:20221019T142139Z
UID:10000190-1668531600-1668538800@stage.allianz-fuer-beteiligung.de
SUMMARY:Verständlich kommunizieren – für alle! Eine Einführung in das Thema Einfache Sprache
DESCRIPTION:Kommunikation ist alles. Doch viele Texte schließen allein schon aufgrund der schweren Verständlichkeit eine Vielzahl an Menschen aus. Gerade im Bereich der Bürgerbeteiligung lohnt sich daher eine möglichst klare und verständliche Kommunikation. In einem Einstiegsseminar gibt die Referentin Krishna-Sara Helmle einen ersten Überblick über das Thema Einfache Sprache. Die Teilnehmenden haben die Gelegenheit\, die Regeln der Einfachen Sprache und praxisnahe Anwendungsbeispiele in einer lockeren Atmosphäre kennenzulernen. Die Veranstaltung eignet sich damit auch für Einsteiger in das Thema. \nFür Fortgeschrittene bietet sich folgender Anschluss-Workshop zum Thema am 29. November (16-19 Uhr) an.
URL:https://stage.allianz-fuer-beteiligung.de/afb-veranstaltung/verstaendlich-kommunizieren-fuer-alle-eine-einfuehrung-in-das-thema-einfache-sprache/
LOCATION:online | ZOOM\, Deutschland
ATTACH;FMTTYPE=image/png:https://stage.allianz-fuer-beteiligung.de/wp-content/uploads/2021/03/AfB_BB-Logo-4C.png
END:VEVENT
BEGIN:VEVENT
DTSTART;TZID=Europe/Berlin:20221025T180000
DTEND;TZID=Europe/Berlin:20221025T200000
DTSTAMP:20260423T153448
CREATED:20220926T111638Z
LAST-MODIFIED:20221025T101314Z
UID:10000188-1666720800-1666728000@stage.allianz-fuer-beteiligung.de
SUMMARY:Kommunikation im Engagement - was braucht es?
DESCRIPTION:Kommunikation im Engagement – was braucht es?\n25.10.2022 || 18:00 – 20:00 Uhr\nDigital in ZOOM \nReferent*innen: Luisa Blendinger und Katrin Gildner von erzähl davon. \nMit erzähl davon möchten Luisa und Katrin\, Vereinen\, Hochschulgruppen und sozialen Initiativen helfen\, ihre Vision erfolgreich umzusetzen – mit einer guten Kommunikation. \nWir können nicht nicht kommunizieren. Diesen Satz haben Sie bestimmt auch schon gehört. In unserem Workshop gehen wir der Frage nach\, was es braucht\, damit diese stetige Kommunikation in Ihrem Engagment auch gelingen kann. In 2 Stunden lernen Sie Methoden kennen\, die Ihrer Arbeitsgruppe\, Ihrem Projekt oder Ihrem Verein helfen können\, Kommunikation zu strukturieren. Nach innen – also in Ihre Gruppe hinein und nach außen – also zu Ihren Zielgruppen hinaus. Im Workshop bekommen Sie die Gelegenheit die Methoden auch auszuprobieren. \nBei Interesse haben Sie direkt im Anschluss an den Workshop die Möglichkeit einen Schwerpunkt zum Thema Kommunikation festzulegen. Zu diesem Schwerpunkt werden wir dann gemeinsam im Rahmen des Bildungskoffers der Allianz für Beteiligung ein aufbauendes Bildungsangebot planen und umsetzen.  \nHabe Sie Fragen zum Workshop oder zu unserem Bildungskoffer? Melden Sie sich gerne bei \nAndrea Schätzle\nandrea.schaetzle@afb-bw.de\n0711 3422 5605 \nNach Anmeldung erhalten Sie eine automatisch generierte Bestätigungsmail. Bitte schauen Sie auch in Ihrem SPAM Ordner nach. Vielen Dank.
URL:https://stage.allianz-fuer-beteiligung.de/afb-veranstaltung/kommunikation-im-engagement-was-braucht-es/
LOCATION:online | ZOOM\, Deutschland
ATTACH;FMTTYPE=image/png:https://stage.allianz-fuer-beteiligung.de/wp-content/uploads/2022/09/Koffer_quatratisch.png
END:VEVENT
END:VCALENDAR