BEGIN:VCALENDAR
VERSION:2.0
PRODID:-//Allianz für Beteiligung - ECPv6.15.18//NONSGML v1.0//EN
CALSCALE:GREGORIAN
METHOD:PUBLISH
X-WR-CALNAME:Allianz für Beteiligung
X-ORIGINAL-URL:https://stage.allianz-fuer-beteiligung.de
X-WR-CALDESC:Veranstaltungen für Allianz für Beteiligung
REFRESH-INTERVAL;VALUE=DURATION:PT1H
X-Robots-Tag:noindex
X-PUBLISHED-TTL:PT1H
BEGIN:VTIMEZONE
TZID:Europe/Berlin
BEGIN:DAYLIGHT
TZOFFSETFROM:+0100
TZOFFSETTO:+0200
TZNAME:CEST
DTSTART:20220327T010000
END:DAYLIGHT
BEGIN:STANDARD
TZOFFSETFROM:+0200
TZOFFSETTO:+0100
TZNAME:CET
DTSTART:20221030T010000
END:STANDARD
BEGIN:DAYLIGHT
TZOFFSETFROM:+0100
TZOFFSETTO:+0200
TZNAME:CEST
DTSTART:20230326T010000
END:DAYLIGHT
BEGIN:STANDARD
TZOFFSETFROM:+0200
TZOFFSETTO:+0100
TZNAME:CET
DTSTART:20231029T010000
END:STANDARD
BEGIN:DAYLIGHT
TZOFFSETFROM:+0100
TZOFFSETTO:+0200
TZNAME:CEST
DTSTART:20240331T010000
END:DAYLIGHT
BEGIN:STANDARD
TZOFFSETFROM:+0200
TZOFFSETTO:+0100
TZNAME:CET
DTSTART:20241027T010000
END:STANDARD
END:VTIMEZONE
BEGIN:VEVENT
DTSTART;TZID=Europe/Berlin:20231025T093000
DTEND;TZID=Europe/Berlin:20231025T143000
DTSTAMP:20260420T152145
CREATED:20231002T085734Z
LAST-MODIFIED:20231002T085734Z
UID:10000340-1698226200-1698244200@stage.allianz-fuer-beteiligung.de
SUMMARY:Regionalkonferenz Ostalbkreis
DESCRIPTION:Der Ostalbkreis und das Ministerium für Soziales\, Gesundheit und Integration laden am 25. Oktober 2023 von 09:30 bis 14:30 Uhr zur Regionalkonferenz „Quartier 2030“ in das Kreishaus in Aalen ein. Unter dem Motto „Sorgende Gemeinschaften\, lebendige Quartiere – was uns alle angeht\, können wir nur gemeinsam lösen!“ sind Städte und Gemeinden\, Ortschafts- und Gemeinderäte\, Kirchen\, Vereine und weitere zivilgesellschaftliche Akteure sowie interessierte Bürgerinnen und Bürger aus dem Ostalbkreis sowie angrenzender Kommunen eingeladen\, sich über eine beteiligungsorientierte und generationengerechte Entwicklung ihrer Ortschaften und Stadtteile auszutauschen und neue Impulse zur Gemeinde- und Quartiersentwicklung aufzugreifen. \nDie Regionalkonferenz zeigt konkrete Handlungsmöglichkeiten auf\, wie der Einstieg in die Quartiersentwicklung gelingen kann\, wie die örtlichen Gemeinschaften durch Nachbarschaftsnetzwerke gestärkt werden können\, wie Mitgestaltungsmöglichkeiten für Kinder und Jugendliche etabliert werden können und wie die (Wohn-)Angebote für ältere Menschen gestaltet sein müssen\, um ein aktives und selbstbestimmtes Älterwerden in Gemeinschaft zu ermöglichen. Darüber hinaus möchte die Regionalkonferenz dafür werben\, die einschlägigen Förderprogramme sowie Beratungs- und Qualifizierungsangebote der Landesstrategie „Quartier 2030 – Gemeinsam.Gestalten.“ vor Ort zu nutzen. Hierzu stehen Ihnen die zuständigen Ansprechpersonen für Ihre Fragen zur Verfügung. \nWeiter Informationen\, Programm und Anmeldung
URL:https://stage.allianz-fuer-beteiligung.de/afb-veranstaltung/regionalkonferenz-ostalbkreis/
LOCATION:Kreishaus Aalen\, Stuttgarter Str. 41\, Aalen\, 73430
END:VEVENT
END:VCALENDAR