BEGIN:VCALENDAR
VERSION:2.0
PRODID:-//Allianz für Beteiligung - ECPv6.15.18//NONSGML v1.0//EN
CALSCALE:GREGORIAN
METHOD:PUBLISH
X-WR-CALNAME:Allianz für Beteiligung
X-ORIGINAL-URL:https://stage.allianz-fuer-beteiligung.de
X-WR-CALDESC:Veranstaltungen für Allianz für Beteiligung
REFRESH-INTERVAL;VALUE=DURATION:PT1H
X-Robots-Tag:noindex
X-PUBLISHED-TTL:PT1H
BEGIN:VTIMEZONE
TZID:Europe/Berlin
BEGIN:DAYLIGHT
TZOFFSETFROM:+0100
TZOFFSETTO:+0200
TZNAME:CEST
DTSTART:20220327T010000
END:DAYLIGHT
BEGIN:STANDARD
TZOFFSETFROM:+0200
TZOFFSETTO:+0100
TZNAME:CET
DTSTART:20221030T010000
END:STANDARD
BEGIN:DAYLIGHT
TZOFFSETFROM:+0100
TZOFFSETTO:+0200
TZNAME:CEST
DTSTART:20230326T010000
END:DAYLIGHT
BEGIN:STANDARD
TZOFFSETFROM:+0200
TZOFFSETTO:+0100
TZNAME:CET
DTSTART:20231029T010000
END:STANDARD
BEGIN:DAYLIGHT
TZOFFSETFROM:+0100
TZOFFSETTO:+0200
TZNAME:CEST
DTSTART:20240331T010000
END:DAYLIGHT
BEGIN:STANDARD
TZOFFSETFROM:+0200
TZOFFSETTO:+0100
TZNAME:CET
DTSTART:20241027T010000
END:STANDARD
END:VTIMEZONE
BEGIN:VEVENT
DTSTART;TZID=Europe/Berlin:20230325T000000
DTEND;TZID=Europe/Berlin:20230325T000000
DTSTAMP:20260420T103752
CREATED:20230213T131659Z
LAST-MODIFIED:20230221T094504Z
UID:10000148-1679702400-1679702400@stage.allianz-fuer-beteiligung.de
SUMMARY:Partizipation und Entscheidungsfindung
DESCRIPTION:Welche Formen von Partizipation gibt es? Welche Voraussetzungen benötigen partizipative Ansätze? Und warum spielt die Entscheidungsfindung dabei eine so wichtige Rolle? In diesem Workshop geht es um das Kennenlernen der wichtigsten Zutaten für eine gelungene Partizipation\, damit diese gezielt an die Bedürfnisse der jeweiligen Organisation angepasst werden können. \nReferent: Adrian Sina Vollmer\nPromotor: Jonas Bauschert \nEine Anmeldung zur Veranstaltung ist per E-Mail über Jonas Bauschert möglich. \nWeitere Praxisworkshops für zivilgesellschaftliche Akteure aus den Bereichen Eine Welt und Nachhaltigkeit sowie zusätzliche Informationen finden Sie hier oder im Flyer.
URL:https://stage.allianz-fuer-beteiligung.de/afb-veranstaltung/partizipation-und-entscheidungsfindung/
LOCATION:Freiburg\, Deutschland
ORGANIZER;CN="Dachverband Entwicklungspolitik Baden-W%C3%BCrttemberg e.V.":MAILTO:info@deab.de
END:VEVENT
END:VCALENDAR