BEGIN:VCALENDAR
VERSION:2.0
PRODID:-//Allianz für Beteiligung - ECPv6.15.18//NONSGML v1.0//EN
CALSCALE:GREGORIAN
METHOD:PUBLISH
X-ORIGINAL-URL:https://stage.allianz-fuer-beteiligung.de
X-WR-CALDESC:Veranstaltungen für Allianz für Beteiligung
REFRESH-INTERVAL;VALUE=DURATION:PT1H
X-Robots-Tag:noindex
X-PUBLISHED-TTL:PT1H
BEGIN:VTIMEZONE
TZID:Europe/Berlin
BEGIN:DAYLIGHT
TZOFFSETFROM:+0100
TZOFFSETTO:+0200
TZNAME:CEST
DTSTART:20220327T010000
END:DAYLIGHT
BEGIN:STANDARD
TZOFFSETFROM:+0200
TZOFFSETTO:+0100
TZNAME:CET
DTSTART:20221030T010000
END:STANDARD
BEGIN:DAYLIGHT
TZOFFSETFROM:+0100
TZOFFSETTO:+0200
TZNAME:CEST
DTSTART:20230326T010000
END:DAYLIGHT
BEGIN:STANDARD
TZOFFSETFROM:+0200
TZOFFSETTO:+0100
TZNAME:CET
DTSTART:20231029T010000
END:STANDARD
BEGIN:DAYLIGHT
TZOFFSETFROM:+0100
TZOFFSETTO:+0200
TZNAME:CEST
DTSTART:20240331T010000
END:DAYLIGHT
BEGIN:STANDARD
TZOFFSETFROM:+0200
TZOFFSETTO:+0100
TZNAME:CET
DTSTART:20241027T010000
END:STANDARD
END:VTIMEZONE
BEGIN:VEVENT
DTSTART;TZID=Europe/Berlin:20231107T000000
DTEND;TZID=Europe/Berlin:20231107T235959
DTSTAMP:20260424T133343
CREATED:20230929T093629Z
LAST-MODIFIED:20231017T083358Z
UID:10000339-1699315200-1699401599@stage.allianz-fuer-beteiligung.de
SUMMARY:Fachtagung: Für Menschen im Alter – Quartiersentwicklung und Pflege-Wohngemeinschaften im ländlichen Raum
DESCRIPTION:Unsere Gesellschaft altert\, der demographische Wandel ist in vollem Gange. Was kommt auf die Kommunen und den ländlichen Raum zu? Wie können ländliche Regionen die Infrastruktur an die Bedarfe des wachsenden Anteils älterer Personen anpassen? Welche Strategien gibt es hierzu bereits? \nSelbstbestimmt und in größtmöglicher Selbständigkeit in der vertrauten Umgebung alt werden und am Leben in der Gemeinde aktiv teilhaben zu können entspricht den Wünschen vieler Menschen auch bei zunehmender Pflegebedürftigkeit. Eine altersgerechte Quartiersentwicklung und wohnortnah bestehende Pflegewohngemeinschaften können dazu beitragen. Weitere Informationen zum Fachtag finden Sie hier. \nExpertinnen und Experten aus Wissenschaft und Praxis zeigen die Potenziale der altersgerechten Gestaltung der Infrastruktur vor Ort und der Entwicklung von Pflege-Wohngemeinschaften im ländlichen Raum auf und stellen Projekte vor. \nDie vom Ministerium für Soziales\, Gesundheit und Integration Baden-Württemberg und der FaWo veranstalteten Fachtagung bietet zudem Raum und Gelegenheit zum Austausch. \nWeitere Informationen zum Fachtag unter folgendem Link: Anmeldung Fachtagung 7. November 2023 – 23-2-FaWo1-1 \nDie Teilnahme an der Veranstaltung ist kostenfrei.
URL:https://stage.allianz-fuer-beteiligung.de/afb-veranstaltung/fachtagung-fuer-menschen-im-alter-quartiersentwicklung-und-pflege-wohngemeinschaften-im-laendlichen-raum/
LOCATION:Evangelisches Bildungszentrum Hospitalhof Stuttgart\, Büchsenstraße 33\, Stuttgart\, 70174\, Deutschland
END:VEVENT
BEGIN:VEVENT
DTSTART;TZID=Europe/Berlin:20230713T090000
DTEND;TZID=Europe/Berlin:20230713T170000
DTSTAMP:20260424T133343
CREATED:20230315T140516Z
LAST-MODIFIED:20230315T140516Z
UID:10000240-1689238800-1689267600@stage.allianz-fuer-beteiligung.de
SUMMARY:Kollegiales Coaching – Bürger*innenbeteiligung - Weiterbildungsimpulse
DESCRIPTION:Für Moderator:innen\, Bildungsreferent:innen\, Fachkräfte für Bürgerschaftliches Engagement\, ehrenamtlich Engagierte in Kommunen\, politische Akteure sowie Freiberufler:innen.\nFür alle\, die Beteiligungsprozesse in Kommunen\, Kirchen und Zivilgesellschaft organisieren oder moderieren.\n\nDas halbjährliche Netzwerktreffen „Kollegiales Coaching Bürger:innen- und Jugend­beteiligung“ besteht seit 2014 – bisher in der ev. Akademie Bad Boll. Durch den Wechsel der Trägerorganisation ist es notwendig\, eine neue Adressliste mit den potenziellen Interessierten aufzubauen. \nWollen Sie in den Einladungsverteiler für das „Kollegiale Coaching Bürger:innen­beteiligung“ aufgenommen werden? Dann folgen Sie bitte diesem Link und füllen das dort befindliche Formular aus. \nMehr Information zum Kollegialen Coaching Bürger:innen­beteiligung … \nVeranstalter: Generationen. Dialog. Zukunft. e. V. und Dynamic Facilitation e. V.\nArt: Präsenztreffen\nOrt: Hospitalhof Stuttgart \nWeitere Informationen und Anmeldung. \nSie interessieren sich für Themen der kommunalen Entwicklung\, der Bürger*innen­beteiligung oder für Quartiersentwicklung und möchten gerne neue Einblicke oder frische Impulse für ihre eigene Arbeit bekommen? \nDer G.D.Z. e. V. hat langjährige Erfahrungen mit der Entwicklung in Quartieren und Kommunen – als Prozessbegleitung\, als kommunale Mitarbeiter*innen und als Engagierte im eigenen Quartier. In den Veranstaltungen wird die Fach- und Vernetzungskompetenz gerne zur Verfügung gestellt\, um Mut zu machen und Ideen weiterzuentwickeln. \nAlle Online-Angebote sind kostenfrei.
URL:https://stage.allianz-fuer-beteiligung.de/afb-veranstaltung/kollegiales-coaching-buergerinnenbeteiligung-weiterbildungsimpulse/
LOCATION:Evangelisches Bildungszentrum Hospitalhof Stuttgart\, Büchsenstraße 33\, Stuttgart\, 70174\, Deutschland
END:VEVENT
BEGIN:VEVENT
DTSTART;TZID=Europe/Berlin:20230704T100000
DTEND;TZID=Europe/Berlin:20230704T163000
DTSTAMP:20260424T133343
CREATED:20230606T083039Z
LAST-MODIFIED:20230606T083039Z
UID:10000299-1688464800-1688488200@stage.allianz-fuer-beteiligung.de
SUMMARY:Quartier 2030 - 6. Landesfachtag Quartiersentwicklung
DESCRIPTION:Beim 6. Fach- und Vernetzungstag haben Sie die Gelegenheit\, sich aktiv mit Ihren Kolleginnen und Kollegen aus Baden-Württemberg auszutauschen und zu vernetzen. In innovativen Impulsräumen gehen wir Ihren Fragestellungen und Anliegen nach\, die Sie uns nach dem digitalen Fachtag am 4. Mai 2023 genannt haben und suchen gemeinsam nach Lösungswegen. \nDes Weiteren wird Minister Manne Lucha neue Entwicklungen der Landesstrategie vorstellen und es erwartet Sie eine spannende Keynote zum Thema „Intersektorale Vernetzung“. Ein großes Quartiersforum mit zahlreichen kommunal- und quartiersbezogenen Informations-\, Förder- und Beratungsangeboten verschiedener Ministerien und Partnerinstitutionen bereichert diesen Tag. \nWeitere Informationen zur Veranstaltung\, zum Programmablauf und zur Anmeldung finden Sie unter folgendem Link: QUARTIER 2030 | Zusammenleben Gemeinsam Gestalten – Veranstaltungen (quartier2030-bw.de) \nAnmeldeschluss ist der 23. Juni 2023. Die Teilnahme ist kostenfrei. \nVeranstaltet wird der Landesfachtag durch das Ministerium für Soziales\, Gesundheit und Integration\, sowie die FamilienForschung BW
URL:https://stage.allianz-fuer-beteiligung.de/afb-veranstaltung/quartier-2030-6-landesfachtag-quartiersentwicklung/
LOCATION:Evangelisches Bildungszentrum Hospitalhof Stuttgart\, Büchsenstraße 33\, Stuttgart\, 70174\, Deutschland
END:VEVENT
BEGIN:VEVENT
DTSTART;TZID=Europe/Berlin:20230617T100000
DTEND;TZID=Europe/Berlin:20230617T170000
DTSTAMP:20260424T133343
CREATED:20230524T073143Z
LAST-MODIFIED:20230524T073143Z
UID:10000288-1686996000-1687021200@stage.allianz-fuer-beteiligung.de
SUMMARY:Workshop: Botschaften mit Herz und Verstand - Storytelling in der politischen Kommunikation
DESCRIPTION:Wenn Sie sich um ein politisches Mandat bewerben möchten\, müssen Sie zunächst Ihre Parteifreund*innen und später die Wählerinnen und Wähler überzeugen. Dafür zählen nicht alleine Inhalte und Programm\, sondern auch Ihre Persönlichkeit und Ihre Perspektive. Idealerweise bringen Sie in Ihrer Kommunikation Ihre politischen Ziele und Überzeugungen mit Ihrer persönlichen Geschichte in Einklang. Hierfür bietet sich Storytelling an. \nStorytelling ist eine Methode\, um Botschaften anschaulich und eindrücklich zu vermitteln und damit nicht nur den Kopf der Menschen anzusprechen\, sondern auch ihr Herz zu berühren. Geschichten prägen sich besser ein als nüchtern präsentierte Informationen. Im besten Fall werden sie sogar weitererzählt. Übrigens: Ihre Geschichten müssen sich nicht unbedingt um Ihre eigene Biografie drehen\, sie können auch von anderen Menschen handeln. Hauptsache\, das Kino im Kopf kommt in Gang – und zeigt die Bilder\, die Ihre Botschaft unterstützen. \nIn diesem Workshop lernen Sie\, wie Storytelling funktioniert. Sie analysieren Beispiele und üben anhand eigener Texte\, das Prinzip in die Praxis umzusetzen. \nInformationen zur Veranstaltung und Anmeldung finden Sie unter: https://calendar.boell.de/de/event/botschaften-mit-herz-und-verstand
URL:https://stage.allianz-fuer-beteiligung.de/afb-veranstaltung/workshop-botschaften-mit-herz-und-verstand-storytelling-in-der-politischen-kommunikation/
LOCATION:Evangelisches Bildungszentrum Hospitalhof Stuttgart\, Büchsenstraße 33\, Stuttgart\, 70174\, Deutschland
ORGANIZER;CN="Heinrich-B%C3%B6ll-Stiftung":MAILTO:info@boell.de
END:VEVENT
END:VCALENDAR