BEGIN:VCALENDAR
VERSION:2.0
PRODID:-//Allianz für Beteiligung - ECPv6.15.18//NONSGML v1.0//EN
CALSCALE:GREGORIAN
METHOD:PUBLISH
X-WR-CALNAME:Allianz für Beteiligung
X-ORIGINAL-URL:https://stage.allianz-fuer-beteiligung.de
X-WR-CALDESC:Veranstaltungen für Allianz für Beteiligung
REFRESH-INTERVAL;VALUE=DURATION:PT1H
X-Robots-Tag:noindex
X-PUBLISHED-TTL:PT1H
BEGIN:VTIMEZONE
TZID:Europe/Berlin
BEGIN:DAYLIGHT
TZOFFSETFROM:+0100
TZOFFSETTO:+0200
TZNAME:CEST
DTSTART:20230326T010000
END:DAYLIGHT
BEGIN:STANDARD
TZOFFSETFROM:+0200
TZOFFSETTO:+0100
TZNAME:CET
DTSTART:20231029T010000
END:STANDARD
BEGIN:DAYLIGHT
TZOFFSETFROM:+0100
TZOFFSETTO:+0200
TZNAME:CEST
DTSTART:20240331T010000
END:DAYLIGHT
BEGIN:STANDARD
TZOFFSETFROM:+0200
TZOFFSETTO:+0100
TZNAME:CET
DTSTART:20241027T010000
END:STANDARD
BEGIN:DAYLIGHT
TZOFFSETFROM:+0100
TZOFFSETTO:+0200
TZNAME:CEST
DTSTART:20250330T010000
END:DAYLIGHT
BEGIN:STANDARD
TZOFFSETFROM:+0200
TZOFFSETTO:+0100
TZNAME:CET
DTSTART:20251026T010000
END:STANDARD
END:VTIMEZONE
BEGIN:VEVENT
DTSTART;TZID=Europe/Berlin:20240513T000000
DTEND;TZID=Europe/Berlin:20240514T235959
DTSTAMP:20260420T152246
CREATED:20240214T101126Z
LAST-MODIFIED:20240425T080709Z
UID:10000401-1715558400-1715731199@stage.allianz-fuer-beteiligung.de
SUMMARY:Beteiligungsverfahren im Quartier 2024 - Generationenübergreifend planen und gestalten
DESCRIPTION:Die Quartiersentwicklung steht vor der Herausforderung\, verschiedene Personengruppen\, darunter ältere Menschen\, Jugendliche und Menschen mit Migrationshintergrund\, angemessen zu berücksichtigen. In diesem Kontext ist es von großer Bedeutung\, neue Formen der Beteiligung zu etablieren\, die den individuellen Bedürfnissen dieser Zielgruppen gerecht werden. Lebendige Nachbarschaften\, in denen die Menschen aktiv an der Entwicklung teilhaben können\, sind dabei für alle Generationen von großem Gewinn. \nThemen der Veranstaltung: \n\nGewinnung verschiedener Generationen für Engagement im Quartier\, von den Babyboomern über die Generation X bis zur Generation Z.\nErkennen und Nutzen der Stärken unterschiedlicher Generationen als Ressource.\nGelingensfaktoren für niederschwellige aufsuchende Beteiligung.\nFörderung von Haltungen\, die eine langfristige Zusammenarbeit durch glaubwürdige Beteiligung und Anerkennungskultur unterstützen.\nDarstellung der Organisation eines Beteiligungsprozesses von der Planung über die Kommunikation bis zur Rückkopplung der Ergebnisse an Stadtverwaltungen mithilfe geeigneter Methoden.\nKennenlernen verschiedener Beteiligungsmethoden für eine milieuspezifische Quartiers- und Nachbarschaftsarbeit.\n„Blended Participation“: Kombination von Online-Beteiligungsangeboten mit Face-to-Face-Participation als synergetische Methode des Miteinanders im abgestimmten Prozess.\n\nDie Veranstaltung bietet die Gelegenheit\, gemeinsam Lösungsansätze zu entwickeln und den Quartiersentwicklungsprozess aktiv mitzugestalten. Durch die Zusammenführung verschiedener Perspektiven\, die Identifikation von Stärken und die Nutzung von Synergien möchten wir eine lebendige und inklusive Quartiersentwicklung fördern. \nMehr Informationen zur Anmeldung und zum genauen Ablauf finden Sie hier.
URL:https://stage.allianz-fuer-beteiligung.de/afb-veranstaltung/beteiligungsverfahren-im-quartier-2024-generationenuebergreifend-planen-und-gestalten/
LOCATION:Bildungshaus Diakonie\, Vorholzstraße 7\, Stuttgart\, Baden-Württemberg\, 76137\, Deutschland
ORGANIZER;CN="Diakonie Baden":MAILTO:kontakt@diakonie-baden.de
END:VEVENT
END:VCALENDAR