BEGIN:VCALENDAR
VERSION:2.0
PRODID:-//Allianz für Beteiligung - ECPv6.15.18//NONSGML v1.0//EN
CALSCALE:GREGORIAN
METHOD:PUBLISH
X-ORIGINAL-URL:https://stage.allianz-fuer-beteiligung.de
X-WR-CALDESC:Veranstaltungen für Allianz für Beteiligung
REFRESH-INTERVAL;VALUE=DURATION:PT1H
X-Robots-Tag:noindex
X-PUBLISHED-TTL:PT1H
BEGIN:VTIMEZONE
TZID:Europe/Berlin
BEGIN:DAYLIGHT
TZOFFSETFROM:+0100
TZOFFSETTO:+0200
TZNAME:CEST
DTSTART:20230326T010000
END:DAYLIGHT
BEGIN:STANDARD
TZOFFSETFROM:+0200
TZOFFSETTO:+0100
TZNAME:CET
DTSTART:20231029T010000
END:STANDARD
BEGIN:DAYLIGHT
TZOFFSETFROM:+0100
TZOFFSETTO:+0200
TZNAME:CEST
DTSTART:20240331T010000
END:DAYLIGHT
BEGIN:STANDARD
TZOFFSETFROM:+0200
TZOFFSETTO:+0100
TZNAME:CET
DTSTART:20241027T010000
END:STANDARD
BEGIN:DAYLIGHT
TZOFFSETFROM:+0100
TZOFFSETTO:+0200
TZNAME:CEST
DTSTART:20250330T010000
END:DAYLIGHT
BEGIN:STANDARD
TZOFFSETFROM:+0200
TZOFFSETTO:+0100
TZNAME:CET
DTSTART:20251026T010000
END:STANDARD
END:VTIMEZONE
BEGIN:VEVENT
DTSTART;TZID=Europe/Berlin:20240420T103000
DTEND;TZID=Europe/Berlin:20240420T160000
DTSTAMP:20260421T185817
CREATED:20240418T114910Z
LAST-MODIFIED:20240418T114910Z
UID:10000452-1713609000-1713628800@stage.allianz-fuer-beteiligung.de
SUMMARY:ZIMT macht stark
DESCRIPTION:Suchst Du den Austausch mit Gleichgesinnten? Brauchst Du Unterstützung\, um Deine Ideen für die Mobilitätswende vor Ort umzusetzen? \nDann sei dabei\, wenn zimt in Geislingen zum ersten Aktions-Workshop für Initiativen zusammenkommt! \nIm Workshop wollen wir klären\, wie zimt Euch in den einzelnen Initiativen unterstützen kann\, damit Ihr weiter engagiert und motiviert bleibt. Gemeinsam können wir Herausforderungen besser verstehen und daran wachsen\, indem wir uns gegenseitig zuhören und beraten. \nNutzt die Chance\, zusammen mit uns Kernaufgaben zu identifizieren und die nächsten Schritte zu planen! \nDie Veranstaltung ist kostenfrei! Für die Verpflegung (vegan / vegetarisch) ist gesorgt. \nUnser Programm: \n10:30 Begrüßung \n10:45 Einsteigen: \nWo steht Ihr? \nWas motiviert Euch? \nWas braucht Ihr? \n12: 15 Abholen \nWas hat sich bei zimt getan? \n12:45 Mittagessen (vegan / vegetarisch) \n14:00 Andocken \nWo kann das Netzwerk zimt Euch konkret einen Mehrwert bieten? \nWer und was wird dafür gebraucht? \n15:15 Vereinbarungen\nWelche Maßnahmen und Aktivitäten gehen wir an? \n16:00 Schluss \nWeitere Informationen und die Anmeldung findet ihr unter zimt Workshop für Mobilitätsinitiativen am 20.04.24 in Geislingen an der Steige – BWIM (bw-im.de)
URL:https://stage.allianz-fuer-beteiligung.de/afb-veranstaltung/zimt-macht-stark/
LOCATION:Geislingen\, Bahnhofstraße 62\, Gebäude BA 62\, Raum 201\, Geislingen an der Steige\, 73312\, Deutschland
END:VEVENT
END:VCALENDAR