BEGIN:VCALENDAR
VERSION:2.0
PRODID:-//Allianz für Beteiligung - ECPv6.15.18//NONSGML v1.0//EN
CALSCALE:GREGORIAN
METHOD:PUBLISH
X-ORIGINAL-URL:https://stage.allianz-fuer-beteiligung.de
X-WR-CALDESC:Veranstaltungen für Allianz für Beteiligung
REFRESH-INTERVAL;VALUE=DURATION:PT1H
X-Robots-Tag:noindex
X-PUBLISHED-TTL:PT1H
BEGIN:VTIMEZONE
TZID:Europe/Berlin
BEGIN:DAYLIGHT
TZOFFSETFROM:+0100
TZOFFSETTO:+0200
TZNAME:CEST
DTSTART:20240331T010000
END:DAYLIGHT
BEGIN:STANDARD
TZOFFSETFROM:+0200
TZOFFSETTO:+0100
TZNAME:CET
DTSTART:20241027T010000
END:STANDARD
BEGIN:DAYLIGHT
TZOFFSETFROM:+0100
TZOFFSETTO:+0200
TZNAME:CEST
DTSTART:20250330T010000
END:DAYLIGHT
BEGIN:STANDARD
TZOFFSETFROM:+0200
TZOFFSETTO:+0100
TZNAME:CET
DTSTART:20251026T010000
END:STANDARD
BEGIN:DAYLIGHT
TZOFFSETFROM:+0100
TZOFFSETTO:+0200
TZNAME:CEST
DTSTART:20260329T010000
END:DAYLIGHT
BEGIN:STANDARD
TZOFFSETFROM:+0200
TZOFFSETTO:+0100
TZNAME:CET
DTSTART:20261025T010000
END:STANDARD
END:VTIMEZONE
BEGIN:VEVENT
DTSTART;TZID=Europe/Berlin:20250210T140000
DTEND;TZID=Europe/Berlin:20250210T203000
DTSTAMP:20260420T115753
CREATED:20241212T103353Z
LAST-MODIFIED:20241212T103353Z
UID:10000563-1739196000-1739219400@stage.allianz-fuer-beteiligung.de
SUMMARY:Verfassungsresilienz - Grundgesetz und Demokratie vor ihren Feinden schützen
DESCRIPTION:Ist unser Grundgesetz stabil und auch in Zukunft wetterfest gegen Feinde der Demokratie\naufgestellt? Im Jahr 2017 hat das Bundesverfassungsgericht ein Verbot der rechtsextremen\nNPD abgelehnt\, weil es keine Anhaltspunkte für eine erfolgreiche Durchsetzung der\nverfassungsfeindlichen Ziele der Partei gebe. Wann aber ist eine extremistische Partei\n„erfolgreich“ genug\, um verboten werden zu können? Wenn sie in Parlamenten die stärkste\nFraktion stellt? Oder erst\, wenn sie (mit-)regiert? Darüber hinaus: Wie resilient ist das\nBundesverfassungsgericht? Seine Unabhängigkeit und Funktionsfähigkeit sollen im\nGrundgesetz abgesichert werden. Und nicht zuletzt: In welchem Kontext stehen diese Fragen\nin unserem Mehrebenensystem von Ländern\, Bund und Europäischer Union? Die Tagung geht\nunter anderem diesen Fragen nach. Abgeschlossen wird sie mit einem Podiumsgespräch\, bei\ndem auch Marion Gentges MdL\, die Justizministerin des Landes\, zu Gast sein wird. \nDie Tagung ist eine Kooperationsveranstaltung der Universität Stuttgart und der\nLandeszentrale für politische Bildung Baden-Württemberg. \nDie Teilnahme ist kostenfrei. Eine Anmeldung ist erforderlich. \nDie Anmeldung finden Sie hier anmeldung@lpb.bwl.de \nWeitere Informationen finden Sie unter https://www.lpb-bw.de/einzelansicht-aktuell/verfassungsresilienz-10-02-2025
URL:https://stage.allianz-fuer-beteiligung.de/afb-veranstaltung/verfassungsresilienz-grundgesetz-und-demokratie-vor-ihren-feinden-schuetzen/
LOCATION:Universität Stuttgart\, Keplerstraße 17\, Stuttgart\, Baden-Württemberg\, 70174
ORGANIZER;CN="Landeszentrale f%C3%BCr politische Bildung Baden-W%C3%BCrttemberg":MAILTO:poststelle@lpb.bwl.de
END:VEVENT
END:VCALENDAR