BEGIN:VCALENDAR
VERSION:2.0
PRODID:-//Allianz für Beteiligung - ECPv6.15.18//NONSGML v1.0//EN
CALSCALE:GREGORIAN
METHOD:PUBLISH
X-ORIGINAL-URL:https://stage.allianz-fuer-beteiligung.de
X-WR-CALDESC:Veranstaltungen für Allianz für Beteiligung
REFRESH-INTERVAL;VALUE=DURATION:PT1H
X-Robots-Tag:noindex
X-PUBLISHED-TTL:PT1H
BEGIN:VTIMEZONE
TZID:Europe/Berlin
BEGIN:DAYLIGHT
TZOFFSETFROM:+0100
TZOFFSETTO:+0200
TZNAME:CEST
DTSTART:20220327T010000
END:DAYLIGHT
BEGIN:STANDARD
TZOFFSETFROM:+0200
TZOFFSETTO:+0100
TZNAME:CET
DTSTART:20221030T010000
END:STANDARD
BEGIN:DAYLIGHT
TZOFFSETFROM:+0100
TZOFFSETTO:+0200
TZNAME:CEST
DTSTART:20230326T010000
END:DAYLIGHT
BEGIN:STANDARD
TZOFFSETFROM:+0200
TZOFFSETTO:+0100
TZNAME:CET
DTSTART:20231029T010000
END:STANDARD
BEGIN:DAYLIGHT
TZOFFSETFROM:+0100
TZOFFSETTO:+0200
TZNAME:CEST
DTSTART:20240331T010000
END:DAYLIGHT
BEGIN:STANDARD
TZOFFSETFROM:+0200
TZOFFSETTO:+0100
TZNAME:CET
DTSTART:20241027T010000
END:STANDARD
END:VTIMEZONE
BEGIN:VEVENT
DTSTART;TZID=Europe/Berlin:20230420T173000
DTEND;TZID=Europe/Berlin:20230420T183000
DTSTAMP:20260420T134246
CREATED:20230331T065614Z
LAST-MODIFIED:20230331T104355Z
UID:10000243-1682011800-1682015400@stage.allianz-fuer-beteiligung.de
SUMMARY:Einsamkeit - Wodurch sind wir gefährdet und wie gehen wir mit ihr um?
DESCRIPTION:Die Straßenuniversität lädt ein zu einem Vortrag mit Austausch zu Einsamkeit: Einsamkeit ist ein schmerzvolles und schambehaftetes Thema und leider oftmals ein Tabuthema. Hier sind wir alle gefordert\, das Thema aus dieser Ecke herauszuholen und zu enttabuisieren. Wodurch werden wir einsam\, welche Arten von Einsamkeit gibt es\, wie leben wir mit ihr und wie können wir ihr gemeinsam begegnen? Wir suchen Antworten auf diese Fragen\, indem wir das Thema Einsamkeit mit biografischen Beispielen besprechen und gemeinsame  Strategien gegen Einsamkeit für uns und andere entwickeln. \nTipp: Die Veranstaltung zu besuchen und damit unseren Austausch zu bereichern ist schon ein Mittel gegen Einsamkeit… \nVortrag und Austausch von Daniel Knaus in Kooperation mit dem Generationenhaus West\, der Rudolf Schmid und Hermann Schmid Stiftung. \nAbsolut alle sind willkommen! \nDie Anmeldung ist per Mail an strassenuniversitaet@neuearbeit.de\, über die Website https://strassenuniversitaet.neuearbeit.de/index.php/programm oder telefonisch unter: 0711/273 01-210 möglich. \nDie Straßen-Universität Stuttgart ist ein Projekt des gemeinnützigen diakonischen Sozialunternehmens Neue Arbeit und wird von Aktion Mensch\, der Vector Stiftung und der Lechler Stiftung gefördert. Weitere Angebote der Straßen-Universität Stuttgart finden sind im Programm für das Sommersemester 2023 veröffentlicht.
URL:https://stage.allianz-fuer-beteiligung.de/afb-veranstaltung/einsamkeit-wodurch-sind-wir-gefaehrdet-und-wie-gehen-wir-mit-ihr-um/
LOCATION:Generationshaus West\, Ludwigstraße 41-43\, Stuttgart\, 70176\, Deutschland
ORGANIZER;CN="Stra%C3%9Fenuniversit%C3%A4t Stuttgart":MAILTO:strassenuniversitaet@neuearbeit.de
END:VEVENT
END:VCALENDAR