BEGIN:VCALENDAR
VERSION:2.0
PRODID:-//Allianz für Beteiligung - ECPv6.15.18//NONSGML v1.0//EN
CALSCALE:GREGORIAN
METHOD:PUBLISH
X-ORIGINAL-URL:https://stage.allianz-fuer-beteiligung.de
X-WR-CALDESC:Veranstaltungen für Allianz für Beteiligung
REFRESH-INTERVAL;VALUE=DURATION:PT1H
X-Robots-Tag:noindex
X-PUBLISHED-TTL:PT1H
BEGIN:VTIMEZONE
TZID:Europe/Berlin
BEGIN:DAYLIGHT
TZOFFSETFROM:+0100
TZOFFSETTO:+0200
TZNAME:CEST
DTSTART:20210328T010000
END:DAYLIGHT
BEGIN:STANDARD
TZOFFSETFROM:+0200
TZOFFSETTO:+0100
TZNAME:CET
DTSTART:20211031T010000
END:STANDARD
BEGIN:DAYLIGHT
TZOFFSETFROM:+0100
TZOFFSETTO:+0200
TZNAME:CEST
DTSTART:20220327T010000
END:DAYLIGHT
BEGIN:STANDARD
TZOFFSETFROM:+0200
TZOFFSETTO:+0100
TZNAME:CET
DTSTART:20221030T010000
END:STANDARD
BEGIN:DAYLIGHT
TZOFFSETFROM:+0100
TZOFFSETTO:+0200
TZNAME:CEST
DTSTART:20230326T010000
END:DAYLIGHT
BEGIN:STANDARD
TZOFFSETFROM:+0200
TZOFFSETTO:+0100
TZNAME:CET
DTSTART:20231029T010000
END:STANDARD
END:VTIMEZONE
BEGIN:VEVENT
DTSTART;TZID=Europe/Berlin:20220923T090000
DTEND;TZID=Europe/Berlin:20220925T170000
DTSTAMP:20260422T120602
CREATED:20220712T093624Z
LAST-MODIFIED:20220712T093624Z
UID:10000168-1663923600-1664125200@stage.allianz-fuer-beteiligung.de
SUMMARY:Kommunale Demokratie neu denken. Zukunftsaufgaben – Entwicklungen – Projekte
DESCRIPTION:»Kommunale Demokratie neu denken. Zukunftsaufgaben – Entwicklungen – Projekte«\, dies ist der Titel des diesjährigen Forums für Demokratie & Bürgerbeteiligung der Stiftung Mitarbeit vom 23. bis 25. September 2022 in Bonn. \nAuf dem Forum stellen wir im Jahr 2022 die Frage nach der Zukunft der kommunalen Demokratie:\nWie können und müssen wir unser demokratisches Handeln (vor Ort) neu denken\, um die fortwährenden Krisen zu bewältigen? Welche demokratischen Neuerungen sind notwendig? Von welchen neuen Handlungsansätzen und Projekten können wir lernen? Und: Was braucht es dafür? \nUnter folgendem Link steht nun das Programm der Tagung für Sie zum Download bereit.\nhttps://www.mitarbeit.de/forum2022. Dort haben Sie auch die Möglichkeit zur Anmeldung. \nDie Tagung wendet sich an Interessierte aus Bürgerschaft\, Politik\, Verwaltung\, Wissenschaft und Wirtschaft\, die eine zukunftsorientierte Demokratie mitgestalten wollen.
URL:https://stage.allianz-fuer-beteiligung.de/afb-veranstaltung/kommunale-demokratie-neu-denken-zukunftsaufgaben-entwicklungen-projekte/
LOCATION:Bonn\, Deutschland
END:VEVENT
BEGIN:VEVENT
DTSTART;TZID=Europe/Berlin:20220622T170000
DTEND;TZID=Europe/Berlin:20220622T190000
DTSTAMP:20260422T120602
CREATED:20220407T081916Z
LAST-MODIFIED:20220407T082403Z
UID:10000156-1655917200-1655924400@stage.allianz-fuer-beteiligung.de
SUMMARY:Gute Beispiele: Bürgerlobby für den Wandel! Können gewöhnliche Menschen Außergewöhnliches erreichen?
DESCRIPTION:Aus der Online-Veranstaltungsreihe »Auf dem Weg in eine zukunftsorientierte Demokratie?«\nThemenschwerpunkt »Nachhaltigkeit\, Klimaschutz & Demokratie«\nGute Beispiele: Bürgerlobby für den Wandel! Können gewöhnliche Menschen Außergewöhnliches erreichen?\nMittwoch\, 22. Juni 2022\, 17.00–19.00 Uhr \nDie Gefahren\, die mit der menschengemachten Klimakrise einhergehen\, sind bereits heute offensichtlich. Um unser Klima zu retten\, braucht es mutige Entscheidungen und kluges Handeln über alle Regionen\, Institutionen und Generationen hinweg. Mit Erfolg ist dies alles aber nur gekrönt\, wenn die Menschen in ihren verschiedenen Handlungskontexten demokratisch eingebunden und an Entscheidungen und Realisierungsmaßnahmen beteiligt werden. Dies ist kein einfaches\, aber ein notwendiges Unterfangen angesichts der drängenden zeitlichen Perspektiven. Der Themenschwerpunkt »Nachhaltigkeit\, Klimaschutz & Demokratie« widmet sich der Frage nach möglichen Handlungsansätzen und guten Beispielen hin zu einer auf demokratischen Prinzipien beruhenden Nachhaltigkeits- und Klimaschutzstrategie auf allen politischen und gesellschaftlichen Ebenen. \nImpuls: Martin Delker\, Citizens‘ Climate Lobby Germany e.V.\, München \nBei dieser Online-Veranstaltungsreihe handelt es sich um eine Kooperation zwischen der Stiftung Mitarbeit und der Allianz für Beteiligung e. V. Sie wendet sich an Interessierte aus Bürgerschaft\, Politik\, Verwaltung\, Wissenschaft und Wirtschaft. Für die Veranstaltungen fällt jeweils ein Teilnahmebeitrag von 40 Euro an. Es gibt ein begrenztes Angebot von Freiplätzen für zivilgesellschaftlich Engagierte\, die für die Stärkung der Bürgerbeteiligung und Demokratie einsetzen. \n➜ zur Anmeldung
URL:https://stage.allianz-fuer-beteiligung.de/afb-veranstaltung/stimmig-nach-innen-und-aussen-wie-kann-buergerbeteiligung-im-verwaltungshandeln-verankert-werden-2/
LOCATION:online mit alfaview\, Deutschland
ATTACH;FMTTYPE=image/png:https://stage.allianz-fuer-beteiligung.de/wp-content/uploads/2022/03/Dia-Video-Konferenz@4x.png
END:VEVENT
BEGIN:VEVENT
DTSTART;TZID=Europe/Berlin:20220613T173000
DTEND;TZID=Europe/Berlin:20220613T190000
DTSTAMP:20260422T120602
CREATED:20220407T081103Z
LAST-MODIFIED:20220510T132249Z
UID:10000154-1655141400-1655146800@stage.allianz-fuer-beteiligung.de
SUMMARY:Klimakrise und digitalen Wandel zusammendenken. Das Beispiel Smart City Soest
DESCRIPTION:Aus der Online-Veranstaltungsreihe »Auf dem Weg in eine zukunftsorientierte Demokratie?«\nThemenschwerpunkt »Digitalisierung & Demokratie«\nKlimakrise und digitalen Wandel zusammendenken. Das Beispiel Smart City Soest\nDonnerstag\, 13. Juni 2022\, 17.30–19.00 Uhr \nDer digitale Wandel beeinflusst die Zukunftsentwicklung von Städten und Kommunen. Die Auswirkungen auf den Alltag der Stadtgesellschaft sind tiefgreifend. Zu denken sind beispielsweise an den Umbau der lokalen Wirtschaft und die Digitalisierung von Verwaltung\, Umwelt\, Mobilität und Gesundheitswesen. Wenn Smart City-Konzepte erprobt und umgesetzt werden\, ist die Beteiligung der Einwohnerinnen und Einwohner ein zentrales Thema. Die Stadt Soest ist eine solche Smart City und hat es sich zur Aufgabe gemacht\, Beteiligung\, Digitalisierung und das Vorhaben der Klimaneutralität in der Kommune zusammenzubringen. Vor diesem Hintergrund stehen folgende Fragen im Mittelpunkt der Veranstaltung: Wie lässt sich die digitale Transformation unserer Städte für den kommunalen Klimaschutz und eine nachhaltige Stadtentwicklung nutzen? Und welche Konsequenzen ergeben sich daraus für die lokale Demokratie und die Einbeziehung der Bürgerinnen und Bürger? \nImpuls: Stephan Siegert\, Stadt Soest \nBei dieser Online-Veranstaltungsreihe handelt es sich um eine Kooperation zwischen der Stiftung Mitarbeit und der Allianz für Beteiligung e. V. Sie wendet sich an Interessierte aus Bürgerschaft\, Politik\, Verwaltung\, Wissenschaft und Wirtschaft. Für die Veranstaltungen fällt jeweils ein Teilnahmebeitrag von 40 Euro an. Es gibt ein begrenztes Angebot von Freiplätzen für zivilgesellschaftlich Engagierte\, die für die Stärkung der Bürgerbeteiligung und Demokratie einsetzen. \n➜ zur Anmeldung
URL:https://stage.allianz-fuer-beteiligung.de/afb-veranstaltung/klimakrise-und-digitalen-wandel-zusammendenken-das-beispiel-smart-city-soest/
LOCATION:online mit alfaview\, Deutschland
ATTACH;FMTTYPE=image/png:https://stage.allianz-fuer-beteiligung.de/wp-content/uploads/2022/03/Dia-Video-Konferenz@4x.png
END:VEVENT
BEGIN:VEVENT
DTSTART;TZID=Europe/Berlin:20220519T170000
DTEND;TZID=Europe/Berlin:20220519T190000
DTSTAMP:20260422T120602
CREATED:20220407T081516Z
LAST-MODIFIED:20220512T102845Z
UID:10000155-1652979600-1652986800@stage.allianz-fuer-beteiligung.de
SUMMARY:Stimmig nach innen und außen. Wie kann Bürgerbeteiligung im Verwaltungshandeln verankert werden?
DESCRIPTION:Aus der Online-Veranstaltungsreihe »Auf dem Weg in eine zukunftsorientierte Demokratie?«\nThemenschwerpunkt »Demokratische Innovationen«\nStimmig nach innen und außen. Wie kann Bürgerbeteiligung im Verwaltungshandeln verankert werden?\nDonnerstag\, 19. Mai 2022\, 17.00–19.00 Uhr \nMit den »Leitlinien für die Beteiligung von Bürgerinnen und Bürgern an der Stadtentwicklung« und dem dazu gehörigen Umsetzungskonzept hat das Land Berlin die Beteiligung in der Stadtentwicklung auf eine verbindliche Grundlage gestellt.\nFünf Instrumente wurden festgelegt\, mit denen Beteiligung künftig strukturiert werden soll.\nDie Realisierung des damit verbundenen Innovationsprozesses stellt für die Verwaltung und deren Mitarbeiter/innen eine Herausforderung dar\, die nur gemeinsam gemeistert werden kann. Auch vor diesem Hintergrund wurde die »Zentrale Anlaufstelle für Beteiligung« eingerichtet\, bei der unser Impulsgeber Nils Jonas tätig ist. Bei der Anlaufstelle handelt es sich um eine vorrangig strategisch arbeitende Fachstelle. In Zusammenarbeit mit den Verwaltungsmitarbeiter/innen entwickelt sie unter anderem interne Prozesse und berät verwaltungsintern bei der praktischen Umsetzung von Beteiligung. Nils Jonas berichtet über die Arbeit der Anlaufstelle und diskutiert mit den Teilnehmenden über die damit verbundenen Chancen und Herausforderungen. \nDie Online-Veranstaltung findet im Rahmen der Reihe »Auf dem Weg in eine zukunftsorientierte Demokratie?« statt\, die die Stiftung Mitarbeit (https://www.mitarbeit.de/) in Kooperation mit der Allianz für Beteiligung e. V. durchführt. \nDer Teilnahmebeitrag beträgt 40 Euro. Es gibt ein begrenztes Angebot von Freiplätzen für zivilgesellschaftlich Engagierte\, die sich für die Stärkung der Bürgerbeteiligung und Demokratie einsetzen. \n➜ zur Anmeldung
URL:https://stage.allianz-fuer-beteiligung.de/afb-veranstaltung/stimmig-nach-innen-und-aussen-wie-kann-buergerbeteiligung-im-verwaltungshandeln-verankert-werden/
LOCATION:online mit alfaview\, Deutschland
ATTACH;FMTTYPE=image/png:https://stage.allianz-fuer-beteiligung.de/wp-content/uploads/2022/03/Dia-Video-Konferenz@4x.png
END:VEVENT
BEGIN:VEVENT
DTSTART;TZID=Europe/Berlin:20220504T170000
DTEND;TZID=Europe/Berlin:20220504T190000
DTSTAMP:20260422T120602
CREATED:20220407T080335Z
LAST-MODIFIED:20220407T082629Z
UID:10000151-1651683600-1651690800@stage.allianz-fuer-beteiligung.de
SUMMARY:Gute Beispiele: Kooperation statt Konfrontation! Das Projekt Bonn4Future - Wir fürs Klima
DESCRIPTION:Aus der Online-Veranstaltungsreihe »Auf dem Weg in eine zukunftsorientierte Demokratie?«\nThemenschwerpunkt »Nachhaltigkeit\, Klimaschutz & Demokratie«\nGute Beispiele: Kooperation statt Konfrontation! Das Projekt Bonn4Future – Wir fürs Klima\nMittwoch\, 4. Mai 2022\, 17.00–19.00 Uhr \n18 Autor*innen\, hunderte von Stunden\, über 40 Seiten und echt coole Ideen: Das ist das Mitwirkungskonzept „Bonn4Future – Wir fürs Klima“. Denn Bonn soll bis 2035 klimaneutral werden. Dafür haben Zivilgesellschaft\, Politik und Verwaltung gemeinsam ein Verfahren entwickelt\, dass sie in die Lage versetzt: \n\nEine vielfältige Bonner Stadtgesellschaft für die Mitgestaltung einer klimaneutralen Stadt zu begeistern\nGute Forderungen zu entwickeln und dafür zu sorgen\, dass sie in Politik und Verwaltung gehört werden\n\nIm Rahmen der gemeinsamen Veranstaltungsreihe „Auf dem Weg in eine zukunftsorientierte Demokratie?“ der Stiftung Mitarbeit und der Allianz für Beteiligung stellt Dirk Lahmann von der Bundesstadt Bonn anhand von „Bonn4Future – Wir fürs Klima“ vor\, wie sich Stadtgesellschaft\, Politik und Verwaltung gemeinsam auf den Weg zur Klimaneutralität machen können. \nBei dieser Online-Veranstaltungsreihe handelt es sich um eine Kooperation zwischen der Stiftung Mitarbeit und der Allianz für Beteiligung e. V.. Sie wendet sich an Interessierte aus Bürgerschaft\, Politik\, Verwaltung\, Wissenschaft und Wirtschaft. Für die Veranstaltungen fällt jeweils ein Teilnahmebeitrag von 40 Euro an. Es gibt ein begrenztes Angebot von Freiplätzen für zivilgesellschaftlich Engagierte\, die sich für die Stärkung der Bürgerbeteiligung und Demokratie einsetzen. \n➜ zur Anmeldung
URL:https://stage.allianz-fuer-beteiligung.de/afb-veranstaltung/gute-beispiele-kooperation-statt-konfrontation-das-projekt-bonn4future-wir-fuers-klima/
LOCATION:online mit alfaview\, Deutschland
ATTACH;FMTTYPE=image/png:https://stage.allianz-fuer-beteiligung.de/wp-content/uploads/2022/03/Dia-Video-Konferenz@4x.png
END:VEVENT
END:VCALENDAR