BEGIN:VCALENDAR
VERSION:2.0
PRODID:-//Allianz für Beteiligung - ECPv6.15.18//NONSGML v1.0//EN
CALSCALE:GREGORIAN
METHOD:PUBLISH
X-WR-CALNAME:Allianz für Beteiligung
X-ORIGINAL-URL:https://stage.allianz-fuer-beteiligung.de
X-WR-CALDESC:Veranstaltungen für Allianz für Beteiligung
REFRESH-INTERVAL;VALUE=DURATION:PT1H
X-Robots-Tag:noindex
X-PUBLISHED-TTL:PT1H
BEGIN:VTIMEZONE
TZID:Europe/Berlin
BEGIN:DAYLIGHT
TZOFFSETFROM:+0100
TZOFFSETTO:+0200
TZNAME:CEST
DTSTART:20220327T010000
END:DAYLIGHT
BEGIN:STANDARD
TZOFFSETFROM:+0200
TZOFFSETTO:+0100
TZNAME:CET
DTSTART:20221030T010000
END:STANDARD
BEGIN:DAYLIGHT
TZOFFSETFROM:+0100
TZOFFSETTO:+0200
TZNAME:CEST
DTSTART:20230326T010000
END:DAYLIGHT
BEGIN:STANDARD
TZOFFSETFROM:+0200
TZOFFSETTO:+0100
TZNAME:CET
DTSTART:20231029T010000
END:STANDARD
BEGIN:DAYLIGHT
TZOFFSETFROM:+0100
TZOFFSETTO:+0200
TZNAME:CEST
DTSTART:20240331T010000
END:DAYLIGHT
BEGIN:STANDARD
TZOFFSETFROM:+0200
TZOFFSETTO:+0100
TZNAME:CET
DTSTART:20241027T010000
END:STANDARD
END:VTIMEZONE
BEGIN:VEVENT
DTSTART;TZID=Europe/Berlin:20231020T000000
DTEND;TZID=Europe/Berlin:20231021T235959
DTSTAMP:20260420T164731
CREATED:20230823T084441Z
LAST-MODIFIED:20231017T084009Z
UID:10000314-1697760000-1697932799@stage.allianz-fuer-beteiligung.de
SUMMARY:"Gemeinsam handeln - die Gesellschaft in der Transformation zusammenhalten"
DESCRIPTION:Der Übergang vom fossilen Zeitalter hin zu einer klimaneutralen Gesellschaft und Wirtschaft stellt eine wahrhaft historische Aufgabe dar: Wir müssen unsere Wirtschaft und ihre Produkte möglichst schnell dekarbonisieren und zugleich unsere industrielle Stärke bewahren. Das stellt uns vor gewaltige Herausforderungen: ökonomisch\, ökologisch – aber vor allem auch gesellschaftlich. \nDenn die Transformation erzeugt Verwerfungen und stellt Gewohntes in Frage. Das bringt die Gefahr mit sich\, gesellschaftliche Bruchlinien zu vertiefen und Spannungen zu verschärfen\, während die Spielräume für eine behutsame\, entschleunigte Transformation immer geringer werden. Gleichzeitig besteht die Hoffnung\, dass uns die Transformation zusammenführen kann\, wenn wir sie als gemeinsame Mission von Politik\, Wirtschaft und Bürgergesellschaft begreifen. Als große Idee\, um die wir uns versammeln und die uns gemeinsam handeln lässt. Die zentrale gesellschaftspolitische Frage unserer Zeit lautet daher: Wie können wir die Transformation so gestalten\, dass trotz der notwendigen Veränderungen der Zusammenhalt unserer Gesellschaft erhalten bleibt oder sogar gestärkt wird? \nZahlreiche hochkarätige Rednerinnen und Redner aus Wissenschaft\, Wirtschaft\, Politik\, Medien und Bürgergesellschaft haben für die Tagung zugesagt. Besonders freut man sich\, dass Joachim Gauck\, Bundespräsident a. D.\, sowie Dr. Robert Habeck\, Vizekanzler und Bundesminister für Wirtschaft und Klimaschutz\, eine Keynote beisteuern werden. \nDie Anmeldung zur Tagung ist über folgenden Link bis Freitag\, 13. Oktober möglich. \nBitte beachten Sie: Die Zahl der Teilnehmerinnen und Teilnehmer ist begrenzt. Weitere Informationen zur Tagung finden Sie hier. \nBei Fragen steht Ihnen das Organisationsteam jederzeit gerne zur Verfügung: gemeinsam-handeln@stm.bwl.de.
URL:https://stage.allianz-fuer-beteiligung.de/afb-veranstaltung/gemeinsam-handeln-die-gesellschaft-in-der-transformation-zusammenhalten/
LOCATION:Universität Mannheim\, Universität Mannheim\, Mannheim\, Baden-Württemberg\, 68131\, Deutschland
ORGANIZER;CN="Staatsministerium Baden-W%C3%BCrttemberg":MAILTO:gemeinsam-handeln@stm.bwl.de
END:VEVENT
END:VCALENDAR