BEGIN:VCALENDAR
VERSION:2.0
PRODID:-//Allianz für Beteiligung - ECPv6.15.18//NONSGML v1.0//EN
CALSCALE:GREGORIAN
METHOD:PUBLISH
X-ORIGINAL-URL:https://stage.allianz-fuer-beteiligung.de
X-WR-CALDESC:Veranstaltungen für Allianz für Beteiligung
REFRESH-INTERVAL;VALUE=DURATION:PT1H
X-Robots-Tag:noindex
X-PUBLISHED-TTL:PT1H
BEGIN:VTIMEZONE
TZID:Europe/Berlin
BEGIN:DAYLIGHT
TZOFFSETFROM:+0100
TZOFFSETTO:+0200
TZNAME:CEST
DTSTART:20210328T010000
END:DAYLIGHT
BEGIN:STANDARD
TZOFFSETFROM:+0200
TZOFFSETTO:+0100
TZNAME:CET
DTSTART:20211031T010000
END:STANDARD
BEGIN:DAYLIGHT
TZOFFSETFROM:+0100
TZOFFSETTO:+0200
TZNAME:CEST
DTSTART:20220327T010000
END:DAYLIGHT
BEGIN:STANDARD
TZOFFSETFROM:+0200
TZOFFSETTO:+0100
TZNAME:CET
DTSTART:20221030T010000
END:STANDARD
BEGIN:DAYLIGHT
TZOFFSETFROM:+0100
TZOFFSETTO:+0200
TZNAME:CEST
DTSTART:20230326T010000
END:DAYLIGHT
BEGIN:STANDARD
TZOFFSETFROM:+0200
TZOFFSETTO:+0100
TZNAME:CET
DTSTART:20231029T010000
END:STANDARD
END:VTIMEZONE
BEGIN:VEVENT
DTSTART;TZID=Europe/Berlin:20221014T100000
DTEND;TZID=Europe/Berlin:20221014T160000
DTSTAMP:20260421T020846
CREATED:20220802T063607Z
LAST-MODIFIED:20220817T135513Z
UID:10000184-1665741600-1665763200@stage.allianz-fuer-beteiligung.de
SUMMARY:Forum für Gesellschaftlichen Zusammenhalt
DESCRIPTION:Am Freitag\, 14. Oktober | 10.00 – 16.00 Uhr findet in Baden-Baden das 1. Forum für Gesellschaftlichen Zusammenhalt statt.  \nOb im Sportverein oder in der Flüchtlingshilfe\, in der freien Kulturgruppe oder im karitativen Bereich: Demokratie wird in den Gemeinden und Städten vor Ort gestaltet und entwickelt auch dort ihren gesellschaftlichen Zusammenhalt. Wir laden Sie ein\, zusammen mit Gästen aus Politik\, Wirtschaft und Gesellschaft sowie mit mehr als 1000 bürgerschaftlich Engagierten über gesellschaftliches Engagement in Vereinen\, Initiativen\, Kultur- und Glaubensgemeinschaften\, Zünften und Kommunalpolitik zu diskutieren.  \nDas Forum bietet Platz für Austausch und zur Würdigung von bürgerschaftlichem Engagement und Zivilgesellschaft in Baden-Württemberg. \nDas Programm am Tag setzt sich aus einem Fachsymposium\, Workshops und einem Marktplatz des Engagements zusammen. Wir von Seiten der Allianz für Beteiligung bringen uns als Partnerin bei der Veranstaltung in viele der gesetzten Programmpunkte ein. \n>> ZUR ANMELDUNG \nAb 18.30 Uhr wird es ein festliches Abendkonzert geben „Sans Frontières – für ein Leben in Frieden und Freiheit“ im Festspielhaus Baden-Baden. Das Angebot ist ebenfalls kostenlos. Bitte beachten Sie: Anmeldungen zum Forum und zum Konzert sind zwingend erforderlich. Die Karten für das Forum und das Konzert müssen separat gebucht werden \nVeranstalter: Nussbaum Mediengruppe
URL:https://stage.allianz-fuer-beteiligung.de/afb-veranstaltung/forum-fuer-gesellschaftlichen-zusammenhalt/
LOCATION:Festspielhaus Baden-Baden\, Beim Alten Bahnhof 2\, Baden-Baden\, 76530\, Deutschland
END:VEVENT
END:VCALENDAR