BEGIN:VCALENDAR
VERSION:2.0
PRODID:-//Allianz für Beteiligung - ECPv6.15.18//NONSGML v1.0//EN
CALSCALE:GREGORIAN
METHOD:PUBLISH
X-WR-CALNAME:Allianz für Beteiligung
X-ORIGINAL-URL:https://stage.allianz-fuer-beteiligung.de
X-WR-CALDESC:Veranstaltungen für Allianz für Beteiligung
REFRESH-INTERVAL;VALUE=DURATION:PT1H
X-Robots-Tag:noindex
X-PUBLISHED-TTL:PT1H
BEGIN:VTIMEZONE
TZID:Europe/Berlin
BEGIN:DAYLIGHT
TZOFFSETFROM:+0100
TZOFFSETTO:+0200
TZNAME:CEST
DTSTART:20230326T010000
END:DAYLIGHT
BEGIN:STANDARD
TZOFFSETFROM:+0200
TZOFFSETTO:+0100
TZNAME:CET
DTSTART:20231029T010000
END:STANDARD
BEGIN:DAYLIGHT
TZOFFSETFROM:+0100
TZOFFSETTO:+0200
TZNAME:CEST
DTSTART:20240331T010000
END:DAYLIGHT
BEGIN:STANDARD
TZOFFSETFROM:+0200
TZOFFSETTO:+0100
TZNAME:CET
DTSTART:20241027T010000
END:STANDARD
BEGIN:DAYLIGHT
TZOFFSETFROM:+0100
TZOFFSETTO:+0200
TZNAME:CEST
DTSTART:20250330T010000
END:DAYLIGHT
BEGIN:STANDARD
TZOFFSETFROM:+0200
TZOFFSETTO:+0100
TZNAME:CET
DTSTART:20251026T010000
END:STANDARD
END:VTIMEZONE
BEGIN:VEVENT
DTSTART;TZID=Europe/Berlin:20240718T170000
DTEND;TZID=Europe/Berlin:20240718T180000
DTSTAMP:20260420T171531
CREATED:20240611T073006Z
LAST-MODIFIED:20240611T073006Z
UID:10000484-1721322000-1721325600@stage.allianz-fuer-beteiligung.de
SUMMARY:VERANSTALTUNGSREIHE "MEINE MEINUNG\, MEINE WAHL – WIE MEINUNGSBILDUNG IM NETZ FUNKTIONIERT"
DESCRIPTION:Im Rahmen von insgesamt sechs Online-Vorträgen befasst sich die gemeinsame Veranstaltungsreihe von LFK und „Silver Tipps – Mit Freude online“ mit unterschiedlichen Aspekten des Themas „Desinformation“\, insbesondere im Kontext von Wahlen. Dabei geben die vortragenden Expertinnen und Experten zahlreiche praktische Tipps für den Umgang mit Fake News im Alltag und für eine kompetente und informierte Mediennutzung. \nDie Meinungsbildung im Netz gestaltet sich angesichts von Phänomenen wie Desinformation\, Hass und Hetze\, des Einsatzes von Künstlicher Intelligenz sowie politischer Kampagnen zunehmend komplex – das gilt insbesondere im Vorfeld von Wahlen. \nSo ist es in der digitalen Medienwelt zunehmend wichtig\, Information und Meinung\, Fakt und Fake auseinanderhalten zu können und in der Flut der Medienangebote online den Überblick zu behalten. \nBildungsangebote zur Medienkompetenzförderung – nicht nur für Kinder und Jugendliche\, sondern auch gezielt für Erwachsene bis ins hohe Alter – gewinnen vor diesem Hintergrund immer mehr an Bedeutung. \nHier setzt die Vortragsreihe „Meine Meinung\, meine Wahl – Wie Meinungsbildung im Netz funktioniert“ an und informiert gezielt zum sicheren und medienkompetenten Umgang mit “Desinformation” und verwandten Phänomenen. \nWeitere Informationen finden Sie unter LFK – Die Medienanstalt für Baden-Württemberg: Veranstaltungsreihe „Meine Meinung\, meine Wahl – Wie Meinungsbildung im Netz funktioniert“
URL:https://stage.allianz-fuer-beteiligung.de/afb-veranstaltung/veranstaltungsreihe-meine-meinung-meine-wahl-wie-meinungsbildung-im-netz-funktioniert/2024-07-18/
LOCATION:Online
END:VEVENT
BEGIN:VEVENT
DTSTART;TZID=Europe/Berlin:20240708T170000
DTEND;TZID=Europe/Berlin:20240708T180000
DTSTAMP:20260420T171531
CREATED:20240611T073006Z
LAST-MODIFIED:20240611T073006Z
UID:10000483-1720458000-1720461600@stage.allianz-fuer-beteiligung.de
SUMMARY:VERANSTALTUNGSREIHE "MEINE MEINUNG\, MEINE WAHL – WIE MEINUNGSBILDUNG IM NETZ FUNKTIONIERT"
DESCRIPTION:Im Rahmen von insgesamt sechs Online-Vorträgen befasst sich die gemeinsame Veranstaltungsreihe von LFK und „Silver Tipps – Mit Freude online“ mit unterschiedlichen Aspekten des Themas „Desinformation“\, insbesondere im Kontext von Wahlen. Dabei geben die vortragenden Expertinnen und Experten zahlreiche praktische Tipps für den Umgang mit Fake News im Alltag und für eine kompetente und informierte Mediennutzung. \nDie Meinungsbildung im Netz gestaltet sich angesichts von Phänomenen wie Desinformation\, Hass und Hetze\, des Einsatzes von Künstlicher Intelligenz sowie politischer Kampagnen zunehmend komplex – das gilt insbesondere im Vorfeld von Wahlen. \nSo ist es in der digitalen Medienwelt zunehmend wichtig\, Information und Meinung\, Fakt und Fake auseinanderhalten zu können und in der Flut der Medienangebote online den Überblick zu behalten. \nBildungsangebote zur Medienkompetenzförderung – nicht nur für Kinder und Jugendliche\, sondern auch gezielt für Erwachsene bis ins hohe Alter – gewinnen vor diesem Hintergrund immer mehr an Bedeutung. \nHier setzt die Vortragsreihe „Meine Meinung\, meine Wahl – Wie Meinungsbildung im Netz funktioniert“ an und informiert gezielt zum sicheren und medienkompetenten Umgang mit “Desinformation” und verwandten Phänomenen. \nWeitere Informationen finden Sie unter LFK – Die Medienanstalt für Baden-Württemberg: Veranstaltungsreihe „Meine Meinung\, meine Wahl – Wie Meinungsbildung im Netz funktioniert“
URL:https://stage.allianz-fuer-beteiligung.de/afb-veranstaltung/veranstaltungsreihe-meine-meinung-meine-wahl-wie-meinungsbildung-im-netz-funktioniert/2024-07-08/
LOCATION:Online
END:VEVENT
BEGIN:VEVENT
DTSTART;TZID=Europe/Berlin:20240624T170000
DTEND;TZID=Europe/Berlin:20240624T180000
DTSTAMP:20260420T171531
CREATED:20240611T073006Z
LAST-MODIFIED:20240611T073006Z
UID:10000482-1719248400-1719252000@stage.allianz-fuer-beteiligung.de
SUMMARY:VERANSTALTUNGSREIHE "MEINE MEINUNG\, MEINE WAHL – WIE MEINUNGSBILDUNG IM NETZ FUNKTIONIERT"
DESCRIPTION:Im Rahmen von insgesamt sechs Online-Vorträgen befasst sich die gemeinsame Veranstaltungsreihe von LFK und „Silver Tipps – Mit Freude online“ mit unterschiedlichen Aspekten des Themas „Desinformation“\, insbesondere im Kontext von Wahlen. Dabei geben die vortragenden Expertinnen und Experten zahlreiche praktische Tipps für den Umgang mit Fake News im Alltag und für eine kompetente und informierte Mediennutzung. \nDie Meinungsbildung im Netz gestaltet sich angesichts von Phänomenen wie Desinformation\, Hass und Hetze\, des Einsatzes von Künstlicher Intelligenz sowie politischer Kampagnen zunehmend komplex – das gilt insbesondere im Vorfeld von Wahlen. \nSo ist es in der digitalen Medienwelt zunehmend wichtig\, Information und Meinung\, Fakt und Fake auseinanderhalten zu können und in der Flut der Medienangebote online den Überblick zu behalten. \nBildungsangebote zur Medienkompetenzförderung – nicht nur für Kinder und Jugendliche\, sondern auch gezielt für Erwachsene bis ins hohe Alter – gewinnen vor diesem Hintergrund immer mehr an Bedeutung. \nHier setzt die Vortragsreihe „Meine Meinung\, meine Wahl – Wie Meinungsbildung im Netz funktioniert“ an und informiert gezielt zum sicheren und medienkompetenten Umgang mit “Desinformation” und verwandten Phänomenen. \nWeitere Informationen finden Sie unter LFK – Die Medienanstalt für Baden-Württemberg: Veranstaltungsreihe „Meine Meinung\, meine Wahl – Wie Meinungsbildung im Netz funktioniert“
URL:https://stage.allianz-fuer-beteiligung.de/afb-veranstaltung/veranstaltungsreihe-meine-meinung-meine-wahl-wie-meinungsbildung-im-netz-funktioniert/2024-06-24/
LOCATION:Online
END:VEVENT
END:VCALENDAR