BEGIN:VCALENDAR
VERSION:2.0
PRODID:-//Allianz für Beteiligung - ECPv6.15.18//NONSGML v1.0//EN
CALSCALE:GREGORIAN
METHOD:PUBLISH
X-WR-CALNAME:Allianz für Beteiligung
X-ORIGINAL-URL:https://stage.allianz-fuer-beteiligung.de
X-WR-CALDESC:Veranstaltungen für Allianz für Beteiligung
REFRESH-INTERVAL;VALUE=DURATION:PT1H
X-Robots-Tag:noindex
X-PUBLISHED-TTL:PT1H
BEGIN:VTIMEZONE
TZID:Europe/Berlin
BEGIN:DAYLIGHT
TZOFFSETFROM:+0100
TZOFFSETTO:+0200
TZNAME:CEST
DTSTART:20210328T010000
END:DAYLIGHT
BEGIN:STANDARD
TZOFFSETFROM:+0200
TZOFFSETTO:+0100
TZNAME:CET
DTSTART:20211031T010000
END:STANDARD
BEGIN:DAYLIGHT
TZOFFSETFROM:+0100
TZOFFSETTO:+0200
TZNAME:CEST
DTSTART:20220327T010000
END:DAYLIGHT
BEGIN:STANDARD
TZOFFSETFROM:+0200
TZOFFSETTO:+0100
TZNAME:CET
DTSTART:20221030T010000
END:STANDARD
BEGIN:DAYLIGHT
TZOFFSETFROM:+0100
TZOFFSETTO:+0200
TZNAME:CEST
DTSTART:20230326T010000
END:DAYLIGHT
BEGIN:STANDARD
TZOFFSETFROM:+0200
TZOFFSETTO:+0100
TZNAME:CET
DTSTART:20231029T010000
END:STANDARD
END:VTIMEZONE
BEGIN:VEVENT
DTSTART;TZID=Europe/Berlin:20221124T093000
DTEND;TZID=Europe/Berlin:20221124T160000
DTSTAMP:20260420T165850
CREATED:20221026T143128Z
LAST-MODIFIED:20221026T143128Z
UID:10000192-1669282200-1669305600@stage.allianz-fuer-beteiligung.de
SUMMARY:NACHHALTIGE ENTWICKLUNG & KLIMASCHUTZ MIT JUGENDLICHEN
DESCRIPTION:24.11.22 im Landratsamt Emmendingen\n9:30 – 16:00 \n  \nWie können Klimaschutz- und Nachhaltigkeitsthemen\, junges Engagement und\nJugendbeteiligung in Kommunen zusammengedacht und -gebracht werden? Diese\nFrage greift der eintägige Workshop auf: Eine Einführung in mögliche Formate der\nJugendbeteiligung sowie die Vorstellung verschiedener Praxisbeispiele aus dem\nLandkreis zu Klimaschutz mit jungen Menschen geben erste Impulse für die eigene\nKommune. \n  \nDer Workshop richtet sich an: \nMultiplikator*innen im kommunalen Klimaschutz und in den Bereichen\nkommunale Nachhaltigkeit und Entwicklungspolitik;\nMultiplikator*innen der kommunalen Jugendarbeit\, des bürgerschaftlichen\nEngagements und der Bürgerbeteiligung\nJugendliche und Jugendgruppen und\ninteressierte zivilgesellschaftliche Akteur*innen und Gruppen.\nWie können Klimaschutz- und Nachhaltigkeitsthemen\, junges Engagement und\nJugendbeteiligung in Kommunen zusammengedacht und -gebracht werden? Diese\nFrage greift der eintägige Workshop auf: Eine Einführung in mögliche Formate der\nJugendbeteiligung sowie die Vorstellung verschiedener Praxisbeispiele aus dem\nLandkreis zu Klimaschutz mit jungen Menschen geben erste Impulse für die eigene\nKommune. \n  \nDie Teilnahme an dem Workshop ist kostenlos.\nVeranstaltungsort: Landratsamt Emmendingen (Sitzungssaal)\nBahnhofstr. 2 – 4\, 79312 Emmendingen \nAnmeldung: Per Mail bis 16. November mit Angabe von Name\, Vorname und\nBerufsbezeichnung / Schule an klimaschutz@landkreis-emmendingen.de \nFragen zum Workshop beantwortet Philipp Oswald: 07641 451 11 33\,\np.oswald@landkreis-emmendingen.de
URL:https://stage.allianz-fuer-beteiligung.de/afb-veranstaltung/nachhaltige-entwicklung-klimaschutz-mit-jugendlichen/
END:VEVENT
END:VCALENDAR