BEGIN:VCALENDAR
VERSION:2.0
PRODID:-//Allianz für Beteiligung - ECPv6.15.18//NONSGML v1.0//EN
CALSCALE:GREGORIAN
METHOD:PUBLISH
X-ORIGINAL-URL:https://stage.allianz-fuer-beteiligung.de
X-WR-CALDESC:Veranstaltungen für Allianz für Beteiligung
REFRESH-INTERVAL;VALUE=DURATION:PT1H
X-Robots-Tag:noindex
X-PUBLISHED-TTL:PT1H
BEGIN:VTIMEZONE
TZID:Europe/Berlin
BEGIN:DAYLIGHT
TZOFFSETFROM:+0100
TZOFFSETTO:+0200
TZNAME:CEST
DTSTART:20220327T010000
END:DAYLIGHT
BEGIN:STANDARD
TZOFFSETFROM:+0200
TZOFFSETTO:+0100
TZNAME:CET
DTSTART:20221030T010000
END:STANDARD
BEGIN:DAYLIGHT
TZOFFSETFROM:+0100
TZOFFSETTO:+0200
TZNAME:CEST
DTSTART:20230326T010000
END:DAYLIGHT
BEGIN:STANDARD
TZOFFSETFROM:+0200
TZOFFSETTO:+0100
TZNAME:CET
DTSTART:20231029T010000
END:STANDARD
BEGIN:DAYLIGHT
TZOFFSETFROM:+0100
TZOFFSETTO:+0200
TZNAME:CEST
DTSTART:20240331T010000
END:DAYLIGHT
BEGIN:STANDARD
TZOFFSETFROM:+0200
TZOFFSETTO:+0100
TZNAME:CET
DTSTART:20241027T010000
END:STANDARD
BEGIN:DAYLIGHT
TZOFFSETFROM:+0100
TZOFFSETTO:+0200
TZNAME:CEST
DTSTART:20250330T010000
END:DAYLIGHT
BEGIN:STANDARD
TZOFFSETFROM:+0200
TZOFFSETTO:+0100
TZNAME:CET
DTSTART:20251026T010000
END:STANDARD
BEGIN:DAYLIGHT
TZOFFSETFROM:+0100
TZOFFSETTO:+0200
TZNAME:CEST
DTSTART:20260329T010000
END:DAYLIGHT
BEGIN:STANDARD
TZOFFSETFROM:+0200
TZOFFSETTO:+0100
TZNAME:CET
DTSTART:20261025T010000
END:STANDARD
END:VTIMEZONE
BEGIN:VEVENT
DTSTART;TZID=Europe/Berlin:20250210T140000
DTEND;TZID=Europe/Berlin:20250210T203000
DTSTAMP:20260420T122404
CREATED:20241212T103353Z
LAST-MODIFIED:20241212T103353Z
UID:10000563-1739196000-1739219400@stage.allianz-fuer-beteiligung.de
SUMMARY:Verfassungsresilienz - Grundgesetz und Demokratie vor ihren Feinden schützen
DESCRIPTION:Ist unser Grundgesetz stabil und auch in Zukunft wetterfest gegen Feinde der Demokratie\naufgestellt? Im Jahr 2017 hat das Bundesverfassungsgericht ein Verbot der rechtsextremen\nNPD abgelehnt\, weil es keine Anhaltspunkte für eine erfolgreiche Durchsetzung der\nverfassungsfeindlichen Ziele der Partei gebe. Wann aber ist eine extremistische Partei\n„erfolgreich“ genug\, um verboten werden zu können? Wenn sie in Parlamenten die stärkste\nFraktion stellt? Oder erst\, wenn sie (mit-)regiert? Darüber hinaus: Wie resilient ist das\nBundesverfassungsgericht? Seine Unabhängigkeit und Funktionsfähigkeit sollen im\nGrundgesetz abgesichert werden. Und nicht zuletzt: In welchem Kontext stehen diese Fragen\nin unserem Mehrebenensystem von Ländern\, Bund und Europäischer Union? Die Tagung geht\nunter anderem diesen Fragen nach. Abgeschlossen wird sie mit einem Podiumsgespräch\, bei\ndem auch Marion Gentges MdL\, die Justizministerin des Landes\, zu Gast sein wird. \nDie Tagung ist eine Kooperationsveranstaltung der Universität Stuttgart und der\nLandeszentrale für politische Bildung Baden-Württemberg. \nDie Teilnahme ist kostenfrei. Eine Anmeldung ist erforderlich. \nDie Anmeldung finden Sie hier anmeldung@lpb.bwl.de \nWeitere Informationen finden Sie unter https://www.lpb-bw.de/einzelansicht-aktuell/verfassungsresilienz-10-02-2025
URL:https://stage.allianz-fuer-beteiligung.de/afb-veranstaltung/verfassungsresilienz-grundgesetz-und-demokratie-vor-ihren-feinden-schuetzen/
LOCATION:Universität Stuttgart\, Keplerstraße 17\, Stuttgart\, Baden-Württemberg\, 70174
ORGANIZER;CN="Landeszentrale f%C3%BCr politische Bildung Baden-W%C3%BCrttemberg":MAILTO:poststelle@lpb.bwl.de
END:VEVENT
BEGIN:VEVENT
DTSTART;TZID=Europe/Berlin:20240226T100000
DTEND;TZID=Europe/Berlin:20240226T120000
DTSTAMP:20260420T122404
CREATED:20240117T143459Z
LAST-MODIFIED:20240117T143709Z
UID:10000383-1708941600-1708948800@stage.allianz-fuer-beteiligung.de
SUMMARY:Vorstellung der Studie "Kommunale Kinder- und Jugendbeteiligung in Baden-Württemberg 2023"
DESCRIPTION:Die Kinder- und Jugendbeteiligung in Baden-Württemberg hat seit der Gesetzesänderung der Gemeindeordnung 2015\, insbesondere in Kommunen über 10.000 Einwohnern\, stark zugenommen. 96 Prozent dieser Kommunen bieten Jugendbeteiligungsangebote an\, wobei projektbezogene Formen am häufigsten sind. Die Pandemie hat auch zu einer verstärkten Nutzung digitaler Beteiligungsmethoden geführt. Allerdings zeigt die Studie\, dass es an Fachkräften und festen Stellenanteilen mangelt\, insbesondere im Bereich Kinderbeteiligung. Große Kommunen haben einen höheren Personalbedarf\, und die Pandemie erschwert die Erreichbarkeit von Jugendlichen. \nDie Studie präsentiert Daten auf Landkreisebene\, wobei Tübingen und Böblingen mit über 90 Prozent Kommunen\, die Jugendbeteiligungsangebote bieten\, an der Spitze liegen. Trotzdem geben nur 37 Prozent der Befragten an\, dass Jugendbeteiligung in ihrem Ort einen hohen Stellenwert hat. \nDas sind die Ergebnisse der Studie „Kommunale Kinder- und Jugendbeteiligung in Baden-Württemberg 2023“\, die die Landeszentrale für politische Bildung Baden-Württemberg (LpB) erarbeitet hat. Von 1.101 Kommunen im Land haben sich 988 an der Studie beteiligt. Die Erhebung fand im Zeitraum von Dezember 2022 bis Juni 2023 statt. \nDie Studie in PDF-Format können Sie hier kosten- und barrierefrei abrufen. \nDie Studie wird am Montag\, 26. Februar 2024 um 10 Uhr in Stuttgart vorgestellt. Bei der Veranstaltung in den Räumlichkeiten der Landeszentrale für politische Bildung Baden-Württemberg (LpB) ist auch eine digitale Teilnahme möglich. Um Anmeldung per E-Mail wird gebeten an: thomas.binder@lpb.bwl.de. Bitte teilen Sie mit\, ob Sie in Präsenz oder digital teilnehmen. Den Link zur Zuschaltung erhalten Sie rechtzeitig vor Veranstaltungsbeginn.
URL:https://stage.allianz-fuer-beteiligung.de/afb-veranstaltung/vorstellung-der-studie-kommunale-kinder-und-jugendbeteiligung-in-baden-wuerttemberg-2023/
LOCATION:Landeszentrale für politische Bildung Baden-Württemberg (LpB BW)\, Lautenschlagerstraße 20\, Stuttgart\, Baden-Württemberg\, 70173\, Deutschland
ORGANIZER;CN="Landeszentrale f%C3%BCr politische Bildung Baden-W%C3%BCrttemberg":MAILTO:poststelle@lpb.bwl.de
END:VEVENT
BEGIN:VEVENT
DTSTART;TZID=Europe/Berlin:20230926T100000
DTEND;TZID=Europe/Berlin:20230927T170000
DTSTAMP:20260420T122404
CREATED:20230913T084153Z
LAST-MODIFIED:20230913T084153Z
UID:10000327-1695722400-1695834000@stage.allianz-fuer-beteiligung.de
SUMMARY:Fortbildung Antisemitismus- versus Rassismuskritik? Konstruktiver Umgang mit Spannungsfeldern in Bildung und Zivilgesellschaft
DESCRIPTION:Wer sich im pädagogischen und zivilgesellschaftlichen Bereich gegen Rassismus und/oder Antisemitismus engagiert\, sieht sich mit verschiedenen Herausforderungen konfrontiert. Was sind Antisemitismus und Rassismus überhaupt? In welchem Verhältnis stehen sie zueinander? Und wie können beide Ungleichheitsverhältnisse zueinander in Bezug gesetzt werden\, ohne sie gegeneinander auszuspielen? \nÖffentliche Debatten über diese Fragen wurden in den letzten Jahren oft stark polarisierend geführt. Damit verbundene Themen wie der Nahostkonflikt oder das Gedenken an die Shoah und andere Massenverbrechen haben große Sprengkraft und rufen starke Emotionen hervor\, insbesondere in heterogenen Gruppen mit unterschiedlichen Perspektiven und Positionen in der Gesellschaft. \nIn der Fortbildung wollen wir uns gemeinsam Ansätze zum Umgang mit diesen Spannungsfeldern erarbeiten. Wie können wir uns konstruktiv und solidarisch mit ihnen beschäftigen\, um verbindend zu wirken\, statt Trennungen und Ausschlüsse zu (re-)produ-zieren? \nREFERENTINNEN: Susanna Harms und Tatjana Volpert\, BildungsBausteine e. V.\nANMELDUNG: online unter http://link.lpb-bw.de/antisemitismuskritikvsrassismuskritik\nKOSTEN: Die Teilnahme an der Veranstaltung ist kostenlos\, Fahrtkosten und Übernachtung werden nicht erstattet\nKOOPERATION: Die Veranstaltung findet in Kooperation mit dem BildungsBausteine-Projekt „Zusammen denken\, zusammen handeln“ (www.zu-sammen-denken-handeln.de) statt\, das vom Bundesministerium für Familie\, Senioren\, Frauen und Jugend im Rahmen des Bundesprogramms „Demokratie leben!“ sowie der Berliner Senatsverwaltung für Arbeit\, Soziales\, Gleichstellung\, Integration\, Vielfalt und Antidiskriminierung im Rahmen des Landesprogramms gegen Rechtsextremismus\, Rassismus und Antisemitismus gefördert wird. \nZIELGRUPPE: Die Fortbildung richtet sich an (sozial)-pädagogische Fachkräfte und Multiplikator:innen aus angrenzenden Feldern sowie alle Interessierten. \nANREISE: Die Außenstelle Heidelberg befindet sich fünf Minuten entfernt vom Bismarckplatz. Vom Hauptbahnhof fahren dorthin die Straßenbahn-Linien 5 (direkt) und 21 (nur mit Umstieg); Bus-Linien 32\, 33\, 34 \nKONTAKT: Elena Lauk\, elena.lauk@lpb.bwl.de \, 0711 16409984 \nWeitere Informationen zur Veranstaltung finden Sie hier.
URL:https://stage.allianz-fuer-beteiligung.de/afb-veranstaltung/fortbildung-antisemitismus-versus-rassismuskritik-konstruktiver-umgang-mit-spannungsfeldern-in-bildung-und-zivilgesellschaft/
LOCATION:LpB Außenstelle Heidelberg\, Plöck 22\, Heidelberg\, 69117\, Deutschland
ORGANIZER;CN="Landeszentrale f%C3%BCr politische Bildung Baden-W%C3%BCrttemberg":MAILTO:poststelle@lpb.bwl.de
END:VEVENT
BEGIN:VEVENT
DTSTART;TZID=Europe/Berlin:20230422T170000
DTEND;TZID=Europe/Berlin:20230520T170000
DTSTAMP:20260420T122404
CREATED:20230124T082314Z
LAST-MODIFIED:20230124T082314Z
UID:10000133-1682182800-1684602000@stage.allianz-fuer-beteiligung.de
SUMMARY:Kommun@l Online - Wir verändern unsere Stadt
DESCRIPTION:Vierwöchiger E-Learning-Kurs mit Videokonferenzen \nKursziel: \nSie interessieren sich dafür\, was in Ihrem Ort passiert? Und haben die eine oder andere Verbesserungsidee? Dann sind Sie beim Einführungskurs „Kommun@l Online“ richtig! Er startet mit einer Auftaktveranstaltung per Videokonferenz und befasst sich anschließend vier Wochen online mit den Gestaltungsmöglichkeiten einer Gemeinde. Die Kommune als kleinste politische Verwaltungseinheit prägt unseren Alltag und unser Leben. Hier entscheidet sich\, wie unsere Mobilität aussieht\, wie gut die Luft ist\, die wir atmen\, wie vielfältig das kulturelle Leben ist oder wie hoch die Kita-Gebühren ausfallen. \nAls Gemeinderät*innen und Bürger*innen können wir diese Rahmenbedingungen mitbeeinflussen und unseren Wohnort gestalten. Je besser wir die kommunalpolitischen Zusammenhänge und Stellschrauben kennen\, desto effektiver können wir sie nutzen. \nInnerhalb von vier inhaltlichen Modulen erfahren Sie viel Neues und tauschen sich unter tutorieller Begleitung mit anderen Kursteilnehmenden aus. \nWeitere Informationen und Anmeldemöglichkeit. \n 
URL:https://stage.allianz-fuer-beteiligung.de/afb-veranstaltung/kommunl-online-wir-veraendern-unsere-stadt/
LOCATION:Online
ORGANIZER;CN="Landeszentrale f%C3%BCr politische Bildung Baden-W%C3%BCrttemberg":MAILTO:poststelle@lpb.bwl.de
END:VEVENT
BEGIN:VEVENT
DTSTART;TZID=Europe/Berlin:20230329T093000
DTEND;TZID=Europe/Berlin:20230329T163000
DTSTAMP:20260420T122404
CREATED:20221222T133434Z
LAST-MODIFIED:20221222T133434Z
UID:10000204-1680082200-1680107400@stage.allianz-fuer-beteiligung.de
SUMMARY:Fachtag Demokratiebildung
DESCRIPTION:Der Fachtag Demokratiebildung bietet neben Fachvorträgen von Prof. Dr. Alexander Wohnig (Universität Siegen) und Prof. Dr. Katrin Schlör (Evangelische Hochschule Ludwigsburg) interaktive Workshops\, einen Markt der Möglichkeiten und Raum zum Austausch rund um das Thema Demokratiebildung. \nDurchgeführt wird der Fachtag von „Läuft bei Dir!“ und „Safe!“\, zwei Projekten zur werteorientierten Demokratie- und Medienbildung der Baden-Württemberg Stiftung sowie der Landeszentrale für politische Bildung Baden-Württemberg. \nDie Anmeldung zur Veranstaltung ist unter diesem Link möglich. Das vollständige Programm folgt Anfang 2023. \nDie Teilnahme ist kostenfrei. Für das leibliche Wohl ist gesorgt. Anmeldeschluss ist der 01. März 2023. \nBei Rückfragen wenden Sie sich bitte an:\nStefan Artmann: stefan.artmann@lpb.bwl.de // Tel: 0711/16 40 99-745 oder\nDaniel Can: daniel.can@lpb.bwl.de // Tel: 0711/16 40 99-740
URL:https://stage.allianz-fuer-beteiligung.de/afb-veranstaltung/fachtag-demokratiebildung/
LOCATION:Haus der Wirtschaft\, Willi-Bleicher-Straße 19\, Stuttgart\, 70174\, Deutschland
ORGANIZER;CN="Landeszentrale f%C3%BCr politische Bildung Baden-W%C3%BCrttemberg":MAILTO:poststelle@lpb.bwl.de
END:VEVENT
BEGIN:VEVENT
DTSTART;TZID=Europe/Berlin:20230303T150000
DTEND;TZID=Europe/Berlin:20230331T150000
DTSTAMP:20260420T122404
CREATED:20230124T082828Z
LAST-MODIFIED:20230124T082828Z
UID:10000206-1677855600-1680274800@stage.allianz-fuer-beteiligung.de
SUMMARY:Kommun@l Online - Frauen verändern ihre Stadt!
DESCRIPTION:Vierwöchiger E-Learning-Kurs mit Auftakt im Stuttgarter Rathaus in Kooperation mit der Abteilung für individuelle Chancengleichheit von Frauen und Männern in der Landeshauptstadt Stuttgart. \nKursziel: \nSie interessieren sich dafür\, was in Ihrem Ort passiert? Und haben die eine oder andere Verbesserungsidee? Dann sind Sie beim Einführungskurs „Kommun@l Online“ richtig! Er startet mit einer Auftaktveranstaltung per Videokonferenz und befasst sich anschließend vier Wochen online mit den Gestaltungsmöglichkeiten einer Gemeinde. Die Kommune als kleinste politische Verwaltungseinheit prägt unseren Alltag und unser Leben. Hier entscheidet sich\, wie unsere Mobilität aussieht\, wie gut die Luft ist\, die wir atmen\, wie vielfältig das kulturelle Leben ist oder wie hoch die Kita-Gebühren ausfallen. \nAls Gemeinderät*innen und Bürger*innen können wir diese Rahmenbedingungen mitbeeinflussen und unseren Wohnort gestalten. Je besser wir die kommunalpolitischen Zusammenhänge und Stellschrauben kennen\, desto effektiver können wir sie nutzen. \nInnerhalb von vier inhaltlichen Modulen erfahren Sie viel Neues und tauschen sich unter tutorieller Begleitung mit anderen Kursteilnehmenden aus. \nWeitere Informationen und Anmeldemöglichkeit. \n 
URL:https://stage.allianz-fuer-beteiligung.de/afb-veranstaltung/kommunl-online-frauen-veraendern-ihre-stadt/
LOCATION:Online
ORGANIZER;CN="Landeszentrale f%C3%BCr politische Bildung Baden-W%C3%BCrttemberg":MAILTO:poststelle@lpb.bwl.de
END:VEVENT
END:VCALENDAR