BEGIN:VCALENDAR
VERSION:2.0
PRODID:-//Allianz für Beteiligung - ECPv6.15.18//NONSGML v1.0//EN
CALSCALE:GREGORIAN
METHOD:PUBLISH
X-ORIGINAL-URL:https://stage.allianz-fuer-beteiligung.de
X-WR-CALDESC:Veranstaltungen für Allianz für Beteiligung
REFRESH-INTERVAL;VALUE=DURATION:PT1H
X-Robots-Tag:noindex
X-PUBLISHED-TTL:PT1H
BEGIN:VTIMEZONE
TZID:Europe/Berlin
BEGIN:DAYLIGHT
TZOFFSETFROM:+0100
TZOFFSETTO:+0200
TZNAME:CEST
DTSTART:20230326T010000
END:DAYLIGHT
BEGIN:STANDARD
TZOFFSETFROM:+0200
TZOFFSETTO:+0100
TZNAME:CET
DTSTART:20231029T010000
END:STANDARD
BEGIN:DAYLIGHT
TZOFFSETFROM:+0100
TZOFFSETTO:+0200
TZNAME:CEST
DTSTART:20240331T010000
END:DAYLIGHT
BEGIN:STANDARD
TZOFFSETFROM:+0200
TZOFFSETTO:+0100
TZNAME:CET
DTSTART:20241027T010000
END:STANDARD
BEGIN:DAYLIGHT
TZOFFSETFROM:+0100
TZOFFSETTO:+0200
TZNAME:CEST
DTSTART:20250330T010000
END:DAYLIGHT
BEGIN:STANDARD
TZOFFSETFROM:+0200
TZOFFSETTO:+0100
TZNAME:CET
DTSTART:20251026T010000
END:STANDARD
END:VTIMEZONE
BEGIN:VEVENT
DTSTART;TZID=Europe/Berlin:20240511T100000
DTEND;TZID=Europe/Berlin:20240512T130000
DTSTAMP:20260420T133622
CREATED:20240130T164756Z
LAST-MODIFIED:20240425T075744Z
UID:10000395-1715421600-1715518800@stage.allianz-fuer-beteiligung.de
SUMMARY:Miteinander: Dein\, mein\, unser Engagement
DESCRIPTION:Der Beitrag von Zivilgesellschaft und Ehrenamt für den gesellschaftlichen Zusammenhalt. Ein Seminar zum bürgerschaftlichen Engagement anhand der Betzavta-Methode. \nBetzavta – Die Methode des ADAM Instituts Jerusalem/Israel \n„Miteinander“ – die deutsche Übersetzung des hebräischen Wortes „Betzavta“ – ist der inhaltliche Anker dieses Seminars. Wir richten den Blick auf Grundlagen und Herausforderungen eines demokratischen Miteinanders\, unsere eigene gesellschaftliche Position\, unsere Haltung und unseren Umgang mit Ambiguität und Widersprüchen. Wir untersuchen das Persönliche im Demokratischen und blicken auf die Herausforderungen. Gemeinsam leiten wir aus solidarischen Anstrengungen\, aber auch aus Konflikten dieser Zeit Ideen ab\, wie sich ehrliche Aushandlungsprozesse und produktive demokratische Mitgestaltung im Rahmen von gesellschaftlichem Engagement fördern und umsetzen lassen. Ein besonderer Fokus liegt dabei auf der Anerkennung von gesellschaftlicher Vielfalt und unterschiedlichen Werturteilen auf Grundlage eines stabilen demokratischen Fundaments. \nDie Zielgruppe der Veranstaltung sind Multiplikator*innen und bürgerschaftlich Engagierte. Für die Teilnahme an der Veranstaltung wird ein Teilnahmebetrag von 25\,00 Euro (inkl. Übernachtung und Verpflegung) fällig. Eine Ermäßigung ist auf Anfrage möglich. Bitte melden Sie sich dafür bei uns. \nDie Leitung des Seminars übernehmen Asli Kücük und Matthias Kathan. \nEine Anmeldung ist über die Website der LpB BW möglich und weitere Informationen finden Sie in der Ausschreibung.
URL:https://stage.allianz-fuer-beteiligung.de/afb-veranstaltung/miteinander-dein-mein-unser-engagement/
LOCATION:LpB Tagungszentrum Haus auf der Alb\, Hanner Steige 1\, Bad Urach\, 72574\, Deutschland
CATEGORIES:Veranstaltungen - Allianz für Beteiligung
ORGANIZER;CN="Landeszentrale f%C3%BCr politische Bildung Baden-W%C3%BCrttemberg in Kooperation mit der Allianz f%C3%BCr Beteiligung":MAILTO:Christine.Kuntzsch@lpb.bwl.de
END:VEVENT
END:VCALENDAR