BEGIN:VCALENDAR
VERSION:2.0
PRODID:-//Allianz für Beteiligung - ECPv6.15.18//NONSGML v1.0//EN
CALSCALE:GREGORIAN
METHOD:PUBLISH
X-ORIGINAL-URL:https://stage.allianz-fuer-beteiligung.de
X-WR-CALDESC:Veranstaltungen für Allianz für Beteiligung
REFRESH-INTERVAL;VALUE=DURATION:PT1H
X-Robots-Tag:noindex
X-PUBLISHED-TTL:PT1H
BEGIN:VTIMEZONE
TZID:Europe/Berlin
BEGIN:DAYLIGHT
TZOFFSETFROM:+0100
TZOFFSETTO:+0200
TZNAME:CEST
DTSTART:20230326T010000
END:DAYLIGHT
BEGIN:STANDARD
TZOFFSETFROM:+0200
TZOFFSETTO:+0100
TZNAME:CET
DTSTART:20231029T010000
END:STANDARD
BEGIN:DAYLIGHT
TZOFFSETFROM:+0100
TZOFFSETTO:+0200
TZNAME:CEST
DTSTART:20240331T010000
END:DAYLIGHT
BEGIN:STANDARD
TZOFFSETFROM:+0200
TZOFFSETTO:+0100
TZNAME:CET
DTSTART:20241027T010000
END:STANDARD
BEGIN:DAYLIGHT
TZOFFSETFROM:+0100
TZOFFSETTO:+0200
TZNAME:CEST
DTSTART:20250330T010000
END:DAYLIGHT
BEGIN:STANDARD
TZOFFSETFROM:+0200
TZOFFSETTO:+0100
TZNAME:CET
DTSTART:20251026T010000
END:STANDARD
END:VTIMEZONE
BEGIN:VEVENT
DTSTART;TZID=Europe/Berlin:20241002T150000
DTEND;TZID=Europe/Berlin:20241002T190000
DTSTAMP:20260420T120901
CREATED:20240814T073831Z
LAST-MODIFIED:20240814T073831Z
UID:10000518-1727881200-1727895600@stage.allianz-fuer-beteiligung.de
SUMMARY:„Hadi\, wir müssen reden! – Prävention von Rechtsextremismus in der Migrationsgesellschaft“
DESCRIPTION:Menschen mit Migrationshintergrund erfahren mancherorts Ausgrenzungen und Diskriminierungen\, doch auch innerhalb der migrantischen Communities gibt es Gruppen\, die anfällig für ungleichwertige Einstellungen sind. Das Projekt „Hadi\, wir müssen reden!“ nimmt sich genau dieser Thematik an.  Es stellt unterschiedliche präventiv-pädagogische Angebotsformate für Jugendliche und junge Erwachsene bereit\, die eine kritische Auseinandersetzung mit Rechtsextremismus und Ultranationalismus in der Migrationsgesellschaft fördern und zur Stärkung der Demokratiekompetenz beitragen. Es wurden spezielle Workshops (für Jugendliche und junge Erwachsene) und Basis-Vorträge (für Erwachsene) entwickelt\, die darauf abzielen\, ein Bewusstsein für diese Themen zu schaffen und die Demokratiekompetenz zu stärken. Als Multiplikatorinnen und Multiplikatoren sind Expertinnen und Experten in den Themenfeldern Rechtsextremismus\, Ultranationalismus und Ungleichwertigkeitsideologien in der Migrationsgesellschaft und Erfahrungen in der pädagogischen Arbeit\, politischen Bildung sowie Projektarbeit eingebunden. \nAn diesem Tag erwartet Sie ein Einblick in die Arbeit des Projekts\, eine Podiumsdiskussion mit Politiker*innen der Landtagsfraktionen und eine Workshop-Session\, in der Sie einen direkten Einblick in die verschiedenen Phänomene des Rechtsextremismus in der Migrationsgesellschaft bekommen. \nBesonders freut uns\, dass neben den drei projekteigenen Workshops auch der Workshop „Türkischer Ultranationalismus im (Amateur-)Fußball“ angeboten werden kann. Die zurückliegende Europameisterschaft – EM 2024 – hat die Notwendigkeit einer breiteren öffentlicheren Debatte aufgezeigt. \nPROGRAMM \n15:00 Uhr Grußwort \nArgyri Paraschaki-Schauer Geschäftsführerin LAKA BW\, Gari Pavkovic Integrationsbeauftragter LHS Stuttgart \n15:10 Uhr Impulsvortrag – „Ultranationalismus in der Migrationsgesellschaft“ \nErol Ünal – Projektkoordinator  „Hadi\, wir müssen reden!“ \n15:50 Uhr Podiumsdiskussion  – „Rechtsextremismus in der Migrationsgesellschaft: Perspektiven aus der Politik“ \nmit Fadime Tuncer MdL – Grüne\, Manuel Hailfinger MdL – CDU\, Dr. Dorothea Kliche-Behnke MdL – SPD\, Hans Dieter Scheerer MdL – FDP/DVP \n16:35 Uhr Pause 15 Min \n16:50 Uhr Workshops \n„Kroatischer Ultranationalismus in Deutschland“ – Dr. Danijel Paric – PH Ludwigsburg \n„Türkischer Ultranationalismus in Deutschland“ – Erol Ünal – Hadi\, wir müssen reden! \n„Türkischer Ultranationalismus im (Amateur-)Fußball“ – Janina Rostek – LAG Fanprojekte NRW \n„Ultranationalismus in der Post-Ost/russlanddeutschen Community“ – Fides Schopp – Journalistin \n18:15 Uhr Pause 15 Min \n18:30 Uhr Abschlusspanel – Resümee und Ausblick \nDie Anmeldung finden Sie unter Landesfachtag: „Hadi\, wir müssen reden! – Prävention von Rechtsextremismus in der Migrationsgesellschaft“ (eveeno.com) \nWeitere Informationen finden Sie unter Landesfachtag: „Hadi\, wir müssen reden! – Prävention von Rechtsextremismus in der Migrationsgesellschaft“ | LAKA BW (laka-bw.de)
URL:https://stage.allianz-fuer-beteiligung.de/afb-veranstaltung/hadi-wir-muessen-reden-praevention-von-rechtsextremismus-in-der-migrationsgesellschaft/
LOCATION:Rathaus Stuttgart\, Marktplatz 1\, Stuttgart\, 70173\, Deutschland
END:VEVENT
END:VCALENDAR