BEGIN:VCALENDAR
VERSION:2.0
PRODID:-//Allianz für Beteiligung - ECPv6.15.18//NONSGML v1.0//EN
CALSCALE:GREGORIAN
METHOD:PUBLISH
X-ORIGINAL-URL:https://stage.allianz-fuer-beteiligung.de
X-WR-CALDESC:Veranstaltungen für Allianz für Beteiligung
REFRESH-INTERVAL;VALUE=DURATION:PT1H
X-Robots-Tag:noindex
X-PUBLISHED-TTL:PT1H
BEGIN:VTIMEZONE
TZID:Europe/Berlin
BEGIN:DAYLIGHT
TZOFFSETFROM:+0100
TZOFFSETTO:+0200
TZNAME:CEST
DTSTART:20230326T010000
END:DAYLIGHT
BEGIN:STANDARD
TZOFFSETFROM:+0200
TZOFFSETTO:+0100
TZNAME:CET
DTSTART:20231029T010000
END:STANDARD
BEGIN:DAYLIGHT
TZOFFSETFROM:+0100
TZOFFSETTO:+0200
TZNAME:CEST
DTSTART:20240331T010000
END:DAYLIGHT
BEGIN:STANDARD
TZOFFSETFROM:+0200
TZOFFSETTO:+0100
TZNAME:CET
DTSTART:20241027T010000
END:STANDARD
BEGIN:DAYLIGHT
TZOFFSETFROM:+0100
TZOFFSETTO:+0200
TZNAME:CEST
DTSTART:20250330T010000
END:DAYLIGHT
BEGIN:STANDARD
TZOFFSETFROM:+0200
TZOFFSETTO:+0100
TZNAME:CET
DTSTART:20251026T010000
END:STANDARD
END:VTIMEZONE
BEGIN:VEVENT
DTSTART;TZID=Europe/Berlin:20240222T000000
DTEND;TZID=Europe/Berlin:20240222T235959
DTSTAMP:20260420T151336
CREATED:20231215T075009Z
LAST-MODIFIED:20240220T155701Z
UID:10000369-1708560000-1708646399@stage.allianz-fuer-beteiligung.de
SUMMARY:Leerstände beleben - Wohnraum für junge Erwachsene schaffen
DESCRIPTION:In vielen ländlichen Ortskernen ist der Gebäudeleerstand allgegenwärtig\, von verlassenen Wirtshäusern bis zu ungenutzten Rathäusern und Schulgebäuden. Auch landwirtschaftliche und kirchliche Gebäude sowie private ortsbildprägende Gebäude bleiben oft ungenutzt. Dieser Leerstand wirkt sich nicht nur auf das Erscheinungsbild aus\, sondern beeinträchtigt auch die Attraktivität und Lebensqualität in unseren Gemeinden. \nGleichzeitig sind junge Menschen auf der Suche nach attraktivem und bezahlbarem Wohnraum im ländlichen Raum oft frustriert. Die mangelnde Verfügbarkeit von geeignetem Wohnraum ist einer der Hauptgründe dafür\, dass viele junge Erwachsene ihre Heimatorte verlassen oder gar nicht erst zurückkehren. Doch das Projekt „JUNGES WOHNEN“ setzt hier an\, um positive Impulse für die gesamte Gemeinde zu schaffen. \nVeranstaltungshighlights: \n\nUmnutzung von Leerständen: Erfahren Sie nachhaltige Effekte der Umnutzung von leerstehenden Gebäuden und entdecken Sie\, wie diese Maßnahmen die Lebensqualität in Gemeinden verbessern.\nWohnbedarfe junger Menschen: Lernen Sie die spezifischen Wohnbedarfe junger Menschen kennen und erfahren Sie\, wie passender Wohnraum für diese Zielgruppe geschaffen werden kann.\nBusexkursion: Nutzen Sie die Gelegenheit\, im Rahmen einer Busexkursion am Nachmittag erfolgreiche Beispiele für wiederbelebte Leerstände in der Region zu besichtigen.\n\nBesonderes Highlight: Minister Peter Hauk\, MdL zu Gast! \nVon 13:30 bis 14:30 Uhr wird Minister Peter Hauk\, MdL\, gemeinsam mit weiteren spannenden Gesprächspartner*innen über die Belebung von Leerständen\, das Zusammenspiel von Kirche und Kommune und die Wohnsituation junger Menschen im ländlichen Raum sprechen. Das Ministerium für Ernährung\, Ländlichen Raum und Verbraucherschutz in Baden-Württemberg unterstützt das Projekt JUNGES WOHNEN mit verschiedenen Förderinstrumenten. \nWeitere Informationen zur Veranstaltung sowie den Link zur Anmeldung finden sie hier. Eine Anmeldung ist bis zum 09.02.24 möglich. Die Teilnahmegebühr beträgt 60 Euro.
URL:https://stage.allianz-fuer-beteiligung.de/afb-veranstaltung/leerstaende-bleiben-wohnraum-fuer-junge-erwachsene-schaffen/
LOCATION:Rainhof Scheune\, Höllentalstraße 96\, Kirchzarten-Burg\, Baden-Württemberg\, 79199\, Deutschland
END:VEVENT
END:VCALENDAR