BEGIN:VCALENDAR
VERSION:2.0
PRODID:-//Allianz für Beteiligung - ECPv6.15.18//NONSGML v1.0//EN
CALSCALE:GREGORIAN
METHOD:PUBLISH
X-WR-CALNAME:Allianz für Beteiligung
X-ORIGINAL-URL:https://stage.allianz-fuer-beteiligung.de
X-WR-CALDESC:Veranstaltungen für Allianz für Beteiligung
REFRESH-INTERVAL;VALUE=DURATION:PT1H
X-Robots-Tag:noindex
X-PUBLISHED-TTL:PT1H
BEGIN:VTIMEZONE
TZID:Europe/Berlin
BEGIN:DAYLIGHT
TZOFFSETFROM:+0100
TZOFFSETTO:+0200
TZNAME:CEST
DTSTART:20210328T010000
END:DAYLIGHT
BEGIN:STANDARD
TZOFFSETFROM:+0200
TZOFFSETTO:+0100
TZNAME:CET
DTSTART:20211031T010000
END:STANDARD
BEGIN:DAYLIGHT
TZOFFSETFROM:+0100
TZOFFSETTO:+0200
TZNAME:CEST
DTSTART:20220327T010000
END:DAYLIGHT
BEGIN:STANDARD
TZOFFSETFROM:+0200
TZOFFSETTO:+0100
TZNAME:CET
DTSTART:20221030T010000
END:STANDARD
BEGIN:DAYLIGHT
TZOFFSETFROM:+0100
TZOFFSETTO:+0200
TZNAME:CEST
DTSTART:20230326T010000
END:DAYLIGHT
BEGIN:STANDARD
TZOFFSETFROM:+0200
TZOFFSETTO:+0100
TZNAME:CET
DTSTART:20231029T010000
END:STANDARD
END:VTIMEZONE
BEGIN:VEVENT
DTSTART;TZID=Europe/Berlin:20220915T090000
DTEND;TZID=Europe/Berlin:20220915T170000
DTSTAMP:20260422T151751
CREATED:20220808T062030Z
LAST-MODIFIED:20221125T101018Z
UID:10000185-1663232400-1663261200@stage.allianz-fuer-beteiligung.de
SUMMARY:Junges Wohnen
DESCRIPTION:zukunftsorientierte Wohnmodelle für junge Erwachsene\n15. September 2022  | Tagung | Kloster Heiligkreuztal | Heiligkreuztal und online \n\nNeuartige und attraktive Wohn- und Lebenskonzepten für junge Menschen tragen zu einer zukunftsweisenden Quartiers- bzw. Ortskernentwicklung bei und leisten gleich auf mehreren Ebenen einen Beitrag zur Nachhaltigkeit. \n\nViele junge Erwachsene würden gerne im ländlichen Raum wohnen bleiben oder wieder zurückkommen\, am liebsten in ihren vertrauten Sozialraum. Mangelnder attraktiver und bezahlbarer Wohnraum ist einer der wesentlichen Gründe\, warum dies oftmals nicht gelingt. Mietwohnraum\, passende Wohnmodelle und kleinere Wohneinheiten fehlen. Gibt es aber entsprechenden Wohnraum für junge Erwachsene oder wird er geschaffen\, entstehen durch JUNGES WOHNEN neue Impulse für den Sozialraum. \nIn der Tagung werden wir mit spannenden Gästen und den Teilnehmenden folgende Leitfragen diskutieren: \n\nWarum sind junge Leute in ländlichen Gemeinden so wichtig?\nWelche Wünsche und welchen Bedarf formulieren junge Leute bezüglich des Wohnens und Lebens in ländlichen Räumen?\nWarum braucht es Wohnraum für junge Erwachsene?\nWie kommt das auch anderen Generationen und der Dorfgemeinschaft zugute?\nWas zeichnet JUNGES WOHNEN aus?\nUmbau vor Neubau: Warum ist das nachhaltig?\nWelche nachhaltigen Betriebs- und Trägerstrukturen sind denkbar?\n\nWeitere Informationen sowie den Link zur Anmeldung finden Sie HIER \n\n 
URL:https://stage.allianz-fuer-beteiligung.de/afb-veranstaltung/junges-wohnen/
LOCATION:Kloster Heiligkreuztal\, Am Münster 11\, Heiligkreuztal\, 88499\, Deutschland
ATTACH;FMTTYPE=image/jpeg:https://stage.allianz-fuer-beteiligung.de/wp-content/uploads/2022/08/15.09.jpg
END:VEVENT
END:VCALENDAR