BEGIN:VCALENDAR
VERSION:2.0
PRODID:-//Allianz für Beteiligung - ECPv6.15.18//NONSGML v1.0//EN
CALSCALE:GREGORIAN
METHOD:PUBLISH
X-WR-CALNAME:Allianz für Beteiligung
X-ORIGINAL-URL:https://stage.allianz-fuer-beteiligung.de
X-WR-CALDESC:Veranstaltungen für Allianz für Beteiligung
REFRESH-INTERVAL;VALUE=DURATION:PT1H
X-Robots-Tag:noindex
X-PUBLISHED-TTL:PT1H
BEGIN:VTIMEZONE
TZID:Europe/Berlin
BEGIN:DAYLIGHT
TZOFFSETFROM:+0100
TZOFFSETTO:+0200
TZNAME:CEST
DTSTART:20210328T010000
END:DAYLIGHT
BEGIN:STANDARD
TZOFFSETFROM:+0200
TZOFFSETTO:+0100
TZNAME:CET
DTSTART:20211031T010000
END:STANDARD
BEGIN:DAYLIGHT
TZOFFSETFROM:+0100
TZOFFSETTO:+0200
TZNAME:CEST
DTSTART:20220327T010000
END:DAYLIGHT
BEGIN:STANDARD
TZOFFSETFROM:+0200
TZOFFSETTO:+0100
TZNAME:CET
DTSTART:20221030T010000
END:STANDARD
BEGIN:DAYLIGHT
TZOFFSETFROM:+0100
TZOFFSETTO:+0200
TZNAME:CEST
DTSTART:20230326T010000
END:DAYLIGHT
BEGIN:STANDARD
TZOFFSETFROM:+0200
TZOFFSETTO:+0100
TZNAME:CET
DTSTART:20231029T010000
END:STANDARD
END:VTIMEZONE
BEGIN:VEVENT
DTSTART;TZID=Europe/Berlin:20221112T100000
DTEND;TZID=Europe/Berlin:20221112T160000
DTSTAMP:20260420T231214
CREATED:20220811T054132Z
LAST-MODIFIED:20220811T093743Z
UID:10000187-1668247200-1668268800@stage.allianz-fuer-beteiligung.de
SUMMARY:Gesellschaftsgestalter*innen: mit Bürgerbeteiligung gemeinsam vor Ort aktiv
DESCRIPTION:Das Seminar bietet einen Überblick über den Stand der Bürgerbeteiligung in Baden-Württemberg. \n\nWelche Erfahrungen und Empfehlungen gibt es auf Landesebene?\nWelche Möglichkeiten der Mitgestaltung gibt es auf kommunaler Ebene?\n\nSie erfahren\, wie Sie mit Bürgerbeteiligung vor Ort gemeinsam aktiv werden können und wo Sie Unterstützung und Ressourcen finden. Anhand von thematischen Inputs\, Diskussionsrunden\, aktiver Kleingruppenarbeit und Berichten aus der Praxis werden die Seminarinhalte gemeinsam erarbeitet. Jobst Kraus vom Bad Boller Dorfladen\, einem bürgerschaftlich initiierten Genossenschaftsladen\, berichtet von Gelungenem aber auch von der Herausforderung ihres gestalterischen Wirkens in Bad Boll. Das Seminar richtet sich an Personen der Zivilgesellschaft\, Politik und Verwaltung. \n\nReferent*innen:\nAndrea Schätzle und Lisa Weis\, Allianz für Beteiligung e.V.\nFabian Reidinger\, Staatsministerium Baden-Württemberg \nSa\, 12. November 2022 | 10.00 – 16.00 Uhr | Online \nAnmeldung\n \nVeranstalter:  \nHeinrich Böll Stiftung Baden-Württemberg in Kooperation mit der Allianz für Beteiligung e.V.
URL:https://stage.allianz-fuer-beteiligung.de/afb-veranstaltung/gesellschaftsgestalterinnen-mit-buergerbeteiligung-gemeinsam-vor-ort-aktiv-sein/
LOCATION:Online
ATTACH;FMTTYPE=image/png:https://stage.allianz-fuer-beteiligung.de/wp-content/uploads/2022/09/Boell.png
END:VEVENT
END:VCALENDAR