BEGIN:VCALENDAR
VERSION:2.0
PRODID:-//Allianz für Beteiligung - ECPv6.15.18//NONSGML v1.0//EN
CALSCALE:GREGORIAN
METHOD:PUBLISH
X-WR-CALNAME:Allianz für Beteiligung
X-ORIGINAL-URL:https://stage.allianz-fuer-beteiligung.de
X-WR-CALDESC:Veranstaltungen für Allianz für Beteiligung
REFRESH-INTERVAL;VALUE=DURATION:PT1H
X-Robots-Tag:noindex
X-PUBLISHED-TTL:PT1H
BEGIN:VTIMEZONE
TZID:Europe/Berlin
BEGIN:DAYLIGHT
TZOFFSETFROM:+0100
TZOFFSETTO:+0200
TZNAME:CEST
DTSTART:20230326T010000
END:DAYLIGHT
BEGIN:STANDARD
TZOFFSETFROM:+0200
TZOFFSETTO:+0100
TZNAME:CET
DTSTART:20231029T010000
END:STANDARD
BEGIN:DAYLIGHT
TZOFFSETFROM:+0100
TZOFFSETTO:+0200
TZNAME:CEST
DTSTART:20240331T010000
END:DAYLIGHT
BEGIN:STANDARD
TZOFFSETFROM:+0200
TZOFFSETTO:+0100
TZNAME:CET
DTSTART:20241027T010000
END:STANDARD
BEGIN:DAYLIGHT
TZOFFSETFROM:+0100
TZOFFSETTO:+0200
TZNAME:CEST
DTSTART:20250330T010000
END:DAYLIGHT
BEGIN:STANDARD
TZOFFSETFROM:+0200
TZOFFSETTO:+0100
TZNAME:CET
DTSTART:20251026T010000
END:STANDARD
END:VTIMEZONE
BEGIN:VEVENT
DTSTART;TZID=Europe/Berlin:20240930T183000
DTEND;TZID=Europe/Berlin:20240930T210000
DTSTAMP:20260423T135450
CREATED:20240924T122332Z
LAST-MODIFIED:20240924T122332Z
UID:10000526-1727721000-1727730000@stage.allianz-fuer-beteiligung.de
SUMMARY:Fair und kein Grad mehr! – Was die Regenwälder am Amazonas mit uns und dem Klima zu tun haben (Veranstaltung mit Dr. Rainer Putz vom Regenwald-Institut e.V.)
DESCRIPTION:Der Fellbacher Weltladen lädt am 30.09.2024 herzlich zu einem Vortrag von Dr. Rainer Putz vom Regenwald-Institut e.V. mit dem Titel „Was die Regenwälder am Amazonas mit uns und dem Klima zu tun haben“ in die Christuskirche in Fellbach ein. Einlass um 18.30 Uhr\, Beginn um 19.00 Uhr. \nDr. Rainer Putz berichtet mit eindrucksvollen Bildern und einem Kurzfilm über seine Arbeit in Amazonien. Er zeigt damit\, wie der Regenwald durch die nachhaltige Bewirtschaftung in Verantwortung der traditionellen Bevölkerung geschützt wird und der Handel mit den Regelwald-Produkten die Existenz der Menschen sichert. \nWeitere Informationen finden Sie unter Fair und kein Grad mehr! – Was die Regenwälder am Amazonas mit uns und dem Klima zu tun haben (Veranstaltung mit Dr. Rainer Putz vom Regenwald-Institut e.V.) – Fellbacher Weltladen
URL:https://stage.allianz-fuer-beteiligung.de/afb-veranstaltung/fair-und-kein-grad-mehr-was-die-regenwaelder-am-amazonas-mit-uns-und-dem-klima-zu-tun-haben-veranstaltung-mit-dr-rainer-putz-vom-regenwald-institut-e-v/
LOCATION:Christuskirche Fellbach\, Gerhart-Hauptmann-Str. 35\, Fellbach\, Baden-Württemberg\, 70734
END:VEVENT
END:VCALENDAR