BEGIN:VCALENDAR
VERSION:2.0
PRODID:-//Allianz für Beteiligung - ECPv6.15.18//NONSGML v1.0//EN
CALSCALE:GREGORIAN
METHOD:PUBLISH
X-ORIGINAL-URL:https://stage.allianz-fuer-beteiligung.de
X-WR-CALDESC:Veranstaltungen für Allianz für Beteiligung
REFRESH-INTERVAL;VALUE=DURATION:PT1H
X-Robots-Tag:noindex
X-PUBLISHED-TTL:PT1H
BEGIN:VTIMEZONE
TZID:Europe/Berlin
BEGIN:DAYLIGHT
TZOFFSETFROM:+0100
TZOFFSETTO:+0200
TZNAME:CEST
DTSTART:20220327T010000
END:DAYLIGHT
BEGIN:STANDARD
TZOFFSETFROM:+0200
TZOFFSETTO:+0100
TZNAME:CET
DTSTART:20221030T010000
END:STANDARD
BEGIN:DAYLIGHT
TZOFFSETFROM:+0100
TZOFFSETTO:+0200
TZNAME:CEST
DTSTART:20230326T010000
END:DAYLIGHT
BEGIN:STANDARD
TZOFFSETFROM:+0200
TZOFFSETTO:+0100
TZNAME:CET
DTSTART:20231029T010000
END:STANDARD
BEGIN:DAYLIGHT
TZOFFSETFROM:+0100
TZOFFSETTO:+0200
TZNAME:CEST
DTSTART:20240331T010000
END:DAYLIGHT
BEGIN:STANDARD
TZOFFSETFROM:+0200
TZOFFSETTO:+0100
TZNAME:CET
DTSTART:20241027T010000
END:STANDARD
BEGIN:DAYLIGHT
TZOFFSETFROM:+0100
TZOFFSETTO:+0200
TZNAME:CEST
DTSTART:20250330T010000
END:DAYLIGHT
BEGIN:STANDARD
TZOFFSETFROM:+0200
TZOFFSETTO:+0100
TZNAME:CET
DTSTART:20251026T010000
END:STANDARD
END:VTIMEZONE
BEGIN:VEVENT
DTSTART;TZID=Europe/Berlin:20241024T100000
DTEND;TZID=Europe/Berlin:20241024T160000
DTSTAMP:20260424T133106
CREATED:20240910T071147Z
LAST-MODIFIED:20240910T073411Z
UID:10000522-1729764000-1729785600@stage.allianz-fuer-beteiligung.de
SUMMARY:WGs brauchen Zukunft. Zukunft braucht WGs!
DESCRIPTION:Vielfältige Entwicklungen in den vergangenen Jahren verstärken den Wunsch der Menschen nach individuellen und innovativen ambulant unterstützten Wohnangeboten. \nSeit 2014 steht die beim KVJS angesiedelte Fachstelle ambulant unterstützte Wohnformen für Service\, Information und Beratung. Die Fachstelle ambulant unterstützte Wohnformen (FaWo) begleitet aktiv den Auf- und Ausbau innovativer Wohnformen für Menschen mit Behinderung und für Menschen mit Pflege- und Unterstützungsbedarf – Zeit für eine Standortbestimmung und einen Blick in die Zukunft: \n» Welche Rolle spielen innovative\, gemeinschaftliche Wohnformen in einer\ngenerationengerechten\, inklusiven Quartiersentwicklung?\n» Wie können sich ambulant betreute Wohngemeinschaften zukunftsfest gestaltet werden?\n» Welche Potenziale ergeben sich für die Bewohnerinnen und Bewohner? \nAuf dem Fachtag beleuchten Expertinnen und Experten die Fortschritte des letzten Jahrzehnts und eröffnen Perspektiven für künftige WGs. Treten Sie mit anderen Teilnehmenden in Austausch und bringen Sie Ihre Erfahrungen und Ideen mit ein! \nDer gemeinsam mit dem Ministerium für Soziales\, Gesundheit und Integration Baden-Württemberg veranstaltete Fachtag richtet sich insbesondere an Vertreter von Kommunen\, Initiativen und Trägern sowie an alle Interessierte. \nVeranstaltet wird die Fachtagung vom Ministerium für Soziales\, Gesundheit und Integration und der Fachstelle ambulant unterstützte Wohnformen (FaWo). \nDie Teilnahme an der Veranstaltung ist kostenfrei. \nWeitere Informationen finden Sie unter Fachtagung 24. Oktober 2024 – Fawo-BW \nDie Anmeldung finden Sie hier Detail: KVJS
URL:https://stage.allianz-fuer-beteiligung.de/afb-veranstaltung/wgs-brauchen-zukunft-zukunft-braucht-wgs/
LOCATION:Hospitalhof Stuttgart\, Paul Lechler Saal\, Büchsenstraße 33\, Stuttgart\, Baden-Württemberg\, 70174\, Deutschland
ORGANIZER;CN="FaWo BW":MAILTO:info@fawo-bw.de
END:VEVENT
BEGIN:VEVENT
DTSTART;TZID=Europe/Berlin:20240305T100000
DTEND;TZID=Europe/Berlin:20240305T160000
DTSTAMP:20260424T133106
CREATED:20240213T132117Z
LAST-MODIFIED:20240213T132117Z
UID:10000400-1709632800-1709654400@stage.allianz-fuer-beteiligung.de
SUMMARY:Fachtagung: Vielfalt ist normal! Ambulant betreute Wohngemeinschaften für Menschen mit Behinderungen
DESCRIPTION:Menschen mit Behinderungen haben das Recht\, ihren Aufenthaltsort frei zu wählen und zu entscheiden\, wo und mit wem sie leben möchten. Wie können wir sicherstellen\, dass dieses Recht in die Realität umgesetzt wird und Wahlmöglichkeiten im Quartier entstehen? \nDie steigende Nachfrage nach ambulant unterstützten Wohnangeboten erstreckt sich mittlerweile auch auf Menschen mit hohem Assistenzbedarf. Es werden innovative Wohnformen erprobt\, darunter auch ambulant betreute Wohngemeinschaften gemäß dem Wohn-\, Teilhabe- und Pflegegesetz (WTPG). Diese Gemeinschaften tragen dazu bei\, dass Teilhabe „mittendrin im Quartier“ sowohl gemeinschaftlich als auch selbstbestimmt gelingen kann. \nDie bevorstehende Fachtagung widmet sich speziell diesen ambulant betreuten Wohngemeinschaften und setzt sich mit den rechtlichen und organisatorischen Fragen ihrer Umsetzung auseinander. Expertinnen und Experten werden die aktuellen Entwicklungen beleuchten\, einen Überblick über Rahmenbedingungen und Anforderungen geben sowie erfolgreiche Konzepte vorstellen. Dabei werden auch Erfolgsfaktoren und mögliche Herausforderungen erörtert. \nDie Fachtagung\, veranstaltet vom Ministerium für Soziales\, Gesundheit und Integration in Zusammenarbeit mit der Fachstelle ambulant unterstützte Wohnformen (FaWo)\, bietet darüber hinaus Raum und Gelegenheit für Vernetzung und Austausch. \nWeitere Informationen zum Programmablauf finden Sie hier. Eine Anmeldung können Sie hier vornehmen. \nDie Teilnahme an der Veranstaltung ist kostenfrei!
URL:https://stage.allianz-fuer-beteiligung.de/afb-veranstaltung/fachtagung-vielfalt-ist-normal-ambulant-betreute-wohngemeinschaften-fuer-menschen-mit-behinderungen/
LOCATION:Landesmuseum Württemberg Altes Schloss\, Schillerplatz 6\, Stuttgart\, Baden-Württemberg\, 70173\, Deutschland
ORGANIZER;CN="FaWo BW":MAILTO:info@fawo-bw.de
END:VEVENT
BEGIN:VEVENT
DTSTART;TZID=Europe/Berlin:20231107T000000
DTEND;TZID=Europe/Berlin:20231107T235959
DTSTAMP:20260424T133106
CREATED:20230929T093629Z
LAST-MODIFIED:20231017T083358Z
UID:10000339-1699315200-1699401599@stage.allianz-fuer-beteiligung.de
SUMMARY:Fachtagung: Für Menschen im Alter – Quartiersentwicklung und Pflege-Wohngemeinschaften im ländlichen Raum
DESCRIPTION:Unsere Gesellschaft altert\, der demographische Wandel ist in vollem Gange. Was kommt auf die Kommunen und den ländlichen Raum zu? Wie können ländliche Regionen die Infrastruktur an die Bedarfe des wachsenden Anteils älterer Personen anpassen? Welche Strategien gibt es hierzu bereits? \nSelbstbestimmt und in größtmöglicher Selbständigkeit in der vertrauten Umgebung alt werden und am Leben in der Gemeinde aktiv teilhaben zu können entspricht den Wünschen vieler Menschen auch bei zunehmender Pflegebedürftigkeit. Eine altersgerechte Quartiersentwicklung und wohnortnah bestehende Pflegewohngemeinschaften können dazu beitragen. Weitere Informationen zum Fachtag finden Sie hier. \nExpertinnen und Experten aus Wissenschaft und Praxis zeigen die Potenziale der altersgerechten Gestaltung der Infrastruktur vor Ort und der Entwicklung von Pflege-Wohngemeinschaften im ländlichen Raum auf und stellen Projekte vor. \nDie vom Ministerium für Soziales\, Gesundheit und Integration Baden-Württemberg und der FaWo veranstalteten Fachtagung bietet zudem Raum und Gelegenheit zum Austausch. \nWeitere Informationen zum Fachtag unter folgendem Link: Anmeldung Fachtagung 7. November 2023 – 23-2-FaWo1-1 \nDie Teilnahme an der Veranstaltung ist kostenfrei.
URL:https://stage.allianz-fuer-beteiligung.de/afb-veranstaltung/fachtagung-fuer-menschen-im-alter-quartiersentwicklung-und-pflege-wohngemeinschaften-im-laendlichen-raum/
LOCATION:Evangelisches Bildungszentrum Hospitalhof Stuttgart\, Büchsenstraße 33\, Stuttgart\, 70174\, Deutschland
END:VEVENT
END:VCALENDAR