BEGIN:VCALENDAR
VERSION:2.0
PRODID:-//Allianz für Beteiligung - ECPv6.15.18//NONSGML v1.0//EN
CALSCALE:GREGORIAN
METHOD:PUBLISH
X-ORIGINAL-URL:https://stage.allianz-fuer-beteiligung.de
X-WR-CALDESC:Veranstaltungen für Allianz für Beteiligung
REFRESH-INTERVAL;VALUE=DURATION:PT1H
X-Robots-Tag:noindex
X-PUBLISHED-TTL:PT1H
BEGIN:VTIMEZONE
TZID:Europe/Berlin
BEGIN:DAYLIGHT
TZOFFSETFROM:+0100
TZOFFSETTO:+0200
TZNAME:CEST
DTSTART:20220327T010000
END:DAYLIGHT
BEGIN:STANDARD
TZOFFSETFROM:+0200
TZOFFSETTO:+0100
TZNAME:CET
DTSTART:20221030T010000
END:STANDARD
BEGIN:DAYLIGHT
TZOFFSETFROM:+0100
TZOFFSETTO:+0200
TZNAME:CEST
DTSTART:20230326T010000
END:DAYLIGHT
BEGIN:STANDARD
TZOFFSETFROM:+0200
TZOFFSETTO:+0100
TZNAME:CET
DTSTART:20231029T010000
END:STANDARD
BEGIN:DAYLIGHT
TZOFFSETFROM:+0100
TZOFFSETTO:+0200
TZNAME:CEST
DTSTART:20240331T010000
END:DAYLIGHT
BEGIN:STANDARD
TZOFFSETFROM:+0200
TZOFFSETTO:+0100
TZNAME:CET
DTSTART:20241027T010000
END:STANDARD
BEGIN:DAYLIGHT
TZOFFSETFROM:+0100
TZOFFSETTO:+0200
TZNAME:CEST
DTSTART:20250330T010000
END:DAYLIGHT
BEGIN:STANDARD
TZOFFSETFROM:+0200
TZOFFSETTO:+0100
TZNAME:CET
DTSTART:20251026T010000
END:STANDARD
END:VTIMEZONE
BEGIN:VEVENT
DTSTART;TZID=Europe/Berlin:20240617T093000
DTEND;TZID=Europe/Berlin:20240617T150000
DTSTAMP:20260422T115245
CREATED:20240514T072710Z
LAST-MODIFIED:20240514T072710Z
UID:10000474-1718616600-1718636400@stage.allianz-fuer-beteiligung.de
SUMMARY:Quartiersentwicklung vor Ort gestalten - genossenschaftlich zusammen wachsen
DESCRIPTION:Das Format „Barcamp“ bietet die Gelegenheit\, in einen\nunmittelbaren Austausch mit zivilgesellschaftlichen\nAkteur*innen\, Vertreter*innen aus Kommunen\,\nExpert*innen und Interessierten zu treten\, spannende\nEinblicke zu erhalten\, sich auszutauschen und zu\nvernetzen. \nDie Teilnahme ist kostenfrei\, anmelden können Sie sich unter Anmeldung zum Barcamp Quartier – BWGV (wir-leben-genossenschaft.de) \nSchwerpunktthemen sind unter anderem Beispiele aus der Praxis\, Gründung einer Genossenschaft\, Barrierefreiheit\, Integration u.v.m.
URL:https://stage.allianz-fuer-beteiligung.de/afb-veranstaltung/quartiersentwicklung-vor-ort-gestalten-genossenschaftlich-zusammen-wachsen/
LOCATION:Geno-Haus Stuttgart\, Heilbronner Str. 41\, Stuttgart\, 70191\, Deutschland
ORGANIZER;CN="BWGV":MAILTO:quartiersentwicklung@bwgv-info.de
END:VEVENT
BEGIN:VEVENT
DTSTART;TZID=Europe/Berlin:20240424T140000
DTEND;TZID=Europe/Berlin:20240424T153000
DTSTAMP:20260422T115245
CREATED:20240410T134522Z
LAST-MODIFIED:20240410T134522Z
UID:10000447-1713967200-1713972600@stage.allianz-fuer-beteiligung.de
SUMMARY:Online-Seminar "Veränderungsprozesse partizipativ gestalten"
DESCRIPTION:Der Referent Dr. Thomas Pfohl von Taten.Drang gibt Ihnen einen Einblick\, wie Sie Veränderungsprozesse in Ihrer Initiative oder in Ihrem Projekt partizipativ gestalten können.​ \nSchwerpunkte der Veranstaltung sind: \nVeränderungsdynamiken verstehen \nPartizipative Formate im Überblick \nVertiefung zu einer konkreten Methode \nDie Anmeldung finden Sie hier: \nhttps://www.wir-leben-genossenschaft.de/de/Online-Seminar-Veraenderungsprozesse-15805.aspx
URL:https://stage.allianz-fuer-beteiligung.de/afb-veranstaltung/online-seminar-veraenderungsprozesse-partizipativ-gestalten/
LOCATION:Online
ORGANIZER;CN="BWGV":MAILTO:quartiersentwicklung@bwgv-info.de
END:VEVENT
BEGIN:VEVENT
DTSTART;TZID=Europe/Berlin:20240227T100000
DTEND;TZID=Europe/Berlin:20240227T150000
DTSTAMP:20260422T115245
CREATED:20240108T104154Z
LAST-MODIFIED:20240108T104154Z
UID:10000375-1709028000-1709046000@stage.allianz-fuer-beteiligung.de
SUMMARY:Barcamp Quartier "Quartiersentwicklung vor Ort gestalten - genossenschaftlich zusammen wachsen"
DESCRIPTION:Das Format „Barcamp“ bietet die Gelegenheit\, in einen\nunmittelbaren Austausch mit zivilgesellschaftlichen\nAkteur:innen\, Vertreter:innen aus Kommunen\,\nExpert:innen und Interessierten zu treten\, spannende\nEinblicke zu erhalten\, sich auszutauschen und zu\nvernetzen. Austausch\, Vernetzung und Information stehen auch bei diesem Barcamp im Fokus. Eingeladen sind Vertreterinnen und Vertreter aus Kommunen\, der Zivilgesellschaft und ehrenamtlich Engagierte mit und ohne Vorkenntnisse. \nDie Teilnahme ist kostenfrei und unter folgendem Link können Sie sich anmelden.\nerforderlich. Angeboten werden Sessions zu Themen wie Demenz im Quartier\, Bürgerselbsthilfe und Nachbarschaftshilfe (Bürger für Bürger eG)\, Quartiersakademie\, Kickstart Klima\, Förderprogramme\, Genossenschaft im Sport\, Praxisbeispiele und andere.
URL:https://stage.allianz-fuer-beteiligung.de/afb-veranstaltung/barcamp-quartier-quartiersentwicklung-vor-ort-gestalten-genossenschaftlich-zusammen-wachsen/
LOCATION:Geno-Haus Stuttgart\, Heilbronner Str. 41\, Stuttgart\, 70191\, Deutschland
ORGANIZER;CN="BWGV":MAILTO:quartiersentwicklung@bwgv-info.de
END:VEVENT
BEGIN:VEVENT
DTSTART;TZID=Europe/Berlin:20230721T130000
DTEND;TZID=Europe/Berlin:20230721T173000
DTSTAMP:20260422T115245
CREATED:20230628T101309Z
LAST-MODIFIED:20230628T101309Z
UID:10000305-1689944400-1689960600@stage.allianz-fuer-beteiligung.de
SUMMARY:Treffen des "Landesnetzwerk der Ehrenamtlichen Energieinitiativen" LEE
DESCRIPTION:Mit großem Engagement treiben überwiegend Ehrenamtliche die bürgergetragene Energiewende voran. Das Landesnetzwerktreffen unterstützt seit der Gründung im Jahr 2009 mit regelmäßigen Treffen. Diesmal findet vor dem „offiziellen“ Start (Ankommen ab 15:00 Uhr) ein interaktiver Workshop zur Unterstützung der Initiativen statt. \nDas Vernetzungstreffen bietet den im Energiebereich engagierten Initiativen in Baden-Württemberg in bewährter Form Informationsmöglichkeiten sowie Austausch. Schwerpunktthema des Treffens sind verschiedene Formen der Beteiligung von engagierten Bürgerinnen und Bürgern für die Energiewende vor Ort in Kommunen. \nTeilnehmen kann jeder/jede\, den/die das Thema anspricht. \nAnmeldungen erfolgen per E-Mail bis spätestens Mittwoch\, 19. Juli 2023 an das Nachhaltigkeitsbüro der LUBW: birgit.bastian@lubw.bwl.de
URL:https://stage.allianz-fuer-beteiligung.de/afb-veranstaltung/treffen-des-landesnetzwerk-der-ehrenamtlichen-energieinitiativen-lee/
LOCATION:Solar Energie Zentrum Stuttgart (SEZ)\, Krefelder Straße 12\, Stuttgart\, Baden-Württemberg\, 70376\, Deutschland
ORGANIZER;CN="Nachhaltigkeitsb%C3%BCro der LUBW":MAILTO:nachhaltigkeitsbuero@lubw.bwl.de
END:VEVENT
BEGIN:VEVENT
DTSTART;TZID=Europe/Berlin:20230614T140000
DTEND;TZID=Europe/Berlin:20230614T153000
DTSTAMP:20260422T115245
CREATED:20230512T133308Z
LAST-MODIFIED:20230512T133308Z
UID:10000281-1686751200-1686756600@stage.allianz-fuer-beteiligung.de
SUMMARY:Sozialgenossenschaften im Quartier
DESCRIPTION:Um Quartiere über das Wohnen hinaus attraktiv und lebenswert zu gestalten eignet sich die Rechts- und Unternehmensform der eingetragenen Genossenschaft (eG) besonders gut. Wir wollen Ihnen und mit Dr. Annika Reifschneider (BWGV) anhand der Vorstellung unserer Quartiersgenossenschaften zeigen\, was für Möglichkeiten es in der Quartiersentwicklung gibt und die Grundlagen des Genossenschaftswesens aufzeigen. Das Seminar richtet sich an alle Quartiersinteressierten aus Zivilgesellschaft\, Kommunen\, Politik\, Wirtschaft und sonstige Engagierte. Das Seminar findet am 14.06.2023 um 14 Uhr online über MS Teams statt. Die Teilnahme ist kostenlos\, eine Anmeldung unter quartiersentwicklung@bwgv-info.de erforderlich.
URL:https://stage.allianz-fuer-beteiligung.de/afb-veranstaltung/sozialgenossenschaften-im-quartier/
LOCATION:Online
ORGANIZER;CN="BWGV":MAILTO:quartiersentwicklung@bwgv-info.de
END:VEVENT
BEGIN:VEVENT
DTSTART;TZID=Europe/Berlin:20230516T140000
DTEND;TZID=Europe/Berlin:20230516T150000
DTSTAMP:20260422T115245
CREATED:20230512T133046Z
LAST-MODIFIED:20230512T133046Z
UID:10000280-1684245600-1684249200@stage.allianz-fuer-beteiligung.de
SUMMARY:Gründung einer Genossenschaft
DESCRIPTION:Die Rechts- und Unternehmensform einer Genossenschaft bietet viele Vorteile für Ihr Projekt. Dabei können die Ziele der Genossenschaft ganz unterschiedlicher Art sein: wirtschaftlich\, sozial\, kulturell. In diesem Online-Seminar mit Dr. Michael Roth (BWGV) erfahren Sie alles rund um das Thema „Gründung einer Genossenschaft“\, z.B. Geschäftsmodell und Wirtschaftlichkeit\, Satzungsgestaltung und Gremienarbeit\, Gründungsversammlung\, Dokumente zur Eintragung einer Genossenschaft und das Qualifizieren der Gremienmitglieder der jungen Genossenschaft. Dr. Michael Roth ist ausgewiesener Genossenschaftsexperte beim BWGV und bietet Beratungen an. Die Teilnahme ist kostenlos\, eine Anmeldung unter quartiersentwicklung@bwgv-info.de erforderlich.
URL:https://stage.allianz-fuer-beteiligung.de/afb-veranstaltung/gruendung-einer-genossenschaft/
LOCATION:Online
ORGANIZER;CN="BWGV":MAILTO:quartiersentwicklung@bwgv-info.de
END:VEVENT
END:VCALENDAR