BEGIN:VCALENDAR
VERSION:2.0
PRODID:-//Allianz für Beteiligung - ECPv6.15.18//NONSGML v1.0//EN
CALSCALE:GREGORIAN
METHOD:PUBLISH
X-ORIGINAL-URL:https://stage.allianz-fuer-beteiligung.de
X-WR-CALDESC:Veranstaltungen für Allianz für Beteiligung
REFRESH-INTERVAL;VALUE=DURATION:PT1H
X-Robots-Tag:noindex
X-PUBLISHED-TTL:PT1H
BEGIN:VTIMEZONE
TZID:Europe/Berlin
BEGIN:DAYLIGHT
TZOFFSETFROM:+0100
TZOFFSETTO:+0200
TZNAME:CEST
DTSTART:20220327T010000
END:DAYLIGHT
BEGIN:STANDARD
TZOFFSETFROM:+0200
TZOFFSETTO:+0100
TZNAME:CET
DTSTART:20221030T010000
END:STANDARD
BEGIN:DAYLIGHT
TZOFFSETFROM:+0100
TZOFFSETTO:+0200
TZNAME:CEST
DTSTART:20230326T010000
END:DAYLIGHT
BEGIN:STANDARD
TZOFFSETFROM:+0200
TZOFFSETTO:+0100
TZNAME:CET
DTSTART:20231029T010000
END:STANDARD
BEGIN:DAYLIGHT
TZOFFSETFROM:+0100
TZOFFSETTO:+0200
TZNAME:CEST
DTSTART:20240331T010000
END:DAYLIGHT
BEGIN:STANDARD
TZOFFSETFROM:+0200
TZOFFSETTO:+0100
TZNAME:CET
DTSTART:20241027T010000
END:STANDARD
BEGIN:DAYLIGHT
TZOFFSETFROM:+0100
TZOFFSETTO:+0200
TZNAME:CEST
DTSTART:20250330T010000
END:DAYLIGHT
BEGIN:STANDARD
TZOFFSETFROM:+0200
TZOFFSETTO:+0100
TZNAME:CET
DTSTART:20251026T010000
END:STANDARD
END:VTIMEZONE
BEGIN:VEVENT
DTSTART;TZID=Europe/Berlin:20240123T153000
DTEND;TZID=Europe/Berlin:20240123T170000
DTSTAMP:20260422T133353
CREATED:20240116T065421Z
LAST-MODIFIED:20240116T065421Z
UID:10000377-1706023800-1706029200@stage.allianz-fuer-beteiligung.de
SUMMARY:Lebensmittel retten - ja\, aber sicher: Das gilt es zu beachten bei der Weitergabe von Lebensmitteln
DESCRIPTION:Das Ministerium für Ernährung\, Ländlichen Raum und Verbraucherschutz Baden-Württemberg\, in Zusammenarbeit mit dem Landesamt für Geoinformation und Landentwicklung (LGL) Baden-Württemberg und der Akademie Ländlicher Raum\, bietet Informationsveranstaltungen zur Lebensmittelhygiene und -sicherheit an. Die Schulungen richten sich an Lebensmittelretterinnen und Lebensmittelretter\, die aussortierte\, aber noch genießbare Lebensmittel vor der Verschwendung bewahren wollen. Die Herausforderung besteht darin\, sicherzustellen\, dass weitergegebene Lebensmittel keine Gesundheitsgefahr darstellen. Die Veranstaltungen vermitteln rechtliche Hintergründe\, Vorschriften und praktische Tipps\, um eine sichere Weitergabe von Lebensmitteln zu gewährleisten. \nZielgruppe: Vertreter*innen folgender Institutionen und Bereiche: Vereine\, gemeinnützige Organisationen\, Kirchen\, Gastronomie\, Kantinen\, Einzelhandel sowie Privatpersonen und alle Interessierte \n\n\n\n\n\n\n\n\n\n\n\n\nProgrammablauf:  \n15:30 – Begrüßung und Moderation\nAriane Kleiner\, Landesamt für Geoinformation und Landentwicklung Baden-Württemberg \n15:30 – Einführung in das Thema\nJessica Schmidt und Martina Bauer\, Ministerium für Ernährung\, Ländlichen Raum und Verbraucherschutz Baden-Württemberg \n15:45 – Lebensmittelhygiene und -sicherheit: Was ist bei der Verteilung zu beachten?\nAriane Kleiner\, Landesamt für Geoinformation und Landentwicklung Baden-Württemberg \n16:00 – Aus der Praxis für die Praxis: Verteilung der Lebensmittel im Alltag\nDr. Alexandra Pantchev\, Landeshauptstadt Stuttgart\, Amt für öffentliche Ordnung \n16:30 – Diskussion \n17:00 – Veranstaltungsende \nWeitere Informationen zur Veranstaltung können Sie unter folgendem Link entnehmen. Um zur Online-Anmeldung zu gelangen\, klicken Sie hier. Alternativ können Sie sich auch über folgende Mail für die Veranstaltung anmelden: alr.@lel.bwl.de \nAnmeldeschluss ist drei Tage vor Beginn der Veranstaltung. Die Teilnahme ist für Sie kostenfrei.
URL:https://stage.allianz-fuer-beteiligung.de/afb-veranstaltung/lebensmittel-retten-ja-aber-sicher-das-gilt-es-zu-beachten-bei-der-weitergabe-von-lebensmitteln/
LOCATION:Online
ORGANIZER;CN="Akademie L%C3%A4ndlicher Raum bei der Landesanstalt f%C3%BCr Landwirtschaft%2C Ern%C3%A4hrung und L%C3%A4ndlichen Raum":MAILTO:alr@lel.bwl.de
END:VEVENT
BEGIN:VEVENT
DTSTART;TZID=Europe/Berlin:20231006T093000
DTEND;TZID=Europe/Berlin:20231006T130000
DTSTAMP:20260422T133353
CREATED:20230913T081115Z
LAST-MODIFIED:20230913T081115Z
UID:10000324-1696584600-1696597200@stage.allianz-fuer-beteiligung.de
SUMMARY:Ländliche Mobilitätskonzepte: engagiert erfolgreich entwickeln (Mobilitäts-Offensive für ländliche Räume)
DESCRIPTION:Bürgerbusse und andere ehrenamtlich organisierte Systeme können die Erreichbarkeit vor allem in den ländlichen Räumen Baden-Württembergs weiter verbessern und das Bus- und Bahnangebot kleinräumig ergänzen. Sie leisten zugleich einen wichtigen Beitrag zum Erhalt der örtlichen Identität und zur sozialen Gemeinschaft. \nDas Seminar schließt an die bewährten Veranstaltungen der Vorjahre an und richtet sich an alle\, die sich mit ehrenamtlich getragenen „Gemeinschaftsverkehren“ beschäftigen und besonders an jene\, die Fragen zum Aufbau eines solchen Angebots haben. \nMobilitäts-Offensive für ländliche Räume \nIn unserer Reihe „Mobilitäts-Offensive für ländliche Räume“ wollen wir gemeinsam mit Ihnen und den Expertinnen und Experten spezifische Mobilitätskonzepte\, Initiativen für eine bessere Mitfahrkultur sowie On-Demand-Verkehre und vieles mehr diskutieren. Die Termine begleiten sowohl die Aktivitäten des Kabinettsausschusses Ländlicher Raum im Bereich Mobilität als auch das Programm des Zukunftsnetzwerks ÖPNV. \nIn insgesamt drei Veranstaltungen bieten wir Ihnen zahlreiche gute Beispiele\, Impulse aus der Praxis und ein Forum für einen intensiven Erfahrungsaustausch.\nHierzu laden wir Sie gemeinsam mit dem Kabinettsausschuss Ländlicher Raum und dem Zukunftsnetzwerk ÖPNV recht herzlich ein. \nZum Programm\, zu weiteren Informationen und zur Anmeldung gelangen Sie hier.
URL:https://stage.allianz-fuer-beteiligung.de/afb-veranstaltung/laendliche-mobilitaetskonzepte-engagiert-erfolgreich-entwickeln-mobilitaets-offensive-fuer-laendliche-raeume/
LOCATION:Online
ORGANIZER;CN="Akademie L%C3%A4ndlicher Raum bei der Landesanstalt f%C3%BCr Landwirtschaft%2C Ern%C3%A4hrung und L%C3%A4ndlichen Raum":MAILTO:alr@lel.bwl.de
END:VEVENT
END:VCALENDAR