BEGIN:VCALENDAR
VERSION:2.0
PRODID:-//Allianz für Beteiligung - ECPv6.15.18//NONSGML v1.0//EN
CALSCALE:GREGORIAN
METHOD:PUBLISH
X-WR-CALNAME:Allianz für Beteiligung
X-ORIGINAL-URL:https://stage.allianz-fuer-beteiligung.de
X-WR-CALDESC:Veranstaltungen für Allianz für Beteiligung
REFRESH-INTERVAL;VALUE=DURATION:PT1H
X-Robots-Tag:noindex
X-PUBLISHED-TTL:PT1H
BEGIN:VTIMEZONE
TZID:Europe/Berlin
BEGIN:DAYLIGHT
TZOFFSETFROM:+0100
TZOFFSETTO:+0200
TZNAME:CEST
DTSTART:20220327T010000
END:DAYLIGHT
BEGIN:STANDARD
TZOFFSETFROM:+0200
TZOFFSETTO:+0100
TZNAME:CET
DTSTART:20221030T010000
END:STANDARD
BEGIN:DAYLIGHT
TZOFFSETFROM:+0100
TZOFFSETTO:+0200
TZNAME:CEST
DTSTART:20230326T010000
END:DAYLIGHT
BEGIN:STANDARD
TZOFFSETFROM:+0200
TZOFFSETTO:+0100
TZNAME:CET
DTSTART:20231029T010000
END:STANDARD
BEGIN:DAYLIGHT
TZOFFSETFROM:+0100
TZOFFSETTO:+0200
TZNAME:CEST
DTSTART:20240331T010000
END:DAYLIGHT
BEGIN:STANDARD
TZOFFSETFROM:+0200
TZOFFSETTO:+0100
TZNAME:CET
DTSTART:20241027T010000
END:STANDARD
END:VTIMEZONE
BEGIN:VEVENT
DTSTART;TZID=Europe/Berlin:20230711T093000
DTEND;TZID=Europe/Berlin:20230712T170000
DTSTAMP:20260424T133338
CREATED:20230531T140349Z
LAST-MODIFIED:20230531T140349Z
UID:10000297-1689067800-1689181200@stage.allianz-fuer-beteiligung.de
SUMMARY:Mehr als Abstimmen! - Aktivierende Methoden\, die beteiligen
DESCRIPTION:Methodenwissen\, Methodenschatz\, Methodenkompetenz? Wie kommen wir vom einen zum anderen? Ganz klar: durch anspielen\, diskutieren und schlussendlich reflektieren. An zwei aufeinanderfolgenden Tagen werden Beteiligungsmethoden zu unterschiedlichen Schwerpunkten vorgestellt und bearbeitet. \nBeide Tage sind einzeln unabhängig voneinander buchbar\, oder als Komplettpaket. Im Oktober gibt es für alle Teilnehmende eine Online-Reflexion. Einem theoretischen Input folgt jeweils eine Phase des Ausprobierens und Reflektierens. Durchgeführt wird die Fortbildung von der Servicestelle Kinder- und Jugendbeteiligung BW in Kooperation mit der Akademie der Jugendarbeit BW. \nNähere Informationen zur Veranstaltung und Teilnahme unter folgendem Link: Veranstaltungsübersicht – Mehr als Abstimmen! (jugendakademie-bw.de)
URL:https://stage.allianz-fuer-beteiligung.de/afb-veranstaltung/mehr-als-abstimmen-aktivierende-methoden-die-beteiligen/
LOCATION:Katholisches Jugend- und Tagungshaus Wernau\, Antoniusstraße 3\, Wernau (Neckar)\, Baden-Württemberg\, 73249\, Deutschland
ORGANIZER;CN="Akademie der Jugendarbeit Baden-W%C3%BCrttemberg":MAILTO:info@jugendakademie-bw.de
END:VEVENT
END:VCALENDAR