BEGIN:VCALENDAR
VERSION:2.0
PRODID:-//Allianz für Beteiligung - ECPv6.15.18//NONSGML v1.0//EN
CALSCALE:GREGORIAN
METHOD:PUBLISH
X-WR-CALNAME:Allianz für Beteiligung
X-ORIGINAL-URL:https://stage.allianz-fuer-beteiligung.de
X-WR-CALDESC:Veranstaltungen für Allianz für Beteiligung
REFRESH-INTERVAL;VALUE=DURATION:PT1H
X-Robots-Tag:noindex
X-PUBLISHED-TTL:PT1H
BEGIN:VTIMEZONE
TZID:Europe/Berlin
BEGIN:DAYLIGHT
TZOFFSETFROM:+0100
TZOFFSETTO:+0200
TZNAME:CEST
DTSTART:20220327T010000
END:DAYLIGHT
BEGIN:STANDARD
TZOFFSETFROM:+0200
TZOFFSETTO:+0100
TZNAME:CET
DTSTART:20221030T010000
END:STANDARD
BEGIN:DAYLIGHT
TZOFFSETFROM:+0100
TZOFFSETTO:+0200
TZNAME:CEST
DTSTART:20230326T010000
END:DAYLIGHT
BEGIN:STANDARD
TZOFFSETFROM:+0200
TZOFFSETTO:+0100
TZNAME:CET
DTSTART:20231029T010000
END:STANDARD
BEGIN:DAYLIGHT
TZOFFSETFROM:+0100
TZOFFSETTO:+0200
TZNAME:CEST
DTSTART:20240331T010000
END:DAYLIGHT
BEGIN:STANDARD
TZOFFSETFROM:+0200
TZOFFSETTO:+0100
TZNAME:CET
DTSTART:20241027T010000
END:STANDARD
END:VTIMEZONE
BEGIN:VEVENT
DTSTART;TZID=Europe/Berlin:20231108T000000
DTEND;TZID=Europe/Berlin:20231110T235959
DTSTAMP:20260422T164537
CREATED:20230531T140033Z
LAST-MODIFIED:20231017T083115Z
UID:10000296-1699401600-1699660799@stage.allianz-fuer-beteiligung.de
SUMMARY:Weiterbildung "Bewegt was" Moderator*in für Kinder- und Jugendbeteiligungsprozesse 2023"
DESCRIPTION:Weiterbildung für alle\, die Projekte und Prozesse für Kinder- und Jugendbeteiligung in Baden-Württemberg gestalten und voranbringen möchten. \nDie Weiterbildung der Servicestelle Kinder- und Jugendbeteiligung BW findet in Kooperation mit der Akademie der Jugendarbeit BW und dem Deutschen Kinderhilfswerk statt. Sie ist durch die Zertifizierung des Deutschen Kinderhilfswerks bundesweit anerkannt und besteht aus 5 Pflichtmodulen\, 2 Wahlpflichtmodulen und einem Praxisprojekt. Nähere Informationen zur Weiterbildung und Anmeldung finden Sie hier. \nZielgruppen: \n\nFachkräfte öffentlicher und freier Träger der Jugendhilfe\nFachkräfte der Jugendsozialarbeit\, der Offenen und verbandlichen Jugendarbeit\nKommunale Jugendreferent*innen\nFachkräfte aus dem schulischen und außerschulischen Bereich\, z. B.: Kindertageseinrichtungen\, Stadt-\, Regional-\, Landschaftsplaner*innen\, Museums- und Theaterpädagog*innen\nMitarbeitende aus Politik und Verwaltung\n\nEine anteilige Förderung der Teilnahmekosten durch die Quartiersakademie BW und das Zentrum für Kulturelle Teilhabe BW ist möglich. \nBewerbungsschluss für den kommenden Jahrgang ist der 01.10.2023! \nNähere Informationen zur Weiterbildung und Anmeldung unter folgendem Link: Fortbildung „Bewegt was!“ (jugendakademie-bw.de).
URL:https://stage.allianz-fuer-beteiligung.de/afb-veranstaltung/weiterbildung-bewegt-was-moderatorin-fuer-kinder-und-jugendbeteiligungsprozesse-2023/
LOCATION:Unterschiedliche Tagungshäuser in Baden-Württemberg\, Deutschland
ORGANIZER;CN="Akademie der Jugendarbeit Baden-W%C3%BCrttemberg":MAILTO:info@jugendakademie-bw.de
END:VEVENT
END:VCALENDAR